BEGIN:VCALENDAR
VERSION:2.0
PRODID:-//The Spinney at Pond View - ECPv6.15.20//NONSGML v1.0//EN
CALSCALE:GREGORIAN
METHOD:PUBLISH
X-WR-CALNAME:The Spinney at Pond View
X-ORIGINAL-URL:https://www.thespinneyatpondview.com
X-WR-CALDESC:Events for The Spinney at Pond View
REFRESH-INTERVAL;VALUE=DURATION:PT1H
X-Robots-Tag:noindex
X-PUBLISHED-TTL:PT1H
BEGIN:VTIMEZONE
TZID:UTC
BEGIN:STANDARD
TZOFFSETFROM:+0000
TZOFFSETTO:+0000
TZNAME:UTC
DTSTART:20230101T000000
END:STANDARD
END:VTIMEZONE
BEGIN:VEVENT
DTSTART;TZID=UTC:20240405T121500
DTEND;TZID=UTC:20240405T130000
DTSTAMP:20260422T161200
CREATED:20240402T191717Z
LAST-MODIFIED:20240402T191717Z
UID:10009681-1712319300-1712322000@www.thespinneyatpondview.com
SUMMARY:Spinney Strength
DESCRIPTION:Due to resident interest\, we have added a second strength training class for residents!  The loss of muscle mass as we age can impact our health.  Join us as we head into the weekend\, for a strength training class for all levels and abilities.  Aerobic and strength exercises (standing or in a chair) will be taught by a certified instructor.  $5 per person.
URL:https://www.thespinneyatpondview.com/event/spinney-strength-4/2024-04-05/
LOCATION:The Spinney at Pond View\, 2490 Pond View\, Castleton\, NY\, 12033
CATEGORIES:Wellness
ORGANIZER;CN="The Spinney at Pond View":MAILTO:spvlifestyle@livewellgroup.com
END:VEVENT
BEGIN:VEVENT
DTSTART;TZID=UTC:20240405T160000
DTEND;TZID=UTC:20240405T170000
DTSTAMP:20260422T161200
CREATED:20240402T191153Z
LAST-MODIFIED:20240402T191153Z
UID:10009680-1712332800-1712336400@www.thespinneyatpondview.com
SUMMARY:First Friday with Friends
DESCRIPTION:A new event for old friends and new to get together and socialize.  Some First Fridays will be in the late afternoon while some will be in the morning.  Light refreshments will be served no matter what time of day.
URL:https://www.thespinneyatpondview.com/event/first-friday-with-friends/
LOCATION:The Spinney at Pond View\, 2490 Pond View\, Castleton-On-Hudson\, NY\, 12033\, United States
CATEGORIES:Social
END:VEVENT
END:VCALENDAR