BEGIN:VCALENDAR
VERSION:2.0
PRODID:-//The Spinney at Pond View - ECPv6.15.20//NONSGML v1.0//EN
CALSCALE:GREGORIAN
METHOD:PUBLISH
X-ORIGINAL-URL:https://www.thespinneyatpondview.com
X-WR-CALDESC:Events for The Spinney at Pond View
REFRESH-INTERVAL;VALUE=DURATION:PT1H
X-Robots-Tag:noindex
X-PUBLISHED-TTL:PT1H
BEGIN:VTIMEZONE
TZID:America/New_York
BEGIN:DAYLIGHT
TZOFFSETFROM:-0500
TZOFFSETTO:-0400
TZNAME:EDT
DTSTART:20230312T070000
END:DAYLIGHT
BEGIN:STANDARD
TZOFFSETFROM:-0400
TZOFFSETTO:-0500
TZNAME:EST
DTSTART:20231105T060000
END:STANDARD
BEGIN:DAYLIGHT
TZOFFSETFROM:-0500
TZOFFSETTO:-0400
TZNAME:EDT
DTSTART:20240310T070000
END:DAYLIGHT
BEGIN:STANDARD
TZOFFSETFROM:-0400
TZOFFSETTO:-0500
TZNAME:EST
DTSTART:20241103T060000
END:STANDARD
BEGIN:DAYLIGHT
TZOFFSETFROM:-0500
TZOFFSETTO:-0400
TZNAME:EDT
DTSTART:20250309T070000
END:DAYLIGHT
BEGIN:STANDARD
TZOFFSETFROM:-0400
TZOFFSETTO:-0500
TZNAME:EST
DTSTART:20251102T060000
END:STANDARD
END:VTIMEZONE
BEGIN:VTIMEZONE
TZID:UTC
BEGIN:STANDARD
TZOFFSETFROM:+0000
TZOFFSETTO:+0000
TZNAME:UTC
DTSTART:20230101T000000
END:STANDARD
END:VTIMEZONE
BEGIN:VEVENT
DTSTART;TZID=America/New_York:20240411T100000
DTEND;TZID=America/New_York:20240411T110000
DTSTAMP:20260425T152614
CREATED:20230726T204058Z
LAST-MODIFIED:20240403T141817Z
UID:10004885-1712829600-1712833200@www.thespinneyatpondview.com
SUMMARY:Healthy Bones
DESCRIPTION:Healthy Bones – Every Tuesday & Thursday @ 9am-10am or 10am-11am.  Free for Spinney at Pond View Residents! An excellent class taught by experienced instructors.  Class is held in the Media Room.
URL:https://www.thespinneyatpondview.com/event/healthy-bones-4/2024-04-11/
LOCATION:The Spinney at Pond View\, 2490 Pond View\, Castleton\, NY\, 12033
CATEGORIES:Wellness
END:VEVENT
BEGIN:VEVENT
DTSTART;TZID=UTC:20240411T100000
DTEND;TZID=UTC:20240411T120000
DTSTAMP:20260425T152614
CREATED:20231127T021949Z
LAST-MODIFIED:20231127T021949Z
UID:10002358-1712829600-1712836800@www.thespinneyatpondview.com
SUMMARY:Bridge
DESCRIPTION:Learn to play Bridge with neighbors.
URL:https://www.thespinneyatpondview.com/event/bridge-3/2024-04-11/
LOCATION:The Spinney at Van Dyke\, 6 Parker Mathusa Place\, Delmar\, NY\, 12054
CATEGORIES:Intellectual
END:VEVENT
BEGIN:VEVENT
DTSTART;TZID=UTC:20240411T110000
DTEND;TZID=UTC:20240411T120000
DTSTAMP:20260425T152614
CREATED:20240404T132603Z
LAST-MODIFIED:20240404T132603Z
UID:10011281-1712833200-1712836800@www.thespinneyatpondview.com
SUMMARY:Swing Era Presentation
DESCRIPTION:Please join our resident\, Michael Cataggio\, as he talks about the swing era in the Albany area.  He has a wonderful presentation on the happenings in our area which many of our parents were probably involved in.  He has beautiful pictures of The Palace in Albany during this era.  This is sure to be a nostalgic trip back in time for many.  RSVPs are appreciated\, but not required.
URL:https://www.thespinneyatpondview.com/event/swing-era-presentation/
LOCATION:The Spinney at Pond View\, 2490 Pond View\, Castleton\, NY\, 12033
CATEGORIES:Community,Intellectual,Social
END:VEVENT
BEGIN:VEVENT
DTSTART;TZID=UTC:20240411T130000
DTEND;TZID=UTC:20240411T150000
DTSTAMP:20260425T152614
CREATED:20231127T022112Z
LAST-MODIFIED:20231127T022112Z
UID:10002621-1712840400-1712847600@www.thespinneyatpondview.com
SUMMARY:Mahjong
DESCRIPTION:Learn to play Mahjong with neighbors.
URL:https://www.thespinneyatpondview.com/event/mahjong-2/2024-04-11/
LOCATION:The Spinney at Van Dyke\, 6 Parker Mathusa Place\, Delmar\, NY\, 12054
CATEGORIES:Intellectual
END:VEVENT
BEGIN:VEVENT
DTSTART;TZID=UTC:20240411T130000
DTEND;TZID=UTC:20240411T150000
DTSTAMP:20260425T152614
CREATED:20240403T160423Z
LAST-MODIFIED:20240403T161045Z
UID:10010976-1712840400-1712847600@www.thespinneyatpondview.com
SUMMARY:Movie Matinee
DESCRIPTION:Join us in the Media Room for The Blind Side.  Based on a true story\, Leigh Ann Tuohy\, played by Sandra Bullock\, and her husband Sean\, Played by Tim McGraw\, take in a homeless black teen\, Michael Oher\, played by Quinton Aaron.  This 2009 award-winning film shows how Oher rose out of the depths of poverty\, neglect and homelessness to become an NFL star.  This film is a story of courage\, generosity and acceptance.
URL:https://www.thespinneyatpondview.com/event/movie-matinee-9/
LOCATION:The Spinney at Pond View\, 2490 Pond View\, Castleton\, NY\, 12033
CATEGORIES:Social
END:VEVENT
BEGIN:VEVENT
DTSTART;TZID=UTC:20240411T163000
DTEND;TZID=UTC:20240411T173000
DTSTAMP:20260425T152614
CREATED:20240403T140416Z
LAST-MODIFIED:20240403T140416Z
UID:10010221-1712853000-1712856600@www.thespinneyatpondview.com
SUMMARY:Zumba Gold
DESCRIPTION:A fitness class for active older adults who are looking for a modified Zumba class that recreates the original moves you love at a lower intensity.  The design of the class introduces easy-to-follow Zumba choreography that focuses on balance\, range of motion and coordination.  Come ready to sweat and prepare to leave empowered and feeling strong.  Please bring your key fob for Clubhouse building access.  $5 per person.
URL:https://www.thespinneyatpondview.com/event/zumba-gold-3/2024-04-11/
LOCATION:The Spinney at Pond View\, 2490 Pond View\, Castleton\, NY\, 12033
CATEGORIES:Wellness
END:VEVENT
BEGIN:VEVENT
DTSTART;TZID=UTC:20240411T183000
DTEND;TZID=UTC:20240411T193000
DTSTAMP:20260425T152614
CREATED:20231127T020902Z
LAST-MODIFIED:20240403T164643Z
UID:10002220-1712860200-1712863800@www.thespinneyatpondview.com
SUMMARY:Bible Study
DESCRIPTION:This takes place at the Spinney at Pond View Clubhouse and is open to all.  This Bible study group is led by neighbors and everyone is always welcome to attend.  Bring your key fob for Clubhouse access.
URL:https://www.thespinneyatpondview.com/event/bible-study/2024-04-11/
LOCATION:The Spinney at Pond View\, 2490 Pond View\, Castleton-On-Hudson\, NY\, 12033\, United States
CATEGORIES:Intellectual
ORGANIZER;CN="The Spinney at Pond View":MAILTO:spvlifestyle@livewellgroup.com
END:VEVENT
END:VCALENDAR