BEGIN:VCALENDAR
VERSION:2.0
PRODID:-//The Spinney at Pond View - ECPv6.15.20//NONSGML v1.0//EN
CALSCALE:GREGORIAN
METHOD:PUBLISH
X-WR-CALNAME:The Spinney at Pond View
X-ORIGINAL-URL:https://www.thespinneyatpondview.com
X-WR-CALDESC:Events for The Spinney at Pond View
REFRESH-INTERVAL;VALUE=DURATION:PT1H
X-Robots-Tag:noindex
X-PUBLISHED-TTL:PT1H
BEGIN:VTIMEZONE
TZID:UTC
BEGIN:STANDARD
TZOFFSETFROM:+0000
TZOFFSETTO:+0000
TZNAME:UTC
DTSTART:20250101T000000
END:STANDARD
END:VTIMEZONE
BEGIN:VEVENT
DTSTART;TZID=UTC:20260216T120000
DTEND;TZID=UTC:20260216T130000
DTSTAMP:20260424T205004
CREATED:20260120T161102Z
LAST-MODIFIED:20260120T161102Z
UID:10014030-1771243200-1771246800@www.thespinneyatpondview.com
SUMMARY:Pondering the Pond
DESCRIPTION:
URL:https://www.thespinneyatpondview.com/event/pondering-the-pond/
LOCATION:The Spinney at Pond View\, 2490 Pond View\, Castleton\, NY\, 12033
CATEGORIES:Environmental
END:VEVENT
BEGIN:VEVENT
DTSTART;VALUE=DATE:20260217
DTEND;VALUE=DATE:20260218
DTSTAMP:20260424T205004
CREATED:20260120T161240Z
LAST-MODIFIED:20260120T161240Z
UID:10014031-1771286400-1771372799@www.thespinneyatpondview.com
SUMMARY:Random Acts of Kindness Day
DESCRIPTION:
URL:https://www.thespinneyatpondview.com/event/random-acts-of-kindness-day/
LOCATION:The Spinney at Pond View\, 2490 Pond View\, Castleton\, NY\, 12033
CATEGORIES:Community,Environmental,Intellectual,Social,Wellness
END:VEVENT
END:VCALENDAR