BEGIN:VCALENDAR
VERSION:2.0
PRODID:-//The Spinney at Pond View - ECPv6.15.20//NONSGML v1.0//EN
CALSCALE:GREGORIAN
METHOD:PUBLISH
X-ORIGINAL-URL:https://www.thespinneyatpondview.com
X-WR-CALDESC:Events for The Spinney at Pond View
REFRESH-INTERVAL;VALUE=DURATION:PT1H
X-Robots-Tag:noindex
X-PUBLISHED-TTL:PT1H
BEGIN:VTIMEZONE
TZID:UTC
BEGIN:STANDARD
TZOFFSETFROM:+0000
TZOFFSETTO:+0000
TZNAME:UTC
DTSTART:20810101T000000
END:STANDARD
END:VTIMEZONE
BEGIN:VEVENT
DTSTART;TZID=UTC:20820806T100000
DTEND;TZID=UTC:20820806T110000
DTSTAMP:20260425T025831
CREATED:20250710T213829Z
LAST-MODIFIED:20250710T214006Z
UID:10013756-3553236000-3553239600@www.thespinneyatpondview.com
SUMMARY:Hidley Farms Walk and Talk
DESCRIPTION:
URL:https://www.thespinneyatpondview.com/event/dot-mandela/
LOCATION:The Spinney at Pond View\, 2490 Pond View\, Castleton\, NY\, 12033
CATEGORIES:Environmental
END:VEVENT
END:VCALENDAR