BEGIN:VCALENDAR
VERSION:2.0
PRODID:-//The Spinney at Pond View - ECPv6.15.20//NONSGML v1.0//EN
CALSCALE:GREGORIAN
METHOD:PUBLISH
X-ORIGINAL-URL:https://www.thespinneyatpondview.com
X-WR-CALDESC:Events for The Spinney at Pond View
REFRESH-INTERVAL;VALUE=DURATION:PT1H
X-Robots-Tag:noindex
X-PUBLISHED-TTL:PT1H
BEGIN:VTIMEZONE
TZID:UTC
BEGIN:STANDARD
TZOFFSETFROM:+0000
TZOFFSETTO:+0000
TZNAME:UTC
DTSTART:20250101T000000
END:STANDARD
END:VTIMEZONE
BEGIN:VEVENT
DTSTART;TZID=UTC:20260409T100000
DTEND;TZID=UTC:20260409T120000
DTSTAMP:20260425T173258
CREATED:20231127T021949Z
LAST-MODIFIED:20231127T021949Z
UID:10002462-1775728800-1775736000@www.thespinneyatpondview.com
SUMMARY:Bridge
DESCRIPTION:Learn to play Bridge with neighbors.
URL:https://www.thespinneyatpondview.com/event/bridge-3/2026-04-09/
LOCATION:The Spinney at Van Dyke\, 6 Parker Mathusa Place\, Delmar\, NY\, 12054
CATEGORIES:Intellectual
END:VEVENT
BEGIN:VEVENT
DTSTART;TZID=UTC:20260409T130000
DTEND;TZID=UTC:20260409T150000
DTSTAMP:20260425T173258
CREATED:20240417T140427Z
LAST-MODIFIED:20240417T140427Z
UID:10011396-1775739600-1775746800@www.thespinneyatpondview.com
SUMMARY:Movie Matinee
DESCRIPTION:Join us in The Media Room each week as we show a movie.
URL:https://www.thespinneyatpondview.com/event/movie-matinee-12/2026-04-09/
LOCATION:The Spinney at Pond View\, 2490 Pond View\, Castleton\, NY\, 12033
CATEGORIES:Intellectual,Social
END:VEVENT
BEGIN:VEVENT
DTSTART;TZID=UTC:20260409T183000
DTEND;TZID=UTC:20260409T193000
DTSTAMP:20260425T173258
CREATED:20231127T020902Z
LAST-MODIFIED:20240403T164643Z
UID:10002244-1775759400-1775763000@www.thespinneyatpondview.com
SUMMARY:Bible Study
DESCRIPTION:This takes place at the Spinney at Pond View Clubhouse and is open to all.  This Bible study group is led by neighbors and everyone is always welcome to attend.  Bring your key fob for Clubhouse access.
URL:https://www.thespinneyatpondview.com/event/bible-study/2026-04-09/
LOCATION:The Spinney at Pond View\, 2490 Pond View\, Castleton-On-Hudson\, NY\, 12033\, United States
CATEGORIES:Intellectual
ORGANIZER;CN="The Spinney at Pond View":MAILTO:spvlifestyle@livewellgroup.com
END:VEVENT
END:VCALENDAR