BEGIN:VCALENDAR
VERSION:2.0
PRODID:-//The Spinney at Pond View - ECPv6.15.20//NONSGML v1.0//EN
CALSCALE:GREGORIAN
METHOD:PUBLISH
X-WR-CALNAME:The Spinney at Pond View
X-ORIGINAL-URL:https://www.thespinneyatpondview.com
X-WR-CALDESC:Events for The Spinney at Pond View
REFRESH-INTERVAL;VALUE=DURATION:PT1H
X-Robots-Tag:noindex
X-PUBLISHED-TTL:PT1H
BEGIN:VTIMEZONE
TZID:UTC
BEGIN:STANDARD
TZOFFSETFROM:+0000
TZOFFSETTO:+0000
TZNAME:UTC
DTSTART:20240101T000000
END:STANDARD
END:VTIMEZONE
BEGIN:VEVENT
DTSTART;TZID=UTC:20250701T130000
DTEND;TZID=UTC:20250701T150000
DTSTAMP:20260425T155910
CREATED:20240402T184659Z
LAST-MODIFIED:20240403T145223Z
UID:10008179-1751374800-1751382000@www.thespinneyatpondview.com
SUMMARY:Games and Chess
DESCRIPTION:Meet up with friends and neighbors to play games as well as Chess.  All levels are more than welcome to join us in The Clubhouse.
URL:https://www.thespinneyatpondview.com/event/games-and-chess/2025-07-01/
LOCATION:The Spinney at Pond View\, 2490 Pond View\, Castleton\, NY\, 12033
CATEGORIES:Community,Intellectual,Social
END:VEVENT
BEGIN:VEVENT
DTSTART;TZID=UTC:20250701T143000
DTEND;TZID=UTC:20250701T180000
DTSTAMP:20260425T155910
CREATED:20230726T191503Z
LAST-MODIFIED:20230726T191503Z
UID:10001589-1751380200-1751392800@www.thespinneyatpondview.com
SUMMARY:Farmer's Market
DESCRIPTION:Local Farmer’s Markets are back – We have 2 Farmer’s Markets in town. The Tuesday Market is located at 428 Kenwood Ave and runs from 2:30 pm – 6 pm. The Saturday Market is located at the Bethlehem Central Middle School on Kenwood Ave and is open from 9 am – 1 pm.
URL:https://www.thespinneyatpondview.com/event/farmers-market-2/2025-07-01/
LOCATION:Team Members
CATEGORIES:Community,Social,Wellness
END:VEVENT
BEGIN:VEVENT
DTSTART;TZID=UTC:20250701T180000
DTEND;TZID=UTC:20250701T190000
DTSTAMP:20260425T155910
CREATED:20240402T184828Z
LAST-MODIFIED:20240403T145452Z
UID:10008440-1751392800-1751396400@www.thespinneyatpondview.com
SUMMARY:Cornhole
DESCRIPTION:Join your neighbors for a game of cornhole.  New players are always welcome!  Please bring your key fob for access to The Clubhouse.  Hopefully\, the weather will cooperate soon\, and we’ll be able to set up outside.
URL:https://www.thespinneyatpondview.com/event/cornhole/2025-07-01/
LOCATION:The Spinney at Pond View\, 2490 Pond View\, Castleton\, NY\, 12033
CATEGORIES:Social
END:VEVENT
BEGIN:VEVENT
DTSTART;TZID=UTC:20250702T130000
DTEND;TZID=UTC:20250702T140000
DTSTAMP:20260425T155910
CREATED:20240814T151251Z
LAST-MODIFIED:20240814T151251Z
UID:10011823-1751461200-1751464800@www.thespinneyatpondview.com
SUMMARY:SPV Community Walk
DESCRIPTION:We’ll meet in The Clubhouse and explore our beautiful property together.
URL:https://www.thespinneyatpondview.com/event/spv-community-walk/2025-07-02/
LOCATION:The Spinney at Pond View\, 2490 Pond View\, Castleton\, NY\, 12033
CATEGORIES:Community,Environmental,Social,Wellness
END:VEVENT
BEGIN:VEVENT
DTSTART;TZID=UTC:20250702T130000
DTEND;TZID=UTC:20250702T140000
DTSTAMP:20260425T155910
CREATED:20241030T170614Z
LAST-MODIFIED:20241030T170614Z
UID:10012201-1751461200-1751464800@www.thespinneyatpondview.com
SUMMARY:Community Walk
DESCRIPTION:
URL:https://www.thespinneyatpondview.com/event/community-walk-3/2025-07-02/
LOCATION:The Spinney at Pond View\, 2490 Pond View\, Castleton\, NY\, 12033
CATEGORIES:Environmental,Social,Wellness
END:VEVENT
BEGIN:VEVENT
DTSTART;TZID=UTC:20250702T160000
DTEND;TZID=UTC:20250702T180000
DTSTAMP:20260425T155910
CREATED:20240402T185102Z
LAST-MODIFIED:20240403T141455Z
UID:10008702-1751472000-1751479200@www.thespinneyatpondview.com
SUMMARY:Pool and Poker
DESCRIPTION:Meet friends in The Clubhouse for pool and poker.  You can play one game\, play both or simply just sit\, watch and socialize.  Your Clubhouse is open for fun!
URL:https://www.thespinneyatpondview.com/event/pool-and-poker/2025-07-02/
LOCATION:The Spinney at Pond View\, 2490 Pond View\, Castleton\, NY\, 12033
CATEGORIES:Social
END:VEVENT
BEGIN:VEVENT
DTSTART;TZID=UTC:20250702T180000
DTEND;TZID=UTC:20250702T200000
DTSTAMP:20260425T155910
CREATED:20240402T185237Z
LAST-MODIFIED:20240403T141253Z
UID:10008963-1751479200-1751486400@www.thespinneyatpondview.com
SUMMARY:Rec Night
DESCRIPTION:Join friends in The Clubhouse to play board games\, pool\, cards or do a puzzle.  Please remember to bring your key fob for access to The Clubhouse.
URL:https://www.thespinneyatpondview.com/event/rec-night/2025-07-02/
LOCATION:The Spinney at Pond View\, 2490 Pond View\, Castleton\, NY\, 12033
CATEGORIES:Social
END:VEVENT
BEGIN:VEVENT
DTSTART;TZID=UTC:20250703T130000
DTEND;TZID=UTC:20250703T150000
DTSTAMP:20260425T155910
CREATED:20240417T140427Z
LAST-MODIFIED:20240417T140427Z
UID:10011356-1751547600-1751554800@www.thespinneyatpondview.com
SUMMARY:Movie Matinee
DESCRIPTION:Join us in The Media Room each week as we show a movie.
URL:https://www.thespinneyatpondview.com/event/movie-matinee-12/2025-07-03/
LOCATION:The Spinney at Pond View\, 2490 Pond View\, Castleton\, NY\, 12033
CATEGORIES:Intellectual,Social
END:VEVENT
BEGIN:VEVENT
DTSTART;TZID=UTC:20250707T140000
DTEND;TZID=UTC:20250707T160000
DTSTAMP:20260425T155910
CREATED:20250521T152119Z
LAST-MODIFIED:20250521T152119Z
UID:10013688-1751896800-1751904000@www.thespinneyatpondview.com
SUMMARY:Mah-Jongg
DESCRIPTION:
URL:https://www.thespinneyatpondview.com/event/mah-jongg-3/2025-07-07/
LOCATION:The Spinney at Pond View\, 2490 Pond View\, Castleton\, NY\, 12033
CATEGORIES:Social
END:VEVENT
BEGIN:VEVENT
DTSTART;TZID=UTC:20250707T183000
DTEND;TZID=UTC:20250707T203000
DTSTAMP:20260425T155910
CREATED:20230923T185926Z
LAST-MODIFIED:20230923T185926Z
UID:10001934-1751913000-1751920200@www.thespinneyatpondview.com
SUMMARY:Billiards
DESCRIPTION:A casual group meet-up of neighbors to play or learn-to-play pool in The Clubhouse.
URL:https://www.thespinneyatpondview.com/event/billiards-2/2025-07-07/
LOCATION:The Spinney at Van Dyke\, 6 Parker Mathusa Place\, Delmar\, NY\, 12054
CATEGORIES:Intellectual,Social
END:VEVENT
BEGIN:VEVENT
DTSTART;TZID=UTC:20250708T130000
DTEND;TZID=UTC:20250708T150000
DTSTAMP:20260425T155910
CREATED:20240402T184659Z
LAST-MODIFIED:20240403T145223Z
UID:10008180-1751979600-1751986800@www.thespinneyatpondview.com
SUMMARY:Games and Chess
DESCRIPTION:Meet up with friends and neighbors to play games as well as Chess.  All levels are more than welcome to join us in The Clubhouse.
URL:https://www.thespinneyatpondview.com/event/games-and-chess/2025-07-08/
LOCATION:The Spinney at Pond View\, 2490 Pond View\, Castleton\, NY\, 12033
CATEGORIES:Community,Intellectual,Social
END:VEVENT
BEGIN:VEVENT
DTSTART;TZID=UTC:20250708T143000
DTEND;TZID=UTC:20250708T180000
DTSTAMP:20260425T155911
CREATED:20230726T191503Z
LAST-MODIFIED:20230726T191503Z
UID:10001590-1751985000-1751997600@www.thespinneyatpondview.com
SUMMARY:Farmer's Market
DESCRIPTION:Local Farmer’s Markets are back – We have 2 Farmer’s Markets in town. The Tuesday Market is located at 428 Kenwood Ave and runs from 2:30 pm – 6 pm. The Saturday Market is located at the Bethlehem Central Middle School on Kenwood Ave and is open from 9 am – 1 pm.
URL:https://www.thespinneyatpondview.com/event/farmers-market-2/2025-07-08/
LOCATION:Team Members
CATEGORIES:Community,Social,Wellness
END:VEVENT
BEGIN:VEVENT
DTSTART;TZID=UTC:20250708T180000
DTEND;TZID=UTC:20250708T190000
DTSTAMP:20260425T155911
CREATED:20240402T184828Z
LAST-MODIFIED:20240403T145452Z
UID:10008441-1751997600-1752001200@www.thespinneyatpondview.com
SUMMARY:Cornhole
DESCRIPTION:Join your neighbors for a game of cornhole.  New players are always welcome!  Please bring your key fob for access to The Clubhouse.  Hopefully\, the weather will cooperate soon\, and we’ll be able to set up outside.
URL:https://www.thespinneyatpondview.com/event/cornhole/2025-07-08/
LOCATION:The Spinney at Pond View\, 2490 Pond View\, Castleton\, NY\, 12033
CATEGORIES:Social
END:VEVENT
BEGIN:VEVENT
DTSTART;TZID=UTC:20250709T130000
DTEND;TZID=UTC:20250709T140000
DTSTAMP:20260425T155911
CREATED:20240814T151251Z
LAST-MODIFIED:20240814T151251Z
UID:10011824-1752066000-1752069600@www.thespinneyatpondview.com
SUMMARY:SPV Community Walk
DESCRIPTION:We’ll meet in The Clubhouse and explore our beautiful property together.
URL:https://www.thespinneyatpondview.com/event/spv-community-walk/2025-07-09/
LOCATION:The Spinney at Pond View\, 2490 Pond View\, Castleton\, NY\, 12033
CATEGORIES:Community,Environmental,Social,Wellness
END:VEVENT
BEGIN:VEVENT
DTSTART;TZID=UTC:20250709T130000
DTEND;TZID=UTC:20250709T140000
DTSTAMP:20260425T155911
CREATED:20241030T170614Z
LAST-MODIFIED:20241030T170614Z
UID:10012202-1752066000-1752069600@www.thespinneyatpondview.com
SUMMARY:Community Walk
DESCRIPTION:
URL:https://www.thespinneyatpondview.com/event/community-walk-3/2025-07-09/
LOCATION:The Spinney at Pond View\, 2490 Pond View\, Castleton\, NY\, 12033
CATEGORIES:Environmental,Social,Wellness
END:VEVENT
BEGIN:VEVENT
DTSTART;TZID=UTC:20250709T160000
DTEND;TZID=UTC:20250709T180000
DTSTAMP:20260425T155911
CREATED:20240402T185102Z
LAST-MODIFIED:20240403T141455Z
UID:10008703-1752076800-1752084000@www.thespinneyatpondview.com
SUMMARY:Pool and Poker
DESCRIPTION:Meet friends in The Clubhouse for pool and poker.  You can play one game\, play both or simply just sit\, watch and socialize.  Your Clubhouse is open for fun!
URL:https://www.thespinneyatpondview.com/event/pool-and-poker/2025-07-09/
LOCATION:The Spinney at Pond View\, 2490 Pond View\, Castleton\, NY\, 12033
CATEGORIES:Social
END:VEVENT
BEGIN:VEVENT
DTSTART;TZID=UTC:20250709T180000
DTEND;TZID=UTC:20250709T200000
DTSTAMP:20260425T155911
CREATED:20240402T185237Z
LAST-MODIFIED:20240403T141253Z
UID:10008964-1752084000-1752091200@www.thespinneyatpondview.com
SUMMARY:Rec Night
DESCRIPTION:Join friends in The Clubhouse to play board games\, pool\, cards or do a puzzle.  Please remember to bring your key fob for access to The Clubhouse.
URL:https://www.thespinneyatpondview.com/event/rec-night/2025-07-09/
LOCATION:The Spinney at Pond View\, 2490 Pond View\, Castleton\, NY\, 12033
CATEGORIES:Social
END:VEVENT
BEGIN:VEVENT
DTSTART;TZID=UTC:20250710T130000
DTEND;TZID=UTC:20250710T150000
DTSTAMP:20260425T155911
CREATED:20240417T140427Z
LAST-MODIFIED:20240417T140427Z
UID:10011357-1752152400-1752159600@www.thespinneyatpondview.com
SUMMARY:Movie Matinee
DESCRIPTION:Join us in The Media Room each week as we show a movie.
URL:https://www.thespinneyatpondview.com/event/movie-matinee-12/2025-07-10/
LOCATION:The Spinney at Pond View\, 2490 Pond View\, Castleton\, NY\, 12033
CATEGORIES:Intellectual,Social
END:VEVENT
BEGIN:VEVENT
DTSTART;TZID=UTC:20250714T140000
DTEND;TZID=UTC:20250714T160000
DTSTAMP:20260425T155911
CREATED:20250521T152119Z
LAST-MODIFIED:20250521T152119Z
UID:10013689-1752501600-1752508800@www.thespinneyatpondview.com
SUMMARY:Mah-Jongg
DESCRIPTION:
URL:https://www.thespinneyatpondview.com/event/mah-jongg-3/2025-07-14/
LOCATION:The Spinney at Pond View\, 2490 Pond View\, Castleton\, NY\, 12033
CATEGORIES:Social
END:VEVENT
BEGIN:VEVENT
DTSTART;TZID=UTC:20250714T183000
DTEND;TZID=UTC:20250714T203000
DTSTAMP:20260425T155911
CREATED:20230923T185926Z
LAST-MODIFIED:20230923T185926Z
UID:10001935-1752517800-1752525000@www.thespinneyatpondview.com
SUMMARY:Billiards
DESCRIPTION:A casual group meet-up of neighbors to play or learn-to-play pool in The Clubhouse.
URL:https://www.thespinneyatpondview.com/event/billiards-2/2025-07-14/
LOCATION:The Spinney at Van Dyke\, 6 Parker Mathusa Place\, Delmar\, NY\, 12054
CATEGORIES:Intellectual,Social
END:VEVENT
BEGIN:VEVENT
DTSTART;TZID=UTC:20250715T130000
DTEND;TZID=UTC:20250715T150000
DTSTAMP:20260425T155911
CREATED:20240402T184659Z
LAST-MODIFIED:20240403T145223Z
UID:10008181-1752584400-1752591600@www.thespinneyatpondview.com
SUMMARY:Games and Chess
DESCRIPTION:Meet up with friends and neighbors to play games as well as Chess.  All levels are more than welcome to join us in The Clubhouse.
URL:https://www.thespinneyatpondview.com/event/games-and-chess/2025-07-15/
LOCATION:The Spinney at Pond View\, 2490 Pond View\, Castleton\, NY\, 12033
CATEGORIES:Community,Intellectual,Social
END:VEVENT
BEGIN:VEVENT
DTSTART;TZID=UTC:20250715T143000
DTEND;TZID=UTC:20250715T180000
DTSTAMP:20260425T155911
CREATED:20230726T191503Z
LAST-MODIFIED:20230726T191503Z
UID:10001591-1752589800-1752602400@www.thespinneyatpondview.com
SUMMARY:Farmer's Market
DESCRIPTION:Local Farmer’s Markets are back – We have 2 Farmer’s Markets in town. The Tuesday Market is located at 428 Kenwood Ave and runs from 2:30 pm – 6 pm. The Saturday Market is located at the Bethlehem Central Middle School on Kenwood Ave and is open from 9 am – 1 pm.
URL:https://www.thespinneyatpondview.com/event/farmers-market-2/2025-07-15/
LOCATION:Team Members
CATEGORIES:Community,Social,Wellness
END:VEVENT
BEGIN:VEVENT
DTSTART;TZID=UTC:20250715T180000
DTEND;TZID=UTC:20250715T190000
DTSTAMP:20260425T155911
CREATED:20240402T184828Z
LAST-MODIFIED:20240403T145452Z
UID:10008442-1752602400-1752606000@www.thespinneyatpondview.com
SUMMARY:Cornhole
DESCRIPTION:Join your neighbors for a game of cornhole.  New players are always welcome!  Please bring your key fob for access to The Clubhouse.  Hopefully\, the weather will cooperate soon\, and we’ll be able to set up outside.
URL:https://www.thespinneyatpondview.com/event/cornhole/2025-07-15/
LOCATION:The Spinney at Pond View\, 2490 Pond View\, Castleton\, NY\, 12033
CATEGORIES:Social
END:VEVENT
BEGIN:VEVENT
DTSTART;TZID=UTC:20250716T130000
DTEND;TZID=UTC:20250716T140000
DTSTAMP:20260425T155911
CREATED:20240814T151251Z
LAST-MODIFIED:20240814T151251Z
UID:10011825-1752670800-1752674400@www.thespinneyatpondview.com
SUMMARY:SPV Community Walk
DESCRIPTION:We’ll meet in The Clubhouse and explore our beautiful property together.
URL:https://www.thespinneyatpondview.com/event/spv-community-walk/2025-07-16/
LOCATION:The Spinney at Pond View\, 2490 Pond View\, Castleton\, NY\, 12033
CATEGORIES:Community,Environmental,Social,Wellness
END:VEVENT
BEGIN:VEVENT
DTSTART;TZID=UTC:20250716T130000
DTEND;TZID=UTC:20250716T140000
DTSTAMP:20260425T155911
CREATED:20241030T170614Z
LAST-MODIFIED:20241030T170614Z
UID:10012203-1752670800-1752674400@www.thespinneyatpondview.com
SUMMARY:Community Walk
DESCRIPTION:
URL:https://www.thespinneyatpondview.com/event/community-walk-3/2025-07-16/
LOCATION:The Spinney at Pond View\, 2490 Pond View\, Castleton\, NY\, 12033
CATEGORIES:Environmental,Social,Wellness
END:VEVENT
BEGIN:VEVENT
DTSTART;TZID=UTC:20250716T160000
DTEND;TZID=UTC:20250716T180000
DTSTAMP:20260425T155911
CREATED:20240402T185102Z
LAST-MODIFIED:20240403T141455Z
UID:10008704-1752681600-1752688800@www.thespinneyatpondview.com
SUMMARY:Pool and Poker
DESCRIPTION:Meet friends in The Clubhouse for pool and poker.  You can play one game\, play both or simply just sit\, watch and socialize.  Your Clubhouse is open for fun!
URL:https://www.thespinneyatpondview.com/event/pool-and-poker/2025-07-16/
LOCATION:The Spinney at Pond View\, 2490 Pond View\, Castleton\, NY\, 12033
CATEGORIES:Social
END:VEVENT
BEGIN:VEVENT
DTSTART;TZID=UTC:20250716T180000
DTEND;TZID=UTC:20250716T200000
DTSTAMP:20260425T155911
CREATED:20240402T185237Z
LAST-MODIFIED:20240403T141253Z
UID:10008965-1752688800-1752696000@www.thespinneyatpondview.com
SUMMARY:Rec Night
DESCRIPTION:Join friends in The Clubhouse to play board games\, pool\, cards or do a puzzle.  Please remember to bring your key fob for access to The Clubhouse.
URL:https://www.thespinneyatpondview.com/event/rec-night/2025-07-16/
LOCATION:The Spinney at Pond View\, 2490 Pond View\, Castleton\, NY\, 12033
CATEGORIES:Social
END:VEVENT
BEGIN:VEVENT
DTSTART;TZID=UTC:20250717T130000
DTEND;TZID=UTC:20250717T150000
DTSTAMP:20260425T155911
CREATED:20240417T140427Z
LAST-MODIFIED:20240417T140427Z
UID:10011358-1752757200-1752764400@www.thespinneyatpondview.com
SUMMARY:Movie Matinee
DESCRIPTION:Join us in The Media Room each week as we show a movie.
URL:https://www.thespinneyatpondview.com/event/movie-matinee-12/2025-07-17/
LOCATION:The Spinney at Pond View\, 2490 Pond View\, Castleton\, NY\, 12033
CATEGORIES:Intellectual,Social
END:VEVENT
BEGIN:VEVENT
DTSTART;TZID=UTC:20250721T140000
DTEND;TZID=UTC:20250721T160000
DTSTAMP:20260425T155911
CREATED:20250521T152119Z
LAST-MODIFIED:20250521T152119Z
UID:10013690-1753106400-1753113600@www.thespinneyatpondview.com
SUMMARY:Mah-Jongg
DESCRIPTION:
URL:https://www.thespinneyatpondview.com/event/mah-jongg-3/2025-07-21/
LOCATION:The Spinney at Pond View\, 2490 Pond View\, Castleton\, NY\, 12033
CATEGORIES:Social
END:VEVENT
BEGIN:VEVENT
DTSTART;TZID=UTC:20250721T183000
DTEND;TZID=UTC:20250721T203000
DTSTAMP:20260425T155911
CREATED:20230923T185926Z
LAST-MODIFIED:20230923T185926Z
UID:10001936-1753122600-1753129800@www.thespinneyatpondview.com
SUMMARY:Billiards
DESCRIPTION:A casual group meet-up of neighbors to play or learn-to-play pool in The Clubhouse.
URL:https://www.thespinneyatpondview.com/event/billiards-2/2025-07-21/
LOCATION:The Spinney at Van Dyke\, 6 Parker Mathusa Place\, Delmar\, NY\, 12054
CATEGORIES:Intellectual,Social
END:VEVENT
END:VCALENDAR