BEGIN:VCALENDAR
VERSION:2.0
PRODID:-//The Spinney at Pond View - ECPv6.15.20//NONSGML v1.0//EN
CALSCALE:GREGORIAN
METHOD:PUBLISH
X-WR-CALNAME:The Spinney at Pond View
X-ORIGINAL-URL:https://www.thespinneyatpondview.com
X-WR-CALDESC:Events for The Spinney at Pond View
REFRESH-INTERVAL;VALUE=DURATION:PT1H
X-Robots-Tag:noindex
X-PUBLISHED-TTL:PT1H
BEGIN:VTIMEZONE
TZID:UTC
BEGIN:STANDARD
TZOFFSETFROM:+0000
TZOFFSETTO:+0000
TZNAME:UTC
DTSTART:20240101T000000
END:STANDARD
END:VTIMEZONE
BEGIN:VEVENT
DTSTART;TZID=UTC:20251103T100000
DTEND;TZID=UTC:20251103T113000
DTSTAMP:20260419T142127
CREATED:20251027T140030Z
LAST-MODIFIED:20251027T140030Z
UID:10013820-1762164000-1762169400@www.thespinneyatpondview.com
SUMMARY:Painting with Acrylics
DESCRIPTION:
URL:https://www.thespinneyatpondview.com/event/painting-with-acrylics/
LOCATION:The Spinney at Pond View\, 2490 Pond View\, Castleton\, NY\, 12033
CATEGORIES:Social
END:VEVENT
BEGIN:VEVENT
DTSTART;TZID=UTC:20251103T140000
DTEND;TZID=UTC:20251103T160000
DTSTAMP:20260419T142127
CREATED:20250521T152119Z
LAST-MODIFIED:20250521T152119Z
UID:10013705-1762178400-1762185600@www.thespinneyatpondview.com
SUMMARY:Mah-Jongg
DESCRIPTION:
URL:https://www.thespinneyatpondview.com/event/mah-jongg-3/2025-11-03/
LOCATION:The Spinney at Pond View\, 2490 Pond View\, Castleton\, NY\, 12033
CATEGORIES:Social
END:VEVENT
BEGIN:VEVENT
DTSTART;TZID=UTC:20251103T183000
DTEND;TZID=UTC:20251103T203000
DTSTAMP:20260419T142127
CREATED:20230923T185926Z
LAST-MODIFIED:20230923T185926Z
UID:10001951-1762194600-1762201800@www.thespinneyatpondview.com
SUMMARY:Billiards
DESCRIPTION:A casual group meet-up of neighbors to play or learn-to-play pool in The Clubhouse.
URL:https://www.thespinneyatpondview.com/event/billiards-2/2025-11-03/
LOCATION:The Spinney at Van Dyke\, 6 Parker Mathusa Place\, Delmar\, NY\, 12054
CATEGORIES:Intellectual,Social
END:VEVENT
BEGIN:VEVENT
DTSTART;TZID=UTC:20251104T130000
DTEND;TZID=UTC:20251104T150000
DTSTAMP:20260419T142127
CREATED:20240402T184659Z
LAST-MODIFIED:20240403T145223Z
UID:10008197-1762261200-1762268400@www.thespinneyatpondview.com
SUMMARY:Games and Chess
DESCRIPTION:Meet up with friends and neighbors to play games as well as Chess.  All levels are more than welcome to join us in The Clubhouse.
URL:https://www.thespinneyatpondview.com/event/games-and-chess/2025-11-04/
LOCATION:The Spinney at Pond View\, 2490 Pond View\, Castleton\, NY\, 12033
CATEGORIES:Community,Intellectual,Social
END:VEVENT
BEGIN:VEVENT
DTSTART;TZID=UTC:20251104T143000
DTEND;TZID=UTC:20251104T180000
DTSTAMP:20260419T142127
CREATED:20230726T191503Z
LAST-MODIFIED:20230726T191503Z
UID:10001607-1762266600-1762279200@www.thespinneyatpondview.com
SUMMARY:Farmer's Market
DESCRIPTION:Local Farmer’s Markets are back – We have 2 Farmer’s Markets in town. The Tuesday Market is located at 428 Kenwood Ave and runs from 2:30 pm – 6 pm. The Saturday Market is located at the Bethlehem Central Middle School on Kenwood Ave and is open from 9 am – 1 pm.
URL:https://www.thespinneyatpondview.com/event/farmers-market-2/2025-11-04/
LOCATION:Team Members
CATEGORIES:Community,Social,Wellness
END:VEVENT
BEGIN:VEVENT
DTSTART;TZID=UTC:20251104T180000
DTEND;TZID=UTC:20251104T190000
DTSTAMP:20260419T142127
CREATED:20240402T184828Z
LAST-MODIFIED:20240403T145452Z
UID:10008458-1762279200-1762282800@www.thespinneyatpondview.com
SUMMARY:Cornhole
DESCRIPTION:Join your neighbors for a game of cornhole.  New players are always welcome!  Please bring your key fob for access to The Clubhouse.  Hopefully\, the weather will cooperate soon\, and we’ll be able to set up outside.
URL:https://www.thespinneyatpondview.com/event/cornhole/2025-11-04/
LOCATION:The Spinney at Pond View\, 2490 Pond View\, Castleton\, NY\, 12033
CATEGORIES:Social
END:VEVENT
BEGIN:VEVENT
DTSTART;TZID=UTC:20251105T130000
DTEND;TZID=UTC:20251105T140000
DTSTAMP:20260419T142127
CREATED:20240814T151251Z
LAST-MODIFIED:20240814T151251Z
UID:10011841-1762347600-1762351200@www.thespinneyatpondview.com
SUMMARY:SPV Community Walk
DESCRIPTION:We’ll meet in The Clubhouse and explore our beautiful property together.
URL:https://www.thespinneyatpondview.com/event/spv-community-walk/2025-11-05/
LOCATION:The Spinney at Pond View\, 2490 Pond View\, Castleton\, NY\, 12033
CATEGORIES:Community,Environmental,Social,Wellness
END:VEVENT
BEGIN:VEVENT
DTSTART;TZID=UTC:20251105T130000
DTEND;TZID=UTC:20251105T140000
DTSTAMP:20260419T142127
CREATED:20241030T170614Z
LAST-MODIFIED:20241030T170614Z
UID:10012219-1762347600-1762351200@www.thespinneyatpondview.com
SUMMARY:Community Walk
DESCRIPTION:
URL:https://www.thespinneyatpondview.com/event/community-walk-3/2025-11-05/
LOCATION:The Spinney at Pond View\, 2490 Pond View\, Castleton\, NY\, 12033
CATEGORIES:Environmental,Social,Wellness
END:VEVENT
BEGIN:VEVENT
DTSTART;TZID=UTC:20251105T160000
DTEND;TZID=UTC:20251105T180000
DTSTAMP:20260419T142127
CREATED:20240402T185102Z
LAST-MODIFIED:20240403T141455Z
UID:10008720-1762358400-1762365600@www.thespinneyatpondview.com
SUMMARY:Pool and Poker
DESCRIPTION:Meet friends in The Clubhouse for pool and poker.  You can play one game\, play both or simply just sit\, watch and socialize.  Your Clubhouse is open for fun!
URL:https://www.thespinneyatpondview.com/event/pool-and-poker/2025-11-05/
LOCATION:The Spinney at Pond View\, 2490 Pond View\, Castleton\, NY\, 12033
CATEGORIES:Social
END:VEVENT
BEGIN:VEVENT
DTSTART;TZID=UTC:20251105T180000
DTEND;TZID=UTC:20251105T200000
DTSTAMP:20260419T142127
CREATED:20240402T185237Z
LAST-MODIFIED:20240403T141253Z
UID:10008981-1762365600-1762372800@www.thespinneyatpondview.com
SUMMARY:Rec Night
DESCRIPTION:Join friends in The Clubhouse to play board games\, pool\, cards or do a puzzle.  Please remember to bring your key fob for access to The Clubhouse.
URL:https://www.thespinneyatpondview.com/event/rec-night/2025-11-05/
LOCATION:The Spinney at Pond View\, 2490 Pond View\, Castleton\, NY\, 12033
CATEGORIES:Social
END:VEVENT
BEGIN:VEVENT
DTSTART;TZID=UTC:20251106T100000
DTEND;TZID=UTC:20251106T110000
DTSTAMP:20260419T142127
CREATED:20251027T140257Z
LAST-MODIFIED:20251027T140257Z
UID:10013822-1762423200-1762426800@www.thespinneyatpondview.com
SUMMARY:Chocolate Covered Cranberry Cooking Class
DESCRIPTION:
URL:https://www.thespinneyatpondview.com/event/chocolate-covered-cranberry-cooking-class/
LOCATION:The Spinney at Pond View\, 2490 Pond View\, Castleton\, NY\, 12033
CATEGORIES:Social
END:VEVENT
BEGIN:VEVENT
DTSTART;TZID=UTC:20251106T130000
DTEND;TZID=UTC:20251106T150000
DTSTAMP:20260419T142127
CREATED:20240417T140427Z
LAST-MODIFIED:20240417T140427Z
UID:10011374-1762434000-1762441200@www.thespinneyatpondview.com
SUMMARY:Movie Matinee
DESCRIPTION:Join us in The Media Room each week as we show a movie.
URL:https://www.thespinneyatpondview.com/event/movie-matinee-12/2025-11-06/
LOCATION:The Spinney at Pond View\, 2490 Pond View\, Castleton\, NY\, 12033
CATEGORIES:Intellectual,Social
END:VEVENT
BEGIN:VEVENT
DTSTART;TZID=UTC:20251108T180000
DTEND;TZID=UTC:20251108T200000
DTSTAMP:20260419T142127
CREATED:20251027T142352Z
LAST-MODIFIED:20251027T142352Z
UID:10013841-1762624800-1762632000@www.thespinneyatpondview.com
SUMMARY:Pokeno
DESCRIPTION:
URL:https://www.thespinneyatpondview.com/event/pokeno-2/
LOCATION:The Spinney at Pond View\, 2490 Pond View\, Castleton\, NY\, 12033
CATEGORIES:Social
END:VEVENT
BEGIN:VEVENT
DTSTART;TZID=UTC:20251110T103000
DTEND;TZID=UTC:20251110T120000
DTSTAMP:20260419T142127
CREATED:20251027T140511Z
LAST-MODIFIED:20251027T140511Z
UID:10013825-1762770600-1762776000@www.thespinneyatpondview.com
SUMMARY:Dot Mandela
DESCRIPTION:
URL:https://www.thespinneyatpondview.com/event/dot-mandela-3/
LOCATION:The Spinney at Pond View\, 2490 Pond View\, Castleton\, NY\, 12033
CATEGORIES:Social
END:VEVENT
BEGIN:VEVENT
DTSTART;TZID=UTC:20251110T140000
DTEND;TZID=UTC:20251110T160000
DTSTAMP:20260419T142127
CREATED:20250521T152119Z
LAST-MODIFIED:20250521T152119Z
UID:10013706-1762783200-1762790400@www.thespinneyatpondview.com
SUMMARY:Mah-Jongg
DESCRIPTION:
URL:https://www.thespinneyatpondview.com/event/mah-jongg-3/2025-11-10/
LOCATION:The Spinney at Pond View\, 2490 Pond View\, Castleton\, NY\, 12033
CATEGORIES:Social
END:VEVENT
BEGIN:VEVENT
DTSTART;TZID=UTC:20251110T183000
DTEND;TZID=UTC:20251110T203000
DTSTAMP:20260419T142127
CREATED:20230923T185926Z
LAST-MODIFIED:20230923T185926Z
UID:10001952-1762799400-1762806600@www.thespinneyatpondview.com
SUMMARY:Billiards
DESCRIPTION:A casual group meet-up of neighbors to play or learn-to-play pool in The Clubhouse.
URL:https://www.thespinneyatpondview.com/event/billiards-2/2025-11-10/
LOCATION:The Spinney at Van Dyke\, 6 Parker Mathusa Place\, Delmar\, NY\, 12054
CATEGORIES:Intellectual,Social
END:VEVENT
BEGIN:VEVENT
DTSTART;TZID=UTC:20251111T130000
DTEND;TZID=UTC:20251111T150000
DTSTAMP:20260419T142127
CREATED:20240402T184659Z
LAST-MODIFIED:20240403T145223Z
UID:10008198-1762866000-1762873200@www.thespinneyatpondview.com
SUMMARY:Games and Chess
DESCRIPTION:Meet up with friends and neighbors to play games as well as Chess.  All levels are more than welcome to join us in The Clubhouse.
URL:https://www.thespinneyatpondview.com/event/games-and-chess/2025-11-11/
LOCATION:The Spinney at Pond View\, 2490 Pond View\, Castleton\, NY\, 12033
CATEGORIES:Community,Intellectual,Social
END:VEVENT
BEGIN:VEVENT
DTSTART;TZID=UTC:20251111T143000
DTEND;TZID=UTC:20251111T180000
DTSTAMP:20260419T142127
CREATED:20230726T191503Z
LAST-MODIFIED:20230726T191503Z
UID:10001608-1762871400-1762884000@www.thespinneyatpondview.com
SUMMARY:Farmer's Market
DESCRIPTION:Local Farmer’s Markets are back – We have 2 Farmer’s Markets in town. The Tuesday Market is located at 428 Kenwood Ave and runs from 2:30 pm – 6 pm. The Saturday Market is located at the Bethlehem Central Middle School on Kenwood Ave and is open from 9 am – 1 pm.
URL:https://www.thespinneyatpondview.com/event/farmers-market-2/2025-11-11/
LOCATION:Team Members
CATEGORIES:Community,Social,Wellness
END:VEVENT
BEGIN:VEVENT
DTSTART;TZID=UTC:20251111T180000
DTEND;TZID=UTC:20251111T190000
DTSTAMP:20260419T142127
CREATED:20240402T184828Z
LAST-MODIFIED:20240403T145452Z
UID:10008459-1762884000-1762887600@www.thespinneyatpondview.com
SUMMARY:Cornhole
DESCRIPTION:Join your neighbors for a game of cornhole.  New players are always welcome!  Please bring your key fob for access to The Clubhouse.  Hopefully\, the weather will cooperate soon\, and we’ll be able to set up outside.
URL:https://www.thespinneyatpondview.com/event/cornhole/2025-11-11/
LOCATION:The Spinney at Pond View\, 2490 Pond View\, Castleton\, NY\, 12033
CATEGORIES:Social
END:VEVENT
BEGIN:VEVENT
DTSTART;TZID=UTC:20251112T130000
DTEND;TZID=UTC:20251112T140000
DTSTAMP:20260419T142127
CREATED:20240814T151251Z
LAST-MODIFIED:20240814T151251Z
UID:10011842-1762952400-1762956000@www.thespinneyatpondview.com
SUMMARY:SPV Community Walk
DESCRIPTION:We’ll meet in The Clubhouse and explore our beautiful property together.
URL:https://www.thespinneyatpondview.com/event/spv-community-walk/2025-11-12/
LOCATION:The Spinney at Pond View\, 2490 Pond View\, Castleton\, NY\, 12033
CATEGORIES:Community,Environmental,Social,Wellness
END:VEVENT
BEGIN:VEVENT
DTSTART;TZID=UTC:20251112T130000
DTEND;TZID=UTC:20251112T140000
DTSTAMP:20260419T142127
CREATED:20241030T170614Z
LAST-MODIFIED:20241030T170614Z
UID:10012220-1762952400-1762956000@www.thespinneyatpondview.com
SUMMARY:Community Walk
DESCRIPTION:
URL:https://www.thespinneyatpondview.com/event/community-walk-3/2025-11-12/
LOCATION:The Spinney at Pond View\, 2490 Pond View\, Castleton\, NY\, 12033
CATEGORIES:Environmental,Social,Wellness
END:VEVENT
BEGIN:VEVENT
DTSTART;TZID=UTC:20251112T160000
DTEND;TZID=UTC:20251112T180000
DTSTAMP:20260419T142127
CREATED:20240402T185102Z
LAST-MODIFIED:20240403T141455Z
UID:10008721-1762963200-1762970400@www.thespinneyatpondview.com
SUMMARY:Pool and Poker
DESCRIPTION:Meet friends in The Clubhouse for pool and poker.  You can play one game\, play both or simply just sit\, watch and socialize.  Your Clubhouse is open for fun!
URL:https://www.thespinneyatpondview.com/event/pool-and-poker/2025-11-12/
LOCATION:The Spinney at Pond View\, 2490 Pond View\, Castleton\, NY\, 12033
CATEGORIES:Social
END:VEVENT
BEGIN:VEVENT
DTSTART;TZID=UTC:20251112T180000
DTEND;TZID=UTC:20251112T200000
DTSTAMP:20260419T142127
CREATED:20240402T185237Z
LAST-MODIFIED:20240403T141253Z
UID:10008982-1762970400-1762977600@www.thespinneyatpondview.com
SUMMARY:Rec Night
DESCRIPTION:Join friends in The Clubhouse to play board games\, pool\, cards or do a puzzle.  Please remember to bring your key fob for access to The Clubhouse.
URL:https://www.thespinneyatpondview.com/event/rec-night/2025-11-12/
LOCATION:The Spinney at Pond View\, 2490 Pond View\, Castleton\, NY\, 12033
CATEGORIES:Social
END:VEVENT
BEGIN:VEVENT
DTSTART;TZID=UTC:20251113T130000
DTEND;TZID=UTC:20251113T140000
DTSTAMP:20260419T142127
CREATED:20251027T140644Z
LAST-MODIFIED:20251027T140644Z
UID:10013827-1763038800-1763042400@www.thespinneyatpondview.com
SUMMARY:Fikas
DESCRIPTION:
URL:https://www.thespinneyatpondview.com/event/fikas-4/
LOCATION:The Spinney at Pond View\, 2490 Pond View\, Castleton\, NY\, 12033
CATEGORIES:Social
END:VEVENT
BEGIN:VEVENT
DTSTART;TZID=UTC:20251113T130000
DTEND;TZID=UTC:20251113T150000
DTSTAMP:20260419T142127
CREATED:20240417T140427Z
LAST-MODIFIED:20240417T140427Z
UID:10011375-1763038800-1763046000@www.thespinneyatpondview.com
SUMMARY:Movie Matinee
DESCRIPTION:Join us in The Media Room each week as we show a movie.
URL:https://www.thespinneyatpondview.com/event/movie-matinee-12/2025-11-13/
LOCATION:The Spinney at Pond View\, 2490 Pond View\, Castleton\, NY\, 12033
CATEGORIES:Intellectual,Social
END:VEVENT
BEGIN:VEVENT
DTSTART;TZID=UTC:20251114T130000
DTEND;TZID=UTC:20251114T140000
DTSTAMP:20260419T142127
CREATED:20251027T140821Z
LAST-MODIFIED:20251027T140821Z
UID:10013829-1763125200-1763128800@www.thespinneyatpondview.com
SUMMARY:White Elephant Bingo
DESCRIPTION:
URL:https://www.thespinneyatpondview.com/event/white-elephant-bingo-20/
LOCATION:The Spinney at Pond View\, 2490 Pond View\, Castleton\, NY\, 12033
CATEGORIES:Social
END:VEVENT
BEGIN:VEVENT
DTSTART;TZID=UTC:20251117T140000
DTEND;TZID=UTC:20251117T160000
DTSTAMP:20260419T142127
CREATED:20250521T152119Z
LAST-MODIFIED:20250521T152119Z
UID:10013707-1763388000-1763395200@www.thespinneyatpondview.com
SUMMARY:Mah-Jongg
DESCRIPTION:
URL:https://www.thespinneyatpondview.com/event/mah-jongg-3/2025-11-17/
LOCATION:The Spinney at Pond View\, 2490 Pond View\, Castleton\, NY\, 12033
CATEGORIES:Social
END:VEVENT
BEGIN:VEVENT
DTSTART;TZID=UTC:20251117T183000
DTEND;TZID=UTC:20251117T203000
DTSTAMP:20260419T142127
CREATED:20230923T185926Z
LAST-MODIFIED:20230923T185926Z
UID:10001953-1763404200-1763411400@www.thespinneyatpondview.com
SUMMARY:Billiards
DESCRIPTION:A casual group meet-up of neighbors to play or learn-to-play pool in The Clubhouse.
URL:https://www.thespinneyatpondview.com/event/billiards-2/2025-11-17/
LOCATION:The Spinney at Van Dyke\, 6 Parker Mathusa Place\, Delmar\, NY\, 12054
CATEGORIES:Intellectual,Social
END:VEVENT
BEGIN:VEVENT
DTSTART;TZID=UTC:20251118T110000
DTEND;TZID=UTC:20251118T120000
DTSTAMP:20260419T142127
CREATED:20251027T141032Z
LAST-MODIFIED:20251027T141032Z
UID:10013832-1763463600-1763467200@www.thespinneyatpondview.com
SUMMARY:Travel Group
DESCRIPTION:
URL:https://www.thespinneyatpondview.com/event/travel-group/
LOCATION:The Spinney at Pond View\, 2490 Pond View\, Castleton\, NY\, 12033
CATEGORIES:Social
END:VEVENT
BEGIN:VEVENT
DTSTART;TZID=UTC:20251118T130000
DTEND;TZID=UTC:20251118T150000
DTSTAMP:20260419T142127
CREATED:20240402T184659Z
LAST-MODIFIED:20240403T145223Z
UID:10008199-1763470800-1763478000@www.thespinneyatpondview.com
SUMMARY:Games and Chess
DESCRIPTION:Meet up with friends and neighbors to play games as well as Chess.  All levels are more than welcome to join us in The Clubhouse.
URL:https://www.thespinneyatpondview.com/event/games-and-chess/2025-11-18/
LOCATION:The Spinney at Pond View\, 2490 Pond View\, Castleton\, NY\, 12033
CATEGORIES:Community,Intellectual,Social
END:VEVENT
END:VCALENDAR