BEGIN:VCALENDAR
VERSION:2.0
PRODID:-//The Spinney at Pond View - ECPv6.15.20//NONSGML v1.0//EN
CALSCALE:GREGORIAN
METHOD:PUBLISH
X-WR-CALNAME:The Spinney at Pond View
X-ORIGINAL-URL:https://www.thespinneyatpondview.com
X-WR-CALDESC:Events for The Spinney at Pond View
REFRESH-INTERVAL;VALUE=DURATION:PT1H
X-Robots-Tag:noindex
X-PUBLISHED-TTL:PT1H
BEGIN:VTIMEZONE
TZID:UTC
BEGIN:STANDARD
TZOFFSETFROM:+0000
TZOFFSETTO:+0000
TZNAME:UTC
DTSTART:20240101T000000
END:STANDARD
END:VTIMEZONE
BEGIN:VEVENT
DTSTART;TZID=UTC:20250828T120000
DTEND;TZID=UTC:20250828T130000
DTSTAMP:20260423T191336
CREATED:20250710T221108Z
LAST-MODIFIED:20250710T221108Z
UID:10013766-1756382400-1756386000@www.thespinneyatpondview.com
SUMMARY:White Elephant Bingo
DESCRIPTION:
URL:https://www.thespinneyatpondview.com/event/white-elephant-bingo-17/
LOCATION:The Spinney at Pond View\, 2490 Pond View\, Castleton\, NY\, 12033
CATEGORIES:Social
END:VEVENT
BEGIN:VEVENT
DTSTART;TZID=UTC:20250828T130000
DTEND;TZID=UTC:20250828T150000
DTSTAMP:20260423T191336
CREATED:20240417T140427Z
LAST-MODIFIED:20240417T140427Z
UID:10011364-1756386000-1756393200@www.thespinneyatpondview.com
SUMMARY:Movie Matinee
DESCRIPTION:Join us in The Media Room each week as we show a movie.
URL:https://www.thespinneyatpondview.com/event/movie-matinee-12/2025-08-28/
LOCATION:The Spinney at Pond View\, 2490 Pond View\, Castleton\, NY\, 12033
CATEGORIES:Intellectual,Social
END:VEVENT
END:VCALENDAR