BEGIN:VCALENDAR
VERSION:2.0
PRODID:-//The Spinney at Pond View - ECPv6.15.20//NONSGML v1.0//EN
CALSCALE:GREGORIAN
METHOD:PUBLISH
X-ORIGINAL-URL:https://www.thespinneyatpondview.com
X-WR-CALDESC:Events for The Spinney at Pond View
REFRESH-INTERVAL;VALUE=DURATION:PT1H
X-Robots-Tag:noindex
X-PUBLISHED-TTL:PT1H
BEGIN:VTIMEZONE
TZID:UTC
BEGIN:STANDARD
TZOFFSETFROM:+0000
TZOFFSETTO:+0000
TZNAME:UTC
DTSTART:20240101T000000
END:STANDARD
END:VTIMEZONE
BEGIN:VEVENT
DTSTART;TZID=UTC:20251010T170000
DTEND;TZID=UTC:20251010T180000
DTSTAMP:20260425T150851
CREATED:20250918T161459Z
LAST-MODIFIED:20250918T161459Z
UID:10013804-1760115600-1760119200@www.thespinneyatpondview.com
SUMMARY:Baked Potato Bar
DESCRIPTION:
URL:https://www.thespinneyatpondview.com/event/baked-potato-bar/
LOCATION:The Spinney at Pond View\, 2490 Pond View\, Castleton\, NY\, 12033
CATEGORIES:Social
END:VEVENT
BEGIN:VEVENT
DTSTART;TZID=UTC:20251010T180000
DTEND;TZID=UTC:20251010T190000
DTSTAMP:20260425T150851
CREATED:20250918T161547Z
LAST-MODIFIED:20250918T161547Z
UID:10013805-1760119200-1760122800@www.thespinneyatpondview.com
SUMMARY:Irish Stick Fighting
DESCRIPTION:
URL:https://www.thespinneyatpondview.com/event/irish-stick-fighting/
LOCATION:The Spinney at Pond View\, 2490 Pond View\, Castleton\, NY\, 12033
CATEGORIES:Social
END:VEVENT
END:VCALENDAR