BEGIN:VCALENDAR
VERSION:2.0
PRODID:-//The Spinney at Pond View - ECPv6.15.20//NONSGML v1.0//EN
CALSCALE:GREGORIAN
METHOD:PUBLISH
X-WR-CALNAME:The Spinney at Pond View
X-ORIGINAL-URL:https://www.thespinneyatpondview.com
X-WR-CALDESC:Events for The Spinney at Pond View
REFRESH-INTERVAL;VALUE=DURATION:PT1H
X-Robots-Tag:noindex
X-PUBLISHED-TTL:PT1H
BEGIN:VTIMEZONE
TZID:UTC
BEGIN:STANDARD
TZOFFSETFROM:+0000
TZOFFSETTO:+0000
TZNAME:UTC
DTSTART:20240101T000000
END:STANDARD
END:VTIMEZONE
BEGIN:VEVENT
DTSTART;TZID=UTC:20251208T100000
DTEND;TZID=UTC:20251208T110000
DTSTAMP:20260423T095536
CREATED:20251117T175637Z
LAST-MODIFIED:20251117T175637Z
UID:10013849-1765188000-1765191600@www.thespinneyatpondview.com
SUMMARY:Beaded Ornaments
DESCRIPTION:
URL:https://www.thespinneyatpondview.com/event/beaded-ornaments/
LOCATION:The Spinney at Pond View\, 2490 Pond View\, Castleton\, NY\, 12033
CATEGORIES:Social
END:VEVENT
BEGIN:VEVENT
DTSTART;TZID=UTC:20251208T120000
DTEND;TZID=UTC:20251208T130000
DTSTAMP:20260423T095536
CREATED:20251117T175734Z
LAST-MODIFIED:20251117T175734Z
UID:10013850-1765195200-1765198800@www.thespinneyatpondview.com
SUMMARY:Lunch & Learn with Allie B's
DESCRIPTION:
URL:https://www.thespinneyatpondview.com/event/lunch-learn-with-allie-bs/
LOCATION:The Spinney at Pond View\, 2490 Pond View\, Castleton\, NY\, 12033
CATEGORIES:Social
END:VEVENT
BEGIN:VEVENT
DTSTART;TZID=UTC:20251208T140000
DTEND;TZID=UTC:20251208T160000
DTSTAMP:20260423T095536
CREATED:20250521T152119Z
LAST-MODIFIED:20250521T152119Z
UID:10013710-1765202400-1765209600@www.thespinneyatpondview.com
SUMMARY:Mah-Jongg
DESCRIPTION:
URL:https://www.thespinneyatpondview.com/event/mah-jongg-3/2025-12-08/
LOCATION:The Spinney at Pond View\, 2490 Pond View\, Castleton\, NY\, 12033
CATEGORIES:Social
END:VEVENT
BEGIN:VEVENT
DTSTART;TZID=UTC:20251208T183000
DTEND;TZID=UTC:20251208T203000
DTSTAMP:20260423T095536
CREATED:20230923T185926Z
LAST-MODIFIED:20230923T185926Z
UID:10001956-1765218600-1765225800@www.thespinneyatpondview.com
SUMMARY:Billiards
DESCRIPTION:A casual group meet-up of neighbors to play or learn-to-play pool in The Clubhouse.
URL:https://www.thespinneyatpondview.com/event/billiards-2/2025-12-08/
LOCATION:The Spinney at Van Dyke\, 6 Parker Mathusa Place\, Delmar\, NY\, 12054
CATEGORIES:Intellectual,Social
END:VEVENT
END:VCALENDAR