BEGIN:VCALENDAR
VERSION:2.0
PRODID:-//The Spinney at Pond View - ECPv6.15.20//NONSGML v1.0//EN
CALSCALE:GREGORIAN
METHOD:PUBLISH
X-ORIGINAL-URL:https://www.thespinneyatpondview.com
X-WR-CALDESC:Events for The Spinney at Pond View
REFRESH-INTERVAL;VALUE=DURATION:PT1H
X-Robots-Tag:noindex
X-PUBLISHED-TTL:PT1H
BEGIN:VTIMEZONE
TZID:UTC
BEGIN:STANDARD
TZOFFSETFROM:+0000
TZOFFSETTO:+0000
TZNAME:UTC
DTSTART:20250101T000000
END:STANDARD
END:VTIMEZONE
BEGIN:VEVENT
DTSTART;TZID=UTC:20260102T100000
DTEND;TZID=UTC:20260102T110000
DTSTAMP:20260421T153106
CREATED:20251218T142316Z
LAST-MODIFIED:20251218T142316Z
UID:10013999-1767348000-1767351600@www.thespinneyatpondview.com
SUMMARY:Unwind and Undecorate
DESCRIPTION:
URL:https://www.thespinneyatpondview.com/event/unwind-and-undecorate/
LOCATION:The Spinney at Pond View\, 2490 Pond View\, Castleton-On-Hudson\, NY\, 12033\, United States
CATEGORIES:Social
END:VEVENT
END:VCALENDAR