BEGIN:VCALENDAR
VERSION:2.0
PRODID:-//The Spinney at Pond View - ECPv6.15.20//NONSGML v1.0//EN
CALSCALE:GREGORIAN
METHOD:PUBLISH
X-WR-CALNAME:The Spinney at Pond View
X-ORIGINAL-URL:https://www.thespinneyatpondview.com
X-WR-CALDESC:Events for The Spinney at Pond View
REFRESH-INTERVAL;VALUE=DURATION:PT1H
X-Robots-Tag:noindex
X-PUBLISHED-TTL:PT1H
BEGIN:VTIMEZONE
TZID:UTC
BEGIN:STANDARD
TZOFFSETFROM:+0000
TZOFFSETTO:+0000
TZNAME:UTC
DTSTART:20250101T000000
END:STANDARD
END:VTIMEZONE
BEGIN:VEVENT
DTSTART;TZID=UTC:20260522T130000
DTEND;TZID=UTC:20260522T143000
DTSTAMP:20260419T131830
CREATED:20260409T173053Z
LAST-MODIFIED:20260409T173053Z
UID:10014157-1779454800-1779460200@www.thespinneyatpondview.com
SUMMARY:White Elephant Bingo
DESCRIPTION:
URL:https://www.thespinneyatpondview.com/event/white-elephant-bingo-25/
LOCATION:The Spinney at Pond View\, 2490 Pond View\, Castleton\, NY\, 12033
CATEGORIES:Social
END:VEVENT
BEGIN:VEVENT
DTSTART;TZID=UTC:20260522T180000
DTEND;TZID=UTC:20260522T200000
DTSTAMP:20260419T131830
CREATED:20260409T173133Z
LAST-MODIFIED:20260409T173133Z
UID:10014158-1779472800-1779480000@www.thespinneyatpondview.com
SUMMARY:Pinochle
DESCRIPTION:
URL:https://www.thespinneyatpondview.com/event/pinochle-3/
LOCATION:The Spinney at Pond View\, 2490 Pond View\, Castleton\, NY\, 12033
CATEGORIES:Social
END:VEVENT
END:VCALENDAR