BEGIN:VCALENDAR
VERSION:2.0
PRODID:-//The Spinney at Pond View - ECPv6.15.20//NONSGML v1.0//EN
CALSCALE:GREGORIAN
METHOD:PUBLISH
X-ORIGINAL-URL:https://www.thespinneyatpondview.com
X-WR-CALDESC:Events for The Spinney at Pond View
REFRESH-INTERVAL;VALUE=DURATION:PT1H
X-Robots-Tag:noindex
X-PUBLISHED-TTL:PT1H
BEGIN:VTIMEZONE
TZID:UTC
BEGIN:STANDARD
TZOFFSETFROM:+0000
TZOFFSETTO:+0000
TZNAME:UTC
DTSTART:20240101T000000
END:STANDARD
END:VTIMEZONE
BEGIN:VEVENT
DTSTART;TZID=UTC:20250828T130000
DTEND;TZID=UTC:20250828T150000
DTSTAMP:20260423T221530
CREATED:20240417T140427Z
LAST-MODIFIED:20240417T140427Z
UID:10011364-1756386000-1756393200@www.thespinneyatpondview.com
SUMMARY:Movie Matinee
DESCRIPTION:Join us in The Media Room each week as we show a movie.
URL:https://www.thespinneyatpondview.com/event/movie-matinee-12/2025-08-28/
LOCATION:The Spinney at Pond View\, 2490 Pond View\, Castleton\, NY\, 12033
CATEGORIES:Intellectual,Social
END:VEVENT
BEGIN:VEVENT
DTSTART;TZID=UTC:20250829T130000
DTEND;TZID=UTC:20250829T150000
DTSTAMP:20260423T221530
CREATED:20250710T222553Z
LAST-MODIFIED:20250710T222553Z
UID:10013767-1756472400-1756479600@www.thespinneyatpondview.com
SUMMARY:Dog Days of Summer
DESCRIPTION:
URL:https://www.thespinneyatpondview.com/event/dog-days-of-summer/
LOCATION:The Spinney at Pond View\, 2490 Pond View\, Castleton\, NY\, 12033
CATEGORIES:Social
END:VEVENT
BEGIN:VEVENT
DTSTART;TZID=UTC:20250901T140000
DTEND;TZID=UTC:20250901T160000
DTSTAMP:20260423T221530
CREATED:20250521T152119Z
LAST-MODIFIED:20250521T152119Z
UID:10013696-1756735200-1756742400@www.thespinneyatpondview.com
SUMMARY:Mah-Jongg
DESCRIPTION:
URL:https://www.thespinneyatpondview.com/event/mah-jongg-3/2025-09-01/
LOCATION:The Spinney at Pond View\, 2490 Pond View\, Castleton\, NY\, 12033
CATEGORIES:Social
END:VEVENT
BEGIN:VEVENT
DTSTART;TZID=UTC:20250901T183000
DTEND;TZID=UTC:20250901T203000
DTSTAMP:20260423T221530
CREATED:20230923T185926Z
LAST-MODIFIED:20230923T185926Z
UID:10001942-1756751400-1756758600@www.thespinneyatpondview.com
SUMMARY:Billiards
DESCRIPTION:A casual group meet-up of neighbors to play or learn-to-play pool in The Clubhouse.
URL:https://www.thespinneyatpondview.com/event/billiards-2/2025-09-01/
LOCATION:The Spinney at Van Dyke\, 6 Parker Mathusa Place\, Delmar\, NY\, 12054
CATEGORIES:Intellectual,Social
END:VEVENT
BEGIN:VEVENT
DTSTART;TZID=UTC:20250902T130000
DTEND;TZID=UTC:20250902T150000
DTSTAMP:20260423T221530
CREATED:20240402T184659Z
LAST-MODIFIED:20240403T145223Z
UID:10008188-1756818000-1756825200@www.thespinneyatpondview.com
SUMMARY:Games and Chess
DESCRIPTION:Meet up with friends and neighbors to play games as well as Chess.  All levels are more than welcome to join us in The Clubhouse.
URL:https://www.thespinneyatpondview.com/event/games-and-chess/2025-09-02/
LOCATION:The Spinney at Pond View\, 2490 Pond View\, Castleton\, NY\, 12033
CATEGORIES:Community,Intellectual,Social
END:VEVENT
BEGIN:VEVENT
DTSTART;TZID=UTC:20250902T143000
DTEND;TZID=UTC:20250902T180000
DTSTAMP:20260423T221530
CREATED:20230726T191503Z
LAST-MODIFIED:20230726T191503Z
UID:10001598-1756823400-1756836000@www.thespinneyatpondview.com
SUMMARY:Farmer's Market
DESCRIPTION:Local Farmer’s Markets are back – We have 2 Farmer’s Markets in town. The Tuesday Market is located at 428 Kenwood Ave and runs from 2:30 pm – 6 pm. The Saturday Market is located at the Bethlehem Central Middle School on Kenwood Ave and is open from 9 am – 1 pm.
URL:https://www.thespinneyatpondview.com/event/farmers-market-2/2025-09-02/
LOCATION:Team Members
CATEGORIES:Community,Social,Wellness
END:VEVENT
BEGIN:VEVENT
DTSTART;TZID=UTC:20250902T180000
DTEND;TZID=UTC:20250902T190000
DTSTAMP:20260423T221530
CREATED:20240402T184828Z
LAST-MODIFIED:20240403T145452Z
UID:10008449-1756836000-1756839600@www.thespinneyatpondview.com
SUMMARY:Cornhole
DESCRIPTION:Join your neighbors for a game of cornhole.  New players are always welcome!  Please bring your key fob for access to The Clubhouse.  Hopefully\, the weather will cooperate soon\, and we’ll be able to set up outside.
URL:https://www.thespinneyatpondview.com/event/cornhole/2025-09-02/
LOCATION:The Spinney at Pond View\, 2490 Pond View\, Castleton\, NY\, 12033
CATEGORIES:Social
END:VEVENT
BEGIN:VEVENT
DTSTART;TZID=UTC:20250903T130000
DTEND;TZID=UTC:20250903T140000
DTSTAMP:20260423T221530
CREATED:20240814T151251Z
LAST-MODIFIED:20240814T151251Z
UID:10011832-1756904400-1756908000@www.thespinneyatpondview.com
SUMMARY:SPV Community Walk
DESCRIPTION:We’ll meet in The Clubhouse and explore our beautiful property together.
URL:https://www.thespinneyatpondview.com/event/spv-community-walk/2025-09-03/
LOCATION:The Spinney at Pond View\, 2490 Pond View\, Castleton\, NY\, 12033
CATEGORIES:Community,Environmental,Social,Wellness
END:VEVENT
BEGIN:VEVENT
DTSTART;TZID=UTC:20250903T130000
DTEND;TZID=UTC:20250903T140000
DTSTAMP:20260423T221530
CREATED:20241030T170614Z
LAST-MODIFIED:20241030T170614Z
UID:10012210-1756904400-1756908000@www.thespinneyatpondview.com
SUMMARY:Community Walk
DESCRIPTION:
URL:https://www.thespinneyatpondview.com/event/community-walk-3/2025-09-03/
LOCATION:The Spinney at Pond View\, 2490 Pond View\, Castleton\, NY\, 12033
CATEGORIES:Environmental,Social,Wellness
END:VEVENT
BEGIN:VEVENT
DTSTART;TZID=UTC:20250903T160000
DTEND;TZID=UTC:20250903T180000
DTSTAMP:20260423T221530
CREATED:20240402T185102Z
LAST-MODIFIED:20240403T141455Z
UID:10008711-1756915200-1756922400@www.thespinneyatpondview.com
SUMMARY:Pool and Poker
DESCRIPTION:Meet friends in The Clubhouse for pool and poker.  You can play one game\, play both or simply just sit\, watch and socialize.  Your Clubhouse is open for fun!
URL:https://www.thespinneyatpondview.com/event/pool-and-poker/2025-09-03/
LOCATION:The Spinney at Pond View\, 2490 Pond View\, Castleton\, NY\, 12033
CATEGORIES:Social
END:VEVENT
BEGIN:VEVENT
DTSTART;TZID=UTC:20250903T180000
DTEND;TZID=UTC:20250903T200000
DTSTAMP:20260423T221530
CREATED:20240402T185237Z
LAST-MODIFIED:20240403T141253Z
UID:10008972-1756922400-1756929600@www.thespinneyatpondview.com
SUMMARY:Rec Night
DESCRIPTION:Join friends in The Clubhouse to play board games\, pool\, cards or do a puzzle.  Please remember to bring your key fob for access to The Clubhouse.
URL:https://www.thespinneyatpondview.com/event/rec-night/2025-09-03/
LOCATION:The Spinney at Pond View\, 2490 Pond View\, Castleton\, NY\, 12033
CATEGORIES:Social
END:VEVENT
BEGIN:VEVENT
DTSTART;TZID=UTC:20250904T130000
DTEND;TZID=UTC:20250904T150000
DTSTAMP:20260423T221530
CREATED:20240417T140427Z
LAST-MODIFIED:20240417T140427Z
UID:10011365-1756990800-1756998000@www.thespinneyatpondview.com
SUMMARY:Movie Matinee
DESCRIPTION:Join us in The Media Room each week as we show a movie.
URL:https://www.thespinneyatpondview.com/event/movie-matinee-12/2025-09-04/
LOCATION:The Spinney at Pond View\, 2490 Pond View\, Castleton\, NY\, 12033
CATEGORIES:Intellectual,Social
END:VEVENT
BEGIN:VEVENT
DTSTART;TZID=UTC:20250908T140000
DTEND;TZID=UTC:20250908T160000
DTSTAMP:20260423T221530
CREATED:20250521T152119Z
LAST-MODIFIED:20250521T152119Z
UID:10013697-1757340000-1757347200@www.thespinneyatpondview.com
SUMMARY:Mah-Jongg
DESCRIPTION:
URL:https://www.thespinneyatpondview.com/event/mah-jongg-3/2025-09-08/
LOCATION:The Spinney at Pond View\, 2490 Pond View\, Castleton\, NY\, 12033
CATEGORIES:Social
END:VEVENT
BEGIN:VEVENT
DTSTART;TZID=UTC:20250908T183000
DTEND;TZID=UTC:20250908T203000
DTSTAMP:20260423T221530
CREATED:20230923T185926Z
LAST-MODIFIED:20230923T185926Z
UID:10001943-1757356200-1757363400@www.thespinneyatpondview.com
SUMMARY:Billiards
DESCRIPTION:A casual group meet-up of neighbors to play or learn-to-play pool in The Clubhouse.
URL:https://www.thespinneyatpondview.com/event/billiards-2/2025-09-08/
LOCATION:The Spinney at Van Dyke\, 6 Parker Mathusa Place\, Delmar\, NY\, 12054
CATEGORIES:Intellectual,Social
END:VEVENT
BEGIN:VEVENT
DTSTART;TZID=UTC:20250909T130000
DTEND;TZID=UTC:20250909T150000
DTSTAMP:20260423T221530
CREATED:20240402T184659Z
LAST-MODIFIED:20240403T145223Z
UID:10008189-1757422800-1757430000@www.thespinneyatpondview.com
SUMMARY:Games and Chess
DESCRIPTION:Meet up with friends and neighbors to play games as well as Chess.  All levels are more than welcome to join us in The Clubhouse.
URL:https://www.thespinneyatpondview.com/event/games-and-chess/2025-09-09/
LOCATION:The Spinney at Pond View\, 2490 Pond View\, Castleton\, NY\, 12033
CATEGORIES:Community,Intellectual,Social
END:VEVENT
BEGIN:VEVENT
DTSTART;TZID=UTC:20250909T143000
DTEND;TZID=UTC:20250909T180000
DTSTAMP:20260423T221530
CREATED:20230726T191503Z
LAST-MODIFIED:20230726T191503Z
UID:10001599-1757428200-1757440800@www.thespinneyatpondview.com
SUMMARY:Farmer's Market
DESCRIPTION:Local Farmer’s Markets are back – We have 2 Farmer’s Markets in town. The Tuesday Market is located at 428 Kenwood Ave and runs from 2:30 pm – 6 pm. The Saturday Market is located at the Bethlehem Central Middle School on Kenwood Ave and is open from 9 am – 1 pm.
URL:https://www.thespinneyatpondview.com/event/farmers-market-2/2025-09-09/
LOCATION:Team Members
CATEGORIES:Community,Social,Wellness
END:VEVENT
BEGIN:VEVENT
DTSTART;TZID=UTC:20250909T180000
DTEND;TZID=UTC:20250909T190000
DTSTAMP:20260423T221530
CREATED:20240402T184828Z
LAST-MODIFIED:20240403T145452Z
UID:10008450-1757440800-1757444400@www.thespinneyatpondview.com
SUMMARY:Cornhole
DESCRIPTION:Join your neighbors for a game of cornhole.  New players are always welcome!  Please bring your key fob for access to The Clubhouse.  Hopefully\, the weather will cooperate soon\, and we’ll be able to set up outside.
URL:https://www.thespinneyatpondview.com/event/cornhole/2025-09-09/
LOCATION:The Spinney at Pond View\, 2490 Pond View\, Castleton\, NY\, 12033
CATEGORIES:Social
END:VEVENT
BEGIN:VEVENT
DTSTART;TZID=UTC:20250910T130000
DTEND;TZID=UTC:20250910T140000
DTSTAMP:20260423T221530
CREATED:20240814T151251Z
LAST-MODIFIED:20240814T151251Z
UID:10011833-1757509200-1757512800@www.thespinneyatpondview.com
SUMMARY:SPV Community Walk
DESCRIPTION:We’ll meet in The Clubhouse and explore our beautiful property together.
URL:https://www.thespinneyatpondview.com/event/spv-community-walk/2025-09-10/
LOCATION:The Spinney at Pond View\, 2490 Pond View\, Castleton\, NY\, 12033
CATEGORIES:Community,Environmental,Social,Wellness
END:VEVENT
BEGIN:VEVENT
DTSTART;TZID=UTC:20250910T130000
DTEND;TZID=UTC:20250910T140000
DTSTAMP:20260423T221530
CREATED:20241030T170614Z
LAST-MODIFIED:20241030T170614Z
UID:10012211-1757509200-1757512800@www.thespinneyatpondview.com
SUMMARY:Community Walk
DESCRIPTION:
URL:https://www.thespinneyatpondview.com/event/community-walk-3/2025-09-10/
LOCATION:The Spinney at Pond View\, 2490 Pond View\, Castleton\, NY\, 12033
CATEGORIES:Environmental,Social,Wellness
END:VEVENT
BEGIN:VEVENT
DTSTART;TZID=UTC:20250910T160000
DTEND;TZID=UTC:20250910T180000
DTSTAMP:20260423T221530
CREATED:20240402T185102Z
LAST-MODIFIED:20240403T141455Z
UID:10008712-1757520000-1757527200@www.thespinneyatpondview.com
SUMMARY:Pool and Poker
DESCRIPTION:Meet friends in The Clubhouse for pool and poker.  You can play one game\, play both or simply just sit\, watch and socialize.  Your Clubhouse is open for fun!
URL:https://www.thespinneyatpondview.com/event/pool-and-poker/2025-09-10/
LOCATION:The Spinney at Pond View\, 2490 Pond View\, Castleton\, NY\, 12033
CATEGORIES:Social
END:VEVENT
BEGIN:VEVENT
DTSTART;TZID=UTC:20250910T180000
DTEND;TZID=UTC:20250910T200000
DTSTAMP:20260423T221530
CREATED:20240402T185237Z
LAST-MODIFIED:20240403T141253Z
UID:10008973-1757527200-1757534400@www.thespinneyatpondview.com
SUMMARY:Rec Night
DESCRIPTION:Join friends in The Clubhouse to play board games\, pool\, cards or do a puzzle.  Please remember to bring your key fob for access to The Clubhouse.
URL:https://www.thespinneyatpondview.com/event/rec-night/2025-09-10/
LOCATION:The Spinney at Pond View\, 2490 Pond View\, Castleton\, NY\, 12033
CATEGORIES:Social
END:VEVENT
BEGIN:VEVENT
DTSTART;TZID=UTC:20250911T100000
DTEND;TZID=UTC:20250911T110000
DTSTAMP:20260423T221530
CREATED:20250827T152445Z
LAST-MODIFIED:20250827T152445Z
UID:10013774-1757584800-1757588400@www.thespinneyatpondview.com
SUMMARY:Pinecone Harvest
DESCRIPTION:
URL:https://www.thespinneyatpondview.com/event/pinecone-harvest/
LOCATION:NY
CATEGORIES:Social
END:VEVENT
BEGIN:VEVENT
DTSTART;TZID=UTC:20250911T130000
DTEND;TZID=UTC:20250911T150000
DTSTAMP:20260423T221530
CREATED:20240417T140427Z
LAST-MODIFIED:20240417T140427Z
UID:10011366-1757595600-1757602800@www.thespinneyatpondview.com
SUMMARY:Movie Matinee
DESCRIPTION:Join us in The Media Room each week as we show a movie.
URL:https://www.thespinneyatpondview.com/event/movie-matinee-12/2025-09-11/
LOCATION:The Spinney at Pond View\, 2490 Pond View\, Castleton\, NY\, 12033
CATEGORIES:Intellectual,Social
END:VEVENT
BEGIN:VEVENT
DTSTART;TZID=UTC:20250915T140000
DTEND;TZID=UTC:20250915T160000
DTSTAMP:20260423T221530
CREATED:20250521T152119Z
LAST-MODIFIED:20250521T152119Z
UID:10013698-1757944800-1757952000@www.thespinneyatpondview.com
SUMMARY:Mah-Jongg
DESCRIPTION:
URL:https://www.thespinneyatpondview.com/event/mah-jongg-3/2025-09-15/
LOCATION:The Spinney at Pond View\, 2490 Pond View\, Castleton\, NY\, 12033
CATEGORIES:Social
END:VEVENT
BEGIN:VEVENT
DTSTART;TZID=UTC:20250915T183000
DTEND;TZID=UTC:20250915T203000
DTSTAMP:20260423T221530
CREATED:20230923T185926Z
LAST-MODIFIED:20230923T185926Z
UID:10001944-1757961000-1757968200@www.thespinneyatpondview.com
SUMMARY:Billiards
DESCRIPTION:A casual group meet-up of neighbors to play or learn-to-play pool in The Clubhouse.
URL:https://www.thespinneyatpondview.com/event/billiards-2/2025-09-15/
LOCATION:The Spinney at Van Dyke\, 6 Parker Mathusa Place\, Delmar\, NY\, 12054
CATEGORIES:Intellectual,Social
END:VEVENT
BEGIN:VEVENT
DTSTART;TZID=UTC:20250916T130000
DTEND;TZID=UTC:20250916T150000
DTSTAMP:20260423T221530
CREATED:20240402T184659Z
LAST-MODIFIED:20240403T145223Z
UID:10008190-1758027600-1758034800@www.thespinneyatpondview.com
SUMMARY:Games and Chess
DESCRIPTION:Meet up with friends and neighbors to play games as well as Chess.  All levels are more than welcome to join us in The Clubhouse.
URL:https://www.thespinneyatpondview.com/event/games-and-chess/2025-09-16/
LOCATION:The Spinney at Pond View\, 2490 Pond View\, Castleton\, NY\, 12033
CATEGORIES:Community,Intellectual,Social
END:VEVENT
BEGIN:VEVENT
DTSTART;TZID=UTC:20250916T143000
DTEND;TZID=UTC:20250916T180000
DTSTAMP:20260423T221530
CREATED:20230726T191503Z
LAST-MODIFIED:20230726T191503Z
UID:10001600-1758033000-1758045600@www.thespinneyatpondview.com
SUMMARY:Farmer's Market
DESCRIPTION:Local Farmer’s Markets are back – We have 2 Farmer’s Markets in town. The Tuesday Market is located at 428 Kenwood Ave and runs from 2:30 pm – 6 pm. The Saturday Market is located at the Bethlehem Central Middle School on Kenwood Ave and is open from 9 am – 1 pm.
URL:https://www.thespinneyatpondview.com/event/farmers-market-2/2025-09-16/
LOCATION:Team Members
CATEGORIES:Community,Social,Wellness
END:VEVENT
BEGIN:VEVENT
DTSTART;TZID=UTC:20250916T180000
DTEND;TZID=UTC:20250916T190000
DTSTAMP:20260423T221530
CREATED:20240402T184828Z
LAST-MODIFIED:20240403T145452Z
UID:10008451-1758045600-1758049200@www.thespinneyatpondview.com
SUMMARY:Cornhole
DESCRIPTION:Join your neighbors for a game of cornhole.  New players are always welcome!  Please bring your key fob for access to The Clubhouse.  Hopefully\, the weather will cooperate soon\, and we’ll be able to set up outside.
URL:https://www.thespinneyatpondview.com/event/cornhole/2025-09-16/
LOCATION:The Spinney at Pond View\, 2490 Pond View\, Castleton\, NY\, 12033
CATEGORIES:Social
END:VEVENT
BEGIN:VEVENT
DTSTART;TZID=UTC:20250917T130000
DTEND;TZID=UTC:20250917T140000
DTSTAMP:20260423T221530
CREATED:20240814T151251Z
LAST-MODIFIED:20240814T151251Z
UID:10011834-1758114000-1758117600@www.thespinneyatpondview.com
SUMMARY:SPV Community Walk
DESCRIPTION:We’ll meet in The Clubhouse and explore our beautiful property together.
URL:https://www.thespinneyatpondview.com/event/spv-community-walk/2025-09-17/
LOCATION:The Spinney at Pond View\, 2490 Pond View\, Castleton\, NY\, 12033
CATEGORIES:Community,Environmental,Social,Wellness
END:VEVENT
BEGIN:VEVENT
DTSTART;TZID=UTC:20250917T130000
DTEND;TZID=UTC:20250917T140000
DTSTAMP:20260423T221530
CREATED:20241030T170614Z
LAST-MODIFIED:20241030T170614Z
UID:10012212-1758114000-1758117600@www.thespinneyatpondview.com
SUMMARY:Community Walk
DESCRIPTION:
URL:https://www.thespinneyatpondview.com/event/community-walk-3/2025-09-17/
LOCATION:The Spinney at Pond View\, 2490 Pond View\, Castleton\, NY\, 12033
CATEGORIES:Environmental,Social,Wellness
END:VEVENT
END:VCALENDAR