BEGIN:VCALENDAR
VERSION:2.0
PRODID:-//The Spinney at Pond View - ECPv6.15.20//NONSGML v1.0//EN
CALSCALE:GREGORIAN
METHOD:PUBLISH
X-WR-CALNAME:The Spinney at Pond View
X-ORIGINAL-URL:https://www.thespinneyatpondview.com
X-WR-CALDESC:Events for The Spinney at Pond View
REFRESH-INTERVAL;VALUE=DURATION:PT1H
X-Robots-Tag:noindex
X-PUBLISHED-TTL:PT1H
BEGIN:VTIMEZONE
TZID:UTC
BEGIN:STANDARD
TZOFFSETFROM:+0000
TZOFFSETTO:+0000
TZNAME:UTC
DTSTART:20250101T000000
END:STANDARD
END:VTIMEZONE
BEGIN:VEVENT
DTSTART;TZID=UTC:20260520T160000
DTEND;TZID=UTC:20260520T180000
DTSTAMP:20260419T173354
CREATED:20240402T185102Z
LAST-MODIFIED:20240403T141455Z
UID:10008748-1779292800-1779300000@www.thespinneyatpondview.com
SUMMARY:Pool and Poker
DESCRIPTION:Meet friends in The Clubhouse for pool and poker.  You can play one game\, play both or simply just sit\, watch and socialize.  Your Clubhouse is open for fun!
URL:https://www.thespinneyatpondview.com/event/pool-and-poker/2026-05-20/
LOCATION:The Spinney at Pond View\, 2490 Pond View\, Castleton\, NY\, 12033
CATEGORIES:Social
END:VEVENT
BEGIN:VEVENT
DTSTART;TZID=UTC:20260520T180000
DTEND;TZID=UTC:20260520T200000
DTSTAMP:20260419T173354
CREATED:20240402T185237Z
LAST-MODIFIED:20240403T141253Z
UID:10009009-1779300000-1779307200@www.thespinneyatpondview.com
SUMMARY:Rec Night
DESCRIPTION:Join friends in The Clubhouse to play board games\, pool\, cards or do a puzzle.  Please remember to bring your key fob for access to The Clubhouse.
URL:https://www.thespinneyatpondview.com/event/rec-night/2026-05-20/
LOCATION:The Spinney at Pond View\, 2490 Pond View\, Castleton\, NY\, 12033
CATEGORIES:Social
END:VEVENT
BEGIN:VEVENT
DTSTART;TZID=UTC:20260521T120000
DTEND;TZID=UTC:20260521T140000
DTSTAMP:20260419T173354
CREATED:20260409T172950Z
LAST-MODIFIED:20260409T172950Z
UID:10014156-1779364800-1779372000@www.thespinneyatpondview.com
SUMMARY:Memorial Day Cookout & Concert
DESCRIPTION:
URL:https://www.thespinneyatpondview.com/event/memorial-day-cookout-concert/
LOCATION:The Spinney at Pond View\, 2490 Pond View\, Castleton\, NY\, 12033
CATEGORIES:Social
END:VEVENT
BEGIN:VEVENT
DTSTART;TZID=UTC:20260521T130000
DTEND;TZID=UTC:20260521T150000
DTSTAMP:20260419T173354
CREATED:20240417T140427Z
LAST-MODIFIED:20240417T140427Z
UID:10011402-1779368400-1779375600@www.thespinneyatpondview.com
SUMMARY:Movie Matinee
DESCRIPTION:Join us in The Media Room each week as we show a movie.
URL:https://www.thespinneyatpondview.com/event/movie-matinee-12/2026-05-21/
LOCATION:The Spinney at Pond View\, 2490 Pond View\, Castleton\, NY\, 12033
CATEGORIES:Intellectual,Social
END:VEVENT
BEGIN:VEVENT
DTSTART;TZID=UTC:20260521T130000
DTEND;TZID=UTC:20260521T150000
DTSTAMP:20260419T173354
CREATED:20260212T174114Z
LAST-MODIFIED:20260212T174114Z
UID:10014069-1779368400-1779375600@www.thespinneyatpondview.com
SUMMARY:Domino's
DESCRIPTION:
URL:https://www.thespinneyatpondview.com/event/dominos-3/2026-05-21/
LOCATION:The Spinney at Pond View\, 2490 Pond View\, Castleton\, NY\, 12033
CATEGORIES:Social
END:VEVENT
BEGIN:VEVENT
DTSTART;TZID=UTC:20260522T130000
DTEND;TZID=UTC:20260522T143000
DTSTAMP:20260419T173354
CREATED:20260409T173053Z
LAST-MODIFIED:20260409T173053Z
UID:10014157-1779454800-1779460200@www.thespinneyatpondview.com
SUMMARY:White Elephant Bingo
DESCRIPTION:
URL:https://www.thespinneyatpondview.com/event/white-elephant-bingo-25/
LOCATION:The Spinney at Pond View\, 2490 Pond View\, Castleton\, NY\, 12033
CATEGORIES:Social
END:VEVENT
BEGIN:VEVENT
DTSTART;TZID=UTC:20260522T180000
DTEND;TZID=UTC:20260522T200000
DTSTAMP:20260419T173354
CREATED:20260409T173133Z
LAST-MODIFIED:20260409T173133Z
UID:10014158-1779472800-1779480000@www.thespinneyatpondview.com
SUMMARY:Pinochle
DESCRIPTION:
URL:https://www.thespinneyatpondview.com/event/pinochle-3/
LOCATION:The Spinney at Pond View\, 2490 Pond View\, Castleton\, NY\, 12033
CATEGORIES:Social
END:VEVENT
BEGIN:VEVENT
DTSTART;TZID=UTC:20260525T140000
DTEND;TZID=UTC:20260525T160000
DTSTAMP:20260419T173354
CREATED:20250521T152119Z
LAST-MODIFIED:20250521T152119Z
UID:10013734-1779717600-1779724800@www.thespinneyatpondview.com
SUMMARY:Mah-Jongg
DESCRIPTION:
URL:https://www.thespinneyatpondview.com/event/mah-jongg-3/2026-05-25/
LOCATION:The Spinney at Pond View\, 2490 Pond View\, Castleton\, NY\, 12033
CATEGORIES:Social
END:VEVENT
BEGIN:VEVENT
DTSTART;TZID=UTC:20260525T183000
DTEND;TZID=UTC:20260525T203000
DTSTAMP:20260419T173354
CREATED:20230923T185926Z
LAST-MODIFIED:20230923T185926Z
UID:10001980-1779733800-1779741000@www.thespinneyatpondview.com
SUMMARY:Billiards
DESCRIPTION:A casual group meet-up of neighbors to play or learn-to-play pool in The Clubhouse.
URL:https://www.thespinneyatpondview.com/event/billiards-2/2026-05-25/
LOCATION:The Spinney at Van Dyke\, 6 Parker Mathusa Place\, Delmar\, NY\, 12054
CATEGORIES:Intellectual,Social
END:VEVENT
BEGIN:VEVENT
DTSTART;TZID=UTC:20260526T130000
DTEND;TZID=UTC:20260526T150000
DTSTAMP:20260419T173354
CREATED:20240402T184659Z
LAST-MODIFIED:20240403T145223Z
UID:10008226-1779800400-1779807600@www.thespinneyatpondview.com
SUMMARY:Games and Chess
DESCRIPTION:Meet up with friends and neighbors to play games as well as Chess.  All levels are more than welcome to join us in The Clubhouse.
URL:https://www.thespinneyatpondview.com/event/games-and-chess/2026-05-26/
LOCATION:The Spinney at Pond View\, 2490 Pond View\, Castleton\, NY\, 12033
CATEGORIES:Community,Intellectual,Social
END:VEVENT
BEGIN:VEVENT
DTSTART;TZID=UTC:20260526T143000
DTEND;TZID=UTC:20260526T180000
DTSTAMP:20260419T173354
CREATED:20230726T191503Z
LAST-MODIFIED:20230726T191503Z
UID:10001636-1779805800-1779818400@www.thespinneyatpondview.com
SUMMARY:Farmer's Market
DESCRIPTION:Local Farmer’s Markets are back – We have 2 Farmer’s Markets in town. The Tuesday Market is located at 428 Kenwood Ave and runs from 2:30 pm – 6 pm. The Saturday Market is located at the Bethlehem Central Middle School on Kenwood Ave and is open from 9 am – 1 pm.
URL:https://www.thespinneyatpondview.com/event/farmers-market-2/2026-05-26/
LOCATION:Team Members
CATEGORIES:Community,Social,Wellness
END:VEVENT
BEGIN:VEVENT
DTSTART;TZID=UTC:20260526T180000
DTEND;TZID=UTC:20260526T190000
DTSTAMP:20260419T173354
CREATED:20240402T184828Z
LAST-MODIFIED:20240403T145452Z
UID:10008487-1779818400-1779822000@www.thespinneyatpondview.com
SUMMARY:Cornhole
DESCRIPTION:Join your neighbors for a game of cornhole.  New players are always welcome!  Please bring your key fob for access to The Clubhouse.  Hopefully\, the weather will cooperate soon\, and we’ll be able to set up outside.
URL:https://www.thespinneyatpondview.com/event/cornhole/2026-05-26/
LOCATION:The Spinney at Pond View\, 2490 Pond View\, Castleton\, NY\, 12033
CATEGORIES:Social
END:VEVENT
BEGIN:VEVENT
DTSTART;TZID=UTC:20260527T093000
DTEND;TZID=UTC:20260527T103000
DTSTAMP:20260419T173354
CREATED:20260409T173219Z
LAST-MODIFIED:20260409T173219Z
UID:10014159-1779874200-1779877800@www.thespinneyatpondview.com
SUMMARY:Fresh Flower Arranging
DESCRIPTION:
URL:https://www.thespinneyatpondview.com/event/fresh-flower-arranging-7/
LOCATION:The Spinney at Pond View\, 2490 Pond View\, Castleton\, NY\, 12033
CATEGORIES:Social
END:VEVENT
BEGIN:VEVENT
DTSTART;TZID=UTC:20260527T160000
DTEND;TZID=UTC:20260527T180000
DTSTAMP:20260419T173354
CREATED:20240402T185102Z
LAST-MODIFIED:20240403T141455Z
UID:10008749-1779897600-1779904800@www.thespinneyatpondview.com
SUMMARY:Pool and Poker
DESCRIPTION:Meet friends in The Clubhouse for pool and poker.  You can play one game\, play both or simply just sit\, watch and socialize.  Your Clubhouse is open for fun!
URL:https://www.thespinneyatpondview.com/event/pool-and-poker/2026-05-27/
LOCATION:The Spinney at Pond View\, 2490 Pond View\, Castleton\, NY\, 12033
CATEGORIES:Social
END:VEVENT
BEGIN:VEVENT
DTSTART;TZID=UTC:20260527T180000
DTEND;TZID=UTC:20260527T200000
DTSTAMP:20260419T173354
CREATED:20240402T185237Z
LAST-MODIFIED:20240403T141253Z
UID:10009010-1779904800-1779912000@www.thespinneyatpondview.com
SUMMARY:Rec Night
DESCRIPTION:Join friends in The Clubhouse to play board games\, pool\, cards or do a puzzle.  Please remember to bring your key fob for access to The Clubhouse.
URL:https://www.thespinneyatpondview.com/event/rec-night/2026-05-27/
LOCATION:The Spinney at Pond View\, 2490 Pond View\, Castleton\, NY\, 12033
CATEGORIES:Social
END:VEVENT
BEGIN:VEVENT
DTSTART;TZID=UTC:20260528T130000
DTEND;TZID=UTC:20260528T150000
DTSTAMP:20260419T173354
CREATED:20240417T140427Z
LAST-MODIFIED:20240417T140427Z
UID:10011403-1779973200-1779980400@www.thespinneyatpondview.com
SUMMARY:Movie Matinee
DESCRIPTION:Join us in The Media Room each week as we show a movie.
URL:https://www.thespinneyatpondview.com/event/movie-matinee-12/2026-05-28/
LOCATION:The Spinney at Pond View\, 2490 Pond View\, Castleton\, NY\, 12033
CATEGORIES:Intellectual,Social
END:VEVENT
BEGIN:VEVENT
DTSTART;TZID=UTC:20260528T130000
DTEND;TZID=UTC:20260528T150000
DTSTAMP:20260419T173354
CREATED:20260212T174114Z
LAST-MODIFIED:20260212T174114Z
UID:10014070-1779973200-1779980400@www.thespinneyatpondview.com
SUMMARY:Domino's
DESCRIPTION:
URL:https://www.thespinneyatpondview.com/event/dominos-3/2026-05-28/
LOCATION:The Spinney at Pond View\, 2490 Pond View\, Castleton\, NY\, 12033
CATEGORIES:Social
END:VEVENT
BEGIN:VEVENT
DTSTART;TZID=UTC:20260529T160000
DTEND;TZID=UTC:20260529T173000
DTSTAMP:20260419T173354
CREATED:20260409T173305Z
LAST-MODIFIED:20260409T173305Z
UID:10014160-1780070400-1780075800@www.thespinneyatpondview.com
SUMMARY:Charcuterie & Wine
DESCRIPTION:
URL:https://www.thespinneyatpondview.com/event/charcuterie-wine/
LOCATION:The Spinney at Pond View\, 2490 Pond View\, Castleton\, NY\, 12033
CATEGORIES:Social
END:VEVENT
BEGIN:VEVENT
DTSTART;TZID=UTC:20260601T140000
DTEND;TZID=UTC:20260601T160000
DTSTAMP:20260419T173354
CREATED:20250521T152119Z
LAST-MODIFIED:20250521T152119Z
UID:10013735-1780322400-1780329600@www.thespinneyatpondview.com
SUMMARY:Mah-Jongg
DESCRIPTION:
URL:https://www.thespinneyatpondview.com/event/mah-jongg-3/2026-06-01/
LOCATION:The Spinney at Pond View\, 2490 Pond View\, Castleton\, NY\, 12033
CATEGORIES:Social
END:VEVENT
BEGIN:VEVENT
DTSTART;TZID=UTC:20260601T183000
DTEND;TZID=UTC:20260601T203000
DTSTAMP:20260419T173354
CREATED:20230923T185926Z
LAST-MODIFIED:20230923T185926Z
UID:10001981-1780338600-1780345800@www.thespinneyatpondview.com
SUMMARY:Billiards
DESCRIPTION:A casual group meet-up of neighbors to play or learn-to-play pool in The Clubhouse.
URL:https://www.thespinneyatpondview.com/event/billiards-2/2026-06-01/
LOCATION:The Spinney at Van Dyke\, 6 Parker Mathusa Place\, Delmar\, NY\, 12054
CATEGORIES:Intellectual,Social
END:VEVENT
BEGIN:VEVENT
DTSTART;TZID=UTC:20260602T130000
DTEND;TZID=UTC:20260602T150000
DTSTAMP:20260419T173354
CREATED:20240402T184659Z
LAST-MODIFIED:20240403T145223Z
UID:10008227-1780405200-1780412400@www.thespinneyatpondview.com
SUMMARY:Games and Chess
DESCRIPTION:Meet up with friends and neighbors to play games as well as Chess.  All levels are more than welcome to join us in The Clubhouse.
URL:https://www.thespinneyatpondview.com/event/games-and-chess/2026-06-02/
LOCATION:The Spinney at Pond View\, 2490 Pond View\, Castleton\, NY\, 12033
CATEGORIES:Community,Intellectual,Social
END:VEVENT
BEGIN:VEVENT
DTSTART;TZID=UTC:20260602T143000
DTEND;TZID=UTC:20260602T180000
DTSTAMP:20260419T173354
CREATED:20230726T191503Z
LAST-MODIFIED:20230726T191503Z
UID:10001637-1780410600-1780423200@www.thespinneyatpondview.com
SUMMARY:Farmer's Market
DESCRIPTION:Local Farmer’s Markets are back – We have 2 Farmer’s Markets in town. The Tuesday Market is located at 428 Kenwood Ave and runs from 2:30 pm – 6 pm. The Saturday Market is located at the Bethlehem Central Middle School on Kenwood Ave and is open from 9 am – 1 pm.
URL:https://www.thespinneyatpondview.com/event/farmers-market-2/2026-06-02/
LOCATION:Team Members
CATEGORIES:Community,Social,Wellness
END:VEVENT
BEGIN:VEVENT
DTSTART;TZID=UTC:20260602T180000
DTEND;TZID=UTC:20260602T190000
DTSTAMP:20260419T173354
CREATED:20240402T184828Z
LAST-MODIFIED:20240403T145452Z
UID:10008488-1780423200-1780426800@www.thespinneyatpondview.com
SUMMARY:Cornhole
DESCRIPTION:Join your neighbors for a game of cornhole.  New players are always welcome!  Please bring your key fob for access to The Clubhouse.  Hopefully\, the weather will cooperate soon\, and we’ll be able to set up outside.
URL:https://www.thespinneyatpondview.com/event/cornhole/2026-06-02/
LOCATION:The Spinney at Pond View\, 2490 Pond View\, Castleton\, NY\, 12033
CATEGORIES:Social
END:VEVENT
BEGIN:VEVENT
DTSTART;TZID=UTC:20260603T160000
DTEND;TZID=UTC:20260603T180000
DTSTAMP:20260419T173354
CREATED:20240402T185102Z
LAST-MODIFIED:20240403T141455Z
UID:10008750-1780502400-1780509600@www.thespinneyatpondview.com
SUMMARY:Pool and Poker
DESCRIPTION:Meet friends in The Clubhouse for pool and poker.  You can play one game\, play both or simply just sit\, watch and socialize.  Your Clubhouse is open for fun!
URL:https://www.thespinneyatpondview.com/event/pool-and-poker/2026-06-03/
LOCATION:The Spinney at Pond View\, 2490 Pond View\, Castleton\, NY\, 12033
CATEGORIES:Social
END:VEVENT
BEGIN:VEVENT
DTSTART;TZID=UTC:20260603T180000
DTEND;TZID=UTC:20260603T200000
DTSTAMP:20260419T173354
CREATED:20240402T185237Z
LAST-MODIFIED:20240403T141253Z
UID:10009011-1780509600-1780516800@www.thespinneyatpondview.com
SUMMARY:Rec Night
DESCRIPTION:Join friends in The Clubhouse to play board games\, pool\, cards or do a puzzle.  Please remember to bring your key fob for access to The Clubhouse.
URL:https://www.thespinneyatpondview.com/event/rec-night/2026-06-03/
LOCATION:The Spinney at Pond View\, 2490 Pond View\, Castleton\, NY\, 12033
CATEGORIES:Social
END:VEVENT
BEGIN:VEVENT
DTSTART;TZID=UTC:20260604T130000
DTEND;TZID=UTC:20260604T150000
DTSTAMP:20260419T173354
CREATED:20240417T140427Z
LAST-MODIFIED:20240417T140427Z
UID:10011404-1780578000-1780585200@www.thespinneyatpondview.com
SUMMARY:Movie Matinee
DESCRIPTION:Join us in The Media Room each week as we show a movie.
URL:https://www.thespinneyatpondview.com/event/movie-matinee-12/2026-06-04/
LOCATION:The Spinney at Pond View\, 2490 Pond View\, Castleton\, NY\, 12033
CATEGORIES:Intellectual,Social
END:VEVENT
BEGIN:VEVENT
DTSTART;TZID=UTC:20260604T130000
DTEND;TZID=UTC:20260604T150000
DTSTAMP:20260419T173354
CREATED:20260212T174114Z
LAST-MODIFIED:20260212T174114Z
UID:10014071-1780578000-1780585200@www.thespinneyatpondview.com
SUMMARY:Domino's
DESCRIPTION:
URL:https://www.thespinneyatpondview.com/event/dominos-3/2026-06-04/
LOCATION:The Spinney at Pond View\, 2490 Pond View\, Castleton\, NY\, 12033
CATEGORIES:Social
END:VEVENT
BEGIN:VEVENT
DTSTART;TZID=UTC:20260608T140000
DTEND;TZID=UTC:20260608T160000
DTSTAMP:20260419T173354
CREATED:20250521T152119Z
LAST-MODIFIED:20250521T152119Z
UID:10013736-1780927200-1780934400@www.thespinneyatpondview.com
SUMMARY:Mah-Jongg
DESCRIPTION:
URL:https://www.thespinneyatpondview.com/event/mah-jongg-3/2026-06-08/
LOCATION:The Spinney at Pond View\, 2490 Pond View\, Castleton\, NY\, 12033
CATEGORIES:Social
END:VEVENT
BEGIN:VEVENT
DTSTART;TZID=UTC:20260608T183000
DTEND;TZID=UTC:20260608T203000
DTSTAMP:20260419T173354
CREATED:20230923T185926Z
LAST-MODIFIED:20230923T185926Z
UID:10001982-1780943400-1780950600@www.thespinneyatpondview.com
SUMMARY:Billiards
DESCRIPTION:A casual group meet-up of neighbors to play or learn-to-play pool in The Clubhouse.
URL:https://www.thespinneyatpondview.com/event/billiards-2/2026-06-08/
LOCATION:The Spinney at Van Dyke\, 6 Parker Mathusa Place\, Delmar\, NY\, 12054
CATEGORIES:Intellectual,Social
END:VEVENT
BEGIN:VEVENT
DTSTART;TZID=UTC:20260609T130000
DTEND;TZID=UTC:20260609T150000
DTSTAMP:20260419T173354
CREATED:20240402T184659Z
LAST-MODIFIED:20240403T145223Z
UID:10008228-1781010000-1781017200@www.thespinneyatpondview.com
SUMMARY:Games and Chess
DESCRIPTION:Meet up with friends and neighbors to play games as well as Chess.  All levels are more than welcome to join us in The Clubhouse.
URL:https://www.thespinneyatpondview.com/event/games-and-chess/2026-06-09/
LOCATION:The Spinney at Pond View\, 2490 Pond View\, Castleton\, NY\, 12033
CATEGORIES:Community,Intellectual,Social
END:VEVENT
END:VCALENDAR