BEGIN:VCALENDAR
VERSION:2.0
PRODID:-//The Spinney at Pond View - ECPv6.15.20//NONSGML v1.0//EN
CALSCALE:GREGORIAN
METHOD:PUBLISH
X-WR-CALNAME:The Spinney at Pond View
X-ORIGINAL-URL:https://www.thespinneyatpondview.com
X-WR-CALDESC:Events for The Spinney at Pond View
REFRESH-INTERVAL;VALUE=DURATION:PT1H
X-Robots-Tag:noindex
X-PUBLISHED-TTL:PT1H
BEGIN:VTIMEZONE
TZID:UTC
BEGIN:STANDARD
TZOFFSETFROM:+0000
TZOFFSETTO:+0000
TZNAME:UTC
DTSTART:20250101T000000
END:STANDARD
END:VTIMEZONE
BEGIN:VEVENT
DTSTART;TZID=UTC:20260701T180000
DTEND;TZID=UTC:20260701T200000
DTSTAMP:20260422T013359
CREATED:20240402T185237Z
LAST-MODIFIED:20240403T141253Z
UID:10009015-1782928800-1782936000@www.thespinneyatpondview.com
SUMMARY:Rec Night
DESCRIPTION:Join friends in The Clubhouse to play board games\, pool\, cards or do a puzzle.  Please remember to bring your key fob for access to The Clubhouse.
URL:https://www.thespinneyatpondview.com/event/rec-night/2026-07-01/
LOCATION:The Spinney at Pond View\, 2490 Pond View\, Castleton\, NY\, 12033
CATEGORIES:Social
END:VEVENT
BEGIN:VEVENT
DTSTART;TZID=UTC:20260702T130000
DTEND;TZID=UTC:20260702T150000
DTSTAMP:20260422T013359
CREATED:20240417T140427Z
LAST-MODIFIED:20240417T140427Z
UID:10011408-1782997200-1783004400@www.thespinneyatpondview.com
SUMMARY:Movie Matinee
DESCRIPTION:Join us in The Media Room each week as we show a movie.
URL:https://www.thespinneyatpondview.com/event/movie-matinee-12/2026-07-02/
LOCATION:The Spinney at Pond View\, 2490 Pond View\, Castleton\, NY\, 12033
CATEGORIES:Intellectual,Social
END:VEVENT
BEGIN:VEVENT
DTSTART;TZID=UTC:20260702T130000
DTEND;TZID=UTC:20260702T150000
DTSTAMP:20260422T013359
CREATED:20260212T174114Z
LAST-MODIFIED:20260212T174114Z
UID:10014075-1782997200-1783004400@www.thespinneyatpondview.com
SUMMARY:Domino's
DESCRIPTION:
URL:https://www.thespinneyatpondview.com/event/dominos-3/2026-07-02/
LOCATION:The Spinney at Pond View\, 2490 Pond View\, Castleton\, NY\, 12033
CATEGORIES:Social
END:VEVENT
BEGIN:VEVENT
DTSTART;TZID=UTC:20260706T183000
DTEND;TZID=UTC:20260706T203000
DTSTAMP:20260422T013359
CREATED:20230923T185926Z
LAST-MODIFIED:20230923T185926Z
UID:10001986-1783362600-1783369800@www.thespinneyatpondview.com
SUMMARY:Billiards
DESCRIPTION:A casual group meet-up of neighbors to play or learn-to-play pool in The Clubhouse.
URL:https://www.thespinneyatpondview.com/event/billiards-2/2026-07-06/
LOCATION:The Spinney at Van Dyke\, 6 Parker Mathusa Place\, Delmar\, NY\, 12054
CATEGORIES:Intellectual,Social
END:VEVENT
BEGIN:VEVENT
DTSTART;TZID=UTC:20260707T130000
DTEND;TZID=UTC:20260707T150000
DTSTAMP:20260422T013359
CREATED:20240402T184659Z
LAST-MODIFIED:20240403T145223Z
UID:10008232-1783429200-1783436400@www.thespinneyatpondview.com
SUMMARY:Games and Chess
DESCRIPTION:Meet up with friends and neighbors to play games as well as Chess.  All levels are more than welcome to join us in The Clubhouse.
URL:https://www.thespinneyatpondview.com/event/games-and-chess/2026-07-07/
LOCATION:The Spinney at Pond View\, 2490 Pond View\, Castleton\, NY\, 12033
CATEGORIES:Community,Intellectual,Social
END:VEVENT
BEGIN:VEVENT
DTSTART;TZID=UTC:20260707T143000
DTEND;TZID=UTC:20260707T180000
DTSTAMP:20260422T013359
CREATED:20230726T191503Z
LAST-MODIFIED:20230726T191503Z
UID:10001642-1783434600-1783447200@www.thespinneyatpondview.com
SUMMARY:Farmer's Market
DESCRIPTION:Local Farmer’s Markets are back – We have 2 Farmer’s Markets in town. The Tuesday Market is located at 428 Kenwood Ave and runs from 2:30 pm – 6 pm. The Saturday Market is located at the Bethlehem Central Middle School on Kenwood Ave and is open from 9 am – 1 pm.
URL:https://www.thespinneyatpondview.com/event/farmers-market-2/2026-07-07/
LOCATION:Team Members
CATEGORIES:Community,Social,Wellness
END:VEVENT
BEGIN:VEVENT
DTSTART;TZID=UTC:20260707T180000
DTEND;TZID=UTC:20260707T190000
DTSTAMP:20260422T013359
CREATED:20240402T184828Z
LAST-MODIFIED:20240403T145452Z
UID:10008493-1783447200-1783450800@www.thespinneyatpondview.com
SUMMARY:Cornhole
DESCRIPTION:Join your neighbors for a game of cornhole.  New players are always welcome!  Please bring your key fob for access to The Clubhouse.  Hopefully\, the weather will cooperate soon\, and we’ll be able to set up outside.
URL:https://www.thespinneyatpondview.com/event/cornhole/2026-07-07/
LOCATION:The Spinney at Pond View\, 2490 Pond View\, Castleton\, NY\, 12033
CATEGORIES:Social
END:VEVENT
BEGIN:VEVENT
DTSTART;TZID=UTC:20260708T160000
DTEND;TZID=UTC:20260708T180000
DTSTAMP:20260422T013359
CREATED:20240402T185102Z
LAST-MODIFIED:20240403T141455Z
UID:10008755-1783526400-1783533600@www.thespinneyatpondview.com
SUMMARY:Pool and Poker
DESCRIPTION:Meet friends in The Clubhouse for pool and poker.  You can play one game\, play both or simply just sit\, watch and socialize.  Your Clubhouse is open for fun!
URL:https://www.thespinneyatpondview.com/event/pool-and-poker/2026-07-08/
LOCATION:The Spinney at Pond View\, 2490 Pond View\, Castleton\, NY\, 12033
CATEGORIES:Social
END:VEVENT
BEGIN:VEVENT
DTSTART;TZID=UTC:20260708T180000
DTEND;TZID=UTC:20260708T200000
DTSTAMP:20260422T013359
CREATED:20240402T185237Z
LAST-MODIFIED:20240403T141253Z
UID:10009016-1783533600-1783540800@www.thespinneyatpondview.com
SUMMARY:Rec Night
DESCRIPTION:Join friends in The Clubhouse to play board games\, pool\, cards or do a puzzle.  Please remember to bring your key fob for access to The Clubhouse.
URL:https://www.thespinneyatpondview.com/event/rec-night/2026-07-08/
LOCATION:The Spinney at Pond View\, 2490 Pond View\, Castleton\, NY\, 12033
CATEGORIES:Social
END:VEVENT
BEGIN:VEVENT
DTSTART;TZID=UTC:20260709T130000
DTEND;TZID=UTC:20260709T150000
DTSTAMP:20260422T013359
CREATED:20240417T140427Z
LAST-MODIFIED:20240417T140427Z
UID:10011409-1783602000-1783609200@www.thespinneyatpondview.com
SUMMARY:Movie Matinee
DESCRIPTION:Join us in The Media Room each week as we show a movie.
URL:https://www.thespinneyatpondview.com/event/movie-matinee-12/2026-07-09/
LOCATION:The Spinney at Pond View\, 2490 Pond View\, Castleton\, NY\, 12033
CATEGORIES:Intellectual,Social
END:VEVENT
BEGIN:VEVENT
DTSTART;TZID=UTC:20260709T130000
DTEND;TZID=UTC:20260709T150000
DTSTAMP:20260422T013359
CREATED:20260212T174114Z
LAST-MODIFIED:20260212T174114Z
UID:10014076-1783602000-1783609200@www.thespinneyatpondview.com
SUMMARY:Domino's
DESCRIPTION:
URL:https://www.thespinneyatpondview.com/event/dominos-3/2026-07-09/
LOCATION:The Spinney at Pond View\, 2490 Pond View\, Castleton\, NY\, 12033
CATEGORIES:Social
END:VEVENT
BEGIN:VEVENT
DTSTART;TZID=UTC:20260713T183000
DTEND;TZID=UTC:20260713T203000
DTSTAMP:20260422T013359
CREATED:20230923T185926Z
LAST-MODIFIED:20230923T185926Z
UID:10001987-1783967400-1783974600@www.thespinneyatpondview.com
SUMMARY:Billiards
DESCRIPTION:A casual group meet-up of neighbors to play or learn-to-play pool in The Clubhouse.
URL:https://www.thespinneyatpondview.com/event/billiards-2/2026-07-13/
LOCATION:The Spinney at Van Dyke\, 6 Parker Mathusa Place\, Delmar\, NY\, 12054
CATEGORIES:Intellectual,Social
END:VEVENT
BEGIN:VEVENT
DTSTART;TZID=UTC:20260714T130000
DTEND;TZID=UTC:20260714T150000
DTSTAMP:20260422T013359
CREATED:20240402T184659Z
LAST-MODIFIED:20240403T145223Z
UID:10008233-1784034000-1784041200@www.thespinneyatpondview.com
SUMMARY:Games and Chess
DESCRIPTION:Meet up with friends and neighbors to play games as well as Chess.  All levels are more than welcome to join us in The Clubhouse.
URL:https://www.thespinneyatpondview.com/event/games-and-chess/2026-07-14/
LOCATION:The Spinney at Pond View\, 2490 Pond View\, Castleton\, NY\, 12033
CATEGORIES:Community,Intellectual,Social
END:VEVENT
BEGIN:VEVENT
DTSTART;TZID=UTC:20260714T143000
DTEND;TZID=UTC:20260714T180000
DTSTAMP:20260422T013400
CREATED:20230726T191503Z
LAST-MODIFIED:20230726T191503Z
UID:10001643-1784039400-1784052000@www.thespinneyatpondview.com
SUMMARY:Farmer's Market
DESCRIPTION:Local Farmer’s Markets are back – We have 2 Farmer’s Markets in town. The Tuesday Market is located at 428 Kenwood Ave and runs from 2:30 pm – 6 pm. The Saturday Market is located at the Bethlehem Central Middle School on Kenwood Ave and is open from 9 am – 1 pm.
URL:https://www.thespinneyatpondview.com/event/farmers-market-2/2026-07-14/
LOCATION:Team Members
CATEGORIES:Community,Social,Wellness
END:VEVENT
BEGIN:VEVENT
DTSTART;TZID=UTC:20260714T180000
DTEND;TZID=UTC:20260714T190000
DTSTAMP:20260422T013400
CREATED:20240402T184828Z
LAST-MODIFIED:20240403T145452Z
UID:10008494-1784052000-1784055600@www.thespinneyatpondview.com
SUMMARY:Cornhole
DESCRIPTION:Join your neighbors for a game of cornhole.  New players are always welcome!  Please bring your key fob for access to The Clubhouse.  Hopefully\, the weather will cooperate soon\, and we’ll be able to set up outside.
URL:https://www.thespinneyatpondview.com/event/cornhole/2026-07-14/
LOCATION:The Spinney at Pond View\, 2490 Pond View\, Castleton\, NY\, 12033
CATEGORIES:Social
END:VEVENT
BEGIN:VEVENT
DTSTART;TZID=UTC:20260715T160000
DTEND;TZID=UTC:20260715T180000
DTSTAMP:20260422T013400
CREATED:20240402T185102Z
LAST-MODIFIED:20240403T141455Z
UID:10008756-1784131200-1784138400@www.thespinneyatpondview.com
SUMMARY:Pool and Poker
DESCRIPTION:Meet friends in The Clubhouse for pool and poker.  You can play one game\, play both or simply just sit\, watch and socialize.  Your Clubhouse is open for fun!
URL:https://www.thespinneyatpondview.com/event/pool-and-poker/2026-07-15/
LOCATION:The Spinney at Pond View\, 2490 Pond View\, Castleton\, NY\, 12033
CATEGORIES:Social
END:VEVENT
BEGIN:VEVENT
DTSTART;TZID=UTC:20260715T180000
DTEND;TZID=UTC:20260715T200000
DTSTAMP:20260422T013400
CREATED:20240402T185237Z
LAST-MODIFIED:20240403T141253Z
UID:10009017-1784138400-1784145600@www.thespinneyatpondview.com
SUMMARY:Rec Night
DESCRIPTION:Join friends in The Clubhouse to play board games\, pool\, cards or do a puzzle.  Please remember to bring your key fob for access to The Clubhouse.
URL:https://www.thespinneyatpondview.com/event/rec-night/2026-07-15/
LOCATION:The Spinney at Pond View\, 2490 Pond View\, Castleton\, NY\, 12033
CATEGORIES:Social
END:VEVENT
BEGIN:VEVENT
DTSTART;TZID=UTC:20260716T130000
DTEND;TZID=UTC:20260716T150000
DTSTAMP:20260422T013400
CREATED:20240417T140427Z
LAST-MODIFIED:20240417T140427Z
UID:10011410-1784206800-1784214000@www.thespinneyatpondview.com
SUMMARY:Movie Matinee
DESCRIPTION:Join us in The Media Room each week as we show a movie.
URL:https://www.thespinneyatpondview.com/event/movie-matinee-12/2026-07-16/
LOCATION:The Spinney at Pond View\, 2490 Pond View\, Castleton\, NY\, 12033
CATEGORIES:Intellectual,Social
END:VEVENT
BEGIN:VEVENT
DTSTART;TZID=UTC:20260716T130000
DTEND;TZID=UTC:20260716T150000
DTSTAMP:20260422T013400
CREATED:20260212T174114Z
LAST-MODIFIED:20260212T174114Z
UID:10014077-1784206800-1784214000@www.thespinneyatpondview.com
SUMMARY:Domino's
DESCRIPTION:
URL:https://www.thespinneyatpondview.com/event/dominos-3/2026-07-16/
LOCATION:The Spinney at Pond View\, 2490 Pond View\, Castleton\, NY\, 12033
CATEGORIES:Social
END:VEVENT
BEGIN:VEVENT
DTSTART;TZID=UTC:20260720T183000
DTEND;TZID=UTC:20260720T203000
DTSTAMP:20260422T013400
CREATED:20230923T185926Z
LAST-MODIFIED:20230923T185926Z
UID:10001988-1784572200-1784579400@www.thespinneyatpondview.com
SUMMARY:Billiards
DESCRIPTION:A casual group meet-up of neighbors to play or learn-to-play pool in The Clubhouse.
URL:https://www.thespinneyatpondview.com/event/billiards-2/2026-07-20/
LOCATION:The Spinney at Van Dyke\, 6 Parker Mathusa Place\, Delmar\, NY\, 12054
CATEGORIES:Intellectual,Social
END:VEVENT
BEGIN:VEVENT
DTSTART;TZID=UTC:20260721T130000
DTEND;TZID=UTC:20260721T150000
DTSTAMP:20260422T013400
CREATED:20240402T184659Z
LAST-MODIFIED:20240403T145223Z
UID:10008234-1784638800-1784646000@www.thespinneyatpondview.com
SUMMARY:Games and Chess
DESCRIPTION:Meet up with friends and neighbors to play games as well as Chess.  All levels are more than welcome to join us in The Clubhouse.
URL:https://www.thespinneyatpondview.com/event/games-and-chess/2026-07-21/
LOCATION:The Spinney at Pond View\, 2490 Pond View\, Castleton\, NY\, 12033
CATEGORIES:Community,Intellectual,Social
END:VEVENT
BEGIN:VEVENT
DTSTART;TZID=UTC:20260721T143000
DTEND;TZID=UTC:20260721T180000
DTSTAMP:20260422T013400
CREATED:20230726T191503Z
LAST-MODIFIED:20230726T191503Z
UID:10001644-1784644200-1784656800@www.thespinneyatpondview.com
SUMMARY:Farmer's Market
DESCRIPTION:Local Farmer’s Markets are back – We have 2 Farmer’s Markets in town. The Tuesday Market is located at 428 Kenwood Ave and runs from 2:30 pm – 6 pm. The Saturday Market is located at the Bethlehem Central Middle School on Kenwood Ave and is open from 9 am – 1 pm.
URL:https://www.thespinneyatpondview.com/event/farmers-market-2/2026-07-21/
LOCATION:Team Members
CATEGORIES:Community,Social,Wellness
END:VEVENT
BEGIN:VEVENT
DTSTART;TZID=UTC:20260721T180000
DTEND;TZID=UTC:20260721T190000
DTSTAMP:20260422T013400
CREATED:20240402T184828Z
LAST-MODIFIED:20240403T145452Z
UID:10008495-1784656800-1784660400@www.thespinneyatpondview.com
SUMMARY:Cornhole
DESCRIPTION:Join your neighbors for a game of cornhole.  New players are always welcome!  Please bring your key fob for access to The Clubhouse.  Hopefully\, the weather will cooperate soon\, and we’ll be able to set up outside.
URL:https://www.thespinneyatpondview.com/event/cornhole/2026-07-21/
LOCATION:The Spinney at Pond View\, 2490 Pond View\, Castleton\, NY\, 12033
CATEGORIES:Social
END:VEVENT
BEGIN:VEVENT
DTSTART;TZID=UTC:20260722T160000
DTEND;TZID=UTC:20260722T180000
DTSTAMP:20260422T013400
CREATED:20240402T185102Z
LAST-MODIFIED:20240403T141455Z
UID:10008757-1784736000-1784743200@www.thespinneyatpondview.com
SUMMARY:Pool and Poker
DESCRIPTION:Meet friends in The Clubhouse for pool and poker.  You can play one game\, play both or simply just sit\, watch and socialize.  Your Clubhouse is open for fun!
URL:https://www.thespinneyatpondview.com/event/pool-and-poker/2026-07-22/
LOCATION:The Spinney at Pond View\, 2490 Pond View\, Castleton\, NY\, 12033
CATEGORIES:Social
END:VEVENT
BEGIN:VEVENT
DTSTART;TZID=UTC:20260722T180000
DTEND;TZID=UTC:20260722T200000
DTSTAMP:20260422T013400
CREATED:20240402T185237Z
LAST-MODIFIED:20240403T141253Z
UID:10009018-1784743200-1784750400@www.thespinneyatpondview.com
SUMMARY:Rec Night
DESCRIPTION:Join friends in The Clubhouse to play board games\, pool\, cards or do a puzzle.  Please remember to bring your key fob for access to The Clubhouse.
URL:https://www.thespinneyatpondview.com/event/rec-night/2026-07-22/
LOCATION:The Spinney at Pond View\, 2490 Pond View\, Castleton\, NY\, 12033
CATEGORIES:Social
END:VEVENT
BEGIN:VEVENT
DTSTART;TZID=UTC:20260723T130000
DTEND;TZID=UTC:20260723T150000
DTSTAMP:20260422T013400
CREATED:20240417T140427Z
LAST-MODIFIED:20240417T140427Z
UID:10011411-1784811600-1784818800@www.thespinneyatpondview.com
SUMMARY:Movie Matinee
DESCRIPTION:Join us in The Media Room each week as we show a movie.
URL:https://www.thespinneyatpondview.com/event/movie-matinee-12/2026-07-23/
LOCATION:The Spinney at Pond View\, 2490 Pond View\, Castleton\, NY\, 12033
CATEGORIES:Intellectual,Social
END:VEVENT
BEGIN:VEVENT
DTSTART;TZID=UTC:20260723T130000
DTEND;TZID=UTC:20260723T150000
DTSTAMP:20260422T013400
CREATED:20260212T174114Z
LAST-MODIFIED:20260212T174114Z
UID:10014078-1784811600-1784818800@www.thespinneyatpondview.com
SUMMARY:Domino's
DESCRIPTION:
URL:https://www.thespinneyatpondview.com/event/dominos-3/2026-07-23/
LOCATION:The Spinney at Pond View\, 2490 Pond View\, Castleton\, NY\, 12033
CATEGORIES:Social
END:VEVENT
BEGIN:VEVENT
DTSTART;TZID=UTC:20260727T183000
DTEND;TZID=UTC:20260727T203000
DTSTAMP:20260422T013400
CREATED:20230923T185926Z
LAST-MODIFIED:20230923T185926Z
UID:10001989-1785177000-1785184200@www.thespinneyatpondview.com
SUMMARY:Billiards
DESCRIPTION:A casual group meet-up of neighbors to play or learn-to-play pool in The Clubhouse.
URL:https://www.thespinneyatpondview.com/event/billiards-2/2026-07-27/
LOCATION:The Spinney at Van Dyke\, 6 Parker Mathusa Place\, Delmar\, NY\, 12054
CATEGORIES:Intellectual,Social
END:VEVENT
BEGIN:VEVENT
DTSTART;TZID=UTC:20260728T130000
DTEND;TZID=UTC:20260728T150000
DTSTAMP:20260422T013400
CREATED:20240402T184659Z
LAST-MODIFIED:20240403T145223Z
UID:10008235-1785243600-1785250800@www.thespinneyatpondview.com
SUMMARY:Games and Chess
DESCRIPTION:Meet up with friends and neighbors to play games as well as Chess.  All levels are more than welcome to join us in The Clubhouse.
URL:https://www.thespinneyatpondview.com/event/games-and-chess/2026-07-28/
LOCATION:The Spinney at Pond View\, 2490 Pond View\, Castleton\, NY\, 12033
CATEGORIES:Community,Intellectual,Social
END:VEVENT
BEGIN:VEVENT
DTSTART;TZID=UTC:20260728T143000
DTEND;TZID=UTC:20260728T180000
DTSTAMP:20260422T013400
CREATED:20230726T191503Z
LAST-MODIFIED:20230726T191503Z
UID:10001645-1785249000-1785261600@www.thespinneyatpondview.com
SUMMARY:Farmer's Market
DESCRIPTION:Local Farmer’s Markets are back – We have 2 Farmer’s Markets in town. The Tuesday Market is located at 428 Kenwood Ave and runs from 2:30 pm – 6 pm. The Saturday Market is located at the Bethlehem Central Middle School on Kenwood Ave and is open from 9 am – 1 pm.
URL:https://www.thespinneyatpondview.com/event/farmers-market-2/2026-07-28/
LOCATION:Team Members
CATEGORIES:Community,Social,Wellness
END:VEVENT
END:VCALENDAR