BEGIN:VCALENDAR
VERSION:2.0
PRODID:-//The Spinney at Pond View - ECPv6.15.20//NONSGML v1.0//EN
CALSCALE:GREGORIAN
METHOD:PUBLISH
X-ORIGINAL-URL:https://www.thespinneyatpondview.com
X-WR-CALDESC:Events for The Spinney at Pond View
REFRESH-INTERVAL;VALUE=DURATION:PT1H
X-Robots-Tag:noindex
X-PUBLISHED-TTL:PT1H
BEGIN:VTIMEZONE
TZID:UTC
BEGIN:STANDARD
TZOFFSETFROM:+0000
TZOFFSETTO:+0000
TZNAME:UTC
DTSTART:20250101T000000
END:STANDARD
END:VTIMEZONE
BEGIN:VEVENT
DTSTART;TZID=UTC:20260812T180000
DTEND;TZID=UTC:20260812T200000
DTSTAMP:20260420T012634
CREATED:20240402T185237Z
LAST-MODIFIED:20240403T141253Z
UID:10009021-1786557600-1786564800@www.thespinneyatpondview.com
SUMMARY:Rec Night
DESCRIPTION:Join friends in The Clubhouse to play board games\, pool\, cards or do a puzzle.  Please remember to bring your key fob for access to The Clubhouse.
URL:https://www.thespinneyatpondview.com/event/rec-night/2026-08-12/
LOCATION:The Spinney at Pond View\, 2490 Pond View\, Castleton\, NY\, 12033
CATEGORIES:Social
END:VEVENT
BEGIN:VEVENT
DTSTART;TZID=UTC:20260813T130000
DTEND;TZID=UTC:20260813T150000
DTSTAMP:20260420T012634
CREATED:20240417T140427Z
LAST-MODIFIED:20240417T140427Z
UID:10011414-1786626000-1786633200@www.thespinneyatpondview.com
SUMMARY:Movie Matinee
DESCRIPTION:Join us in The Media Room each week as we show a movie.
URL:https://www.thespinneyatpondview.com/event/movie-matinee-12/2026-08-13/
LOCATION:The Spinney at Pond View\, 2490 Pond View\, Castleton\, NY\, 12033
CATEGORIES:Intellectual,Social
END:VEVENT
BEGIN:VEVENT
DTSTART;TZID=UTC:20260813T130000
DTEND;TZID=UTC:20260813T150000
DTSTAMP:20260420T012634
CREATED:20260212T174114Z
LAST-MODIFIED:20260212T174114Z
UID:10014081-1786626000-1786633200@www.thespinneyatpondview.com
SUMMARY:Domino's
DESCRIPTION:
URL:https://www.thespinneyatpondview.com/event/dominos-3/2026-08-13/
LOCATION:The Spinney at Pond View\, 2490 Pond View\, Castleton\, NY\, 12033
CATEGORIES:Social
END:VEVENT
BEGIN:VEVENT
DTSTART;TZID=UTC:20260817T183000
DTEND;TZID=UTC:20260817T203000
DTSTAMP:20260420T012634
CREATED:20230923T185926Z
LAST-MODIFIED:20230923T185926Z
UID:10001992-1786991400-1786998600@www.thespinneyatpondview.com
SUMMARY:Billiards
DESCRIPTION:A casual group meet-up of neighbors to play or learn-to-play pool in The Clubhouse.
URL:https://www.thespinneyatpondview.com/event/billiards-2/2026-08-17/
LOCATION:The Spinney at Van Dyke\, 6 Parker Mathusa Place\, Delmar\, NY\, 12054
CATEGORIES:Intellectual,Social
END:VEVENT
BEGIN:VEVENT
DTSTART;TZID=UTC:20260818T130000
DTEND;TZID=UTC:20260818T150000
DTSTAMP:20260420T012634
CREATED:20240402T184659Z
LAST-MODIFIED:20240403T145223Z
UID:10008238-1787058000-1787065200@www.thespinneyatpondview.com
SUMMARY:Games and Chess
DESCRIPTION:Meet up with friends and neighbors to play games as well as Chess.  All levels are more than welcome to join us in The Clubhouse.
URL:https://www.thespinneyatpondview.com/event/games-and-chess/2026-08-18/
LOCATION:The Spinney at Pond View\, 2490 Pond View\, Castleton\, NY\, 12033
CATEGORIES:Community,Intellectual,Social
END:VEVENT
BEGIN:VEVENT
DTSTART;TZID=UTC:20260818T143000
DTEND;TZID=UTC:20260818T180000
DTSTAMP:20260420T012634
CREATED:20230726T191503Z
LAST-MODIFIED:20230726T191503Z
UID:10001648-1787063400-1787076000@www.thespinneyatpondview.com
SUMMARY:Farmer's Market
DESCRIPTION:Local Farmer’s Markets are back – We have 2 Farmer’s Markets in town. The Tuesday Market is located at 428 Kenwood Ave and runs from 2:30 pm – 6 pm. The Saturday Market is located at the Bethlehem Central Middle School on Kenwood Ave and is open from 9 am – 1 pm.
URL:https://www.thespinneyatpondview.com/event/farmers-market-2/2026-08-18/
LOCATION:Team Members
CATEGORIES:Community,Social,Wellness
END:VEVENT
BEGIN:VEVENT
DTSTART;TZID=UTC:20260818T180000
DTEND;TZID=UTC:20260818T190000
DTSTAMP:20260420T012634
CREATED:20240402T184828Z
LAST-MODIFIED:20240403T145452Z
UID:10008499-1787076000-1787079600@www.thespinneyatpondview.com
SUMMARY:Cornhole
DESCRIPTION:Join your neighbors for a game of cornhole.  New players are always welcome!  Please bring your key fob for access to The Clubhouse.  Hopefully\, the weather will cooperate soon\, and we’ll be able to set up outside.
URL:https://www.thespinneyatpondview.com/event/cornhole/2026-08-18/
LOCATION:The Spinney at Pond View\, 2490 Pond View\, Castleton\, NY\, 12033
CATEGORIES:Social
END:VEVENT
BEGIN:VEVENT
DTSTART;TZID=UTC:20260819T160000
DTEND;TZID=UTC:20260819T180000
DTSTAMP:20260420T012634
CREATED:20240402T185102Z
LAST-MODIFIED:20240403T141455Z
UID:10008761-1787155200-1787162400@www.thespinneyatpondview.com
SUMMARY:Pool and Poker
DESCRIPTION:Meet friends in The Clubhouse for pool and poker.  You can play one game\, play both or simply just sit\, watch and socialize.  Your Clubhouse is open for fun!
URL:https://www.thespinneyatpondview.com/event/pool-and-poker/2026-08-19/
LOCATION:The Spinney at Pond View\, 2490 Pond View\, Castleton\, NY\, 12033
CATEGORIES:Social
END:VEVENT
BEGIN:VEVENT
DTSTART;TZID=UTC:20260819T180000
DTEND;TZID=UTC:20260819T200000
DTSTAMP:20260420T012634
CREATED:20240402T185237Z
LAST-MODIFIED:20240403T141253Z
UID:10009022-1787162400-1787169600@www.thespinneyatpondview.com
SUMMARY:Rec Night
DESCRIPTION:Join friends in The Clubhouse to play board games\, pool\, cards or do a puzzle.  Please remember to bring your key fob for access to The Clubhouse.
URL:https://www.thespinneyatpondview.com/event/rec-night/2026-08-19/
LOCATION:The Spinney at Pond View\, 2490 Pond View\, Castleton\, NY\, 12033
CATEGORIES:Social
END:VEVENT
BEGIN:VEVENT
DTSTART;TZID=UTC:20260820T130000
DTEND;TZID=UTC:20260820T150000
DTSTAMP:20260420T012634
CREATED:20240417T140427Z
LAST-MODIFIED:20240417T140427Z
UID:10011415-1787230800-1787238000@www.thespinneyatpondview.com
SUMMARY:Movie Matinee
DESCRIPTION:Join us in The Media Room each week as we show a movie.
URL:https://www.thespinneyatpondview.com/event/movie-matinee-12/2026-08-20/
LOCATION:The Spinney at Pond View\, 2490 Pond View\, Castleton\, NY\, 12033
CATEGORIES:Intellectual,Social
END:VEVENT
BEGIN:VEVENT
DTSTART;TZID=UTC:20260820T130000
DTEND;TZID=UTC:20260820T150000
DTSTAMP:20260420T012634
CREATED:20260212T174114Z
LAST-MODIFIED:20260212T174114Z
UID:10014082-1787230800-1787238000@www.thespinneyatpondview.com
SUMMARY:Domino's
DESCRIPTION:
URL:https://www.thespinneyatpondview.com/event/dominos-3/2026-08-20/
LOCATION:The Spinney at Pond View\, 2490 Pond View\, Castleton\, NY\, 12033
CATEGORIES:Social
END:VEVENT
BEGIN:VEVENT
DTSTART;TZID=UTC:20260824T183000
DTEND;TZID=UTC:20260824T203000
DTSTAMP:20260420T012634
CREATED:20230923T185926Z
LAST-MODIFIED:20230923T185926Z
UID:10001993-1787596200-1787603400@www.thespinneyatpondview.com
SUMMARY:Billiards
DESCRIPTION:A casual group meet-up of neighbors to play or learn-to-play pool in The Clubhouse.
URL:https://www.thespinneyatpondview.com/event/billiards-2/2026-08-24/
LOCATION:The Spinney at Van Dyke\, 6 Parker Mathusa Place\, Delmar\, NY\, 12054
CATEGORIES:Intellectual,Social
END:VEVENT
BEGIN:VEVENT
DTSTART;TZID=UTC:20260825T130000
DTEND;TZID=UTC:20260825T150000
DTSTAMP:20260420T012634
CREATED:20240402T184659Z
LAST-MODIFIED:20240403T145223Z
UID:10008239-1787662800-1787670000@www.thespinneyatpondview.com
SUMMARY:Games and Chess
DESCRIPTION:Meet up with friends and neighbors to play games as well as Chess.  All levels are more than welcome to join us in The Clubhouse.
URL:https://www.thespinneyatpondview.com/event/games-and-chess/2026-08-25/
LOCATION:The Spinney at Pond View\, 2490 Pond View\, Castleton\, NY\, 12033
CATEGORIES:Community,Intellectual,Social
END:VEVENT
BEGIN:VEVENT
DTSTART;TZID=UTC:20260825T143000
DTEND;TZID=UTC:20260825T180000
DTSTAMP:20260420T012634
CREATED:20230726T191503Z
LAST-MODIFIED:20230726T191503Z
UID:10001649-1787668200-1787680800@www.thespinneyatpondview.com
SUMMARY:Farmer's Market
DESCRIPTION:Local Farmer’s Markets are back – We have 2 Farmer’s Markets in town. The Tuesday Market is located at 428 Kenwood Ave and runs from 2:30 pm – 6 pm. The Saturday Market is located at the Bethlehem Central Middle School on Kenwood Ave and is open from 9 am – 1 pm.
URL:https://www.thespinneyatpondview.com/event/farmers-market-2/2026-08-25/
LOCATION:Team Members
CATEGORIES:Community,Social,Wellness
END:VEVENT
BEGIN:VEVENT
DTSTART;TZID=UTC:20260825T180000
DTEND;TZID=UTC:20260825T190000
DTSTAMP:20260420T012634
CREATED:20240402T184828Z
LAST-MODIFIED:20240403T145452Z
UID:10008500-1787680800-1787684400@www.thespinneyatpondview.com
SUMMARY:Cornhole
DESCRIPTION:Join your neighbors for a game of cornhole.  New players are always welcome!  Please bring your key fob for access to The Clubhouse.  Hopefully\, the weather will cooperate soon\, and we’ll be able to set up outside.
URL:https://www.thespinneyatpondview.com/event/cornhole/2026-08-25/
LOCATION:The Spinney at Pond View\, 2490 Pond View\, Castleton\, NY\, 12033
CATEGORIES:Social
END:VEVENT
BEGIN:VEVENT
DTSTART;TZID=UTC:20260826T160000
DTEND;TZID=UTC:20260826T180000
DTSTAMP:20260420T012634
CREATED:20240402T185102Z
LAST-MODIFIED:20240403T141455Z
UID:10008762-1787760000-1787767200@www.thespinneyatpondview.com
SUMMARY:Pool and Poker
DESCRIPTION:Meet friends in The Clubhouse for pool and poker.  You can play one game\, play both or simply just sit\, watch and socialize.  Your Clubhouse is open for fun!
URL:https://www.thespinneyatpondview.com/event/pool-and-poker/2026-08-26/
LOCATION:The Spinney at Pond View\, 2490 Pond View\, Castleton\, NY\, 12033
CATEGORIES:Social
END:VEVENT
BEGIN:VEVENT
DTSTART;TZID=UTC:20260826T180000
DTEND;TZID=UTC:20260826T200000
DTSTAMP:20260420T012634
CREATED:20240402T185237Z
LAST-MODIFIED:20240403T141253Z
UID:10009023-1787767200-1787774400@www.thespinneyatpondview.com
SUMMARY:Rec Night
DESCRIPTION:Join friends in The Clubhouse to play board games\, pool\, cards or do a puzzle.  Please remember to bring your key fob for access to The Clubhouse.
URL:https://www.thespinneyatpondview.com/event/rec-night/2026-08-26/
LOCATION:The Spinney at Pond View\, 2490 Pond View\, Castleton\, NY\, 12033
CATEGORIES:Social
END:VEVENT
BEGIN:VEVENT
DTSTART;TZID=UTC:20260827T130000
DTEND;TZID=UTC:20260827T150000
DTSTAMP:20260420T012634
CREATED:20240417T140427Z
LAST-MODIFIED:20240417T140427Z
UID:10011416-1787835600-1787842800@www.thespinneyatpondview.com
SUMMARY:Movie Matinee
DESCRIPTION:Join us in The Media Room each week as we show a movie.
URL:https://www.thespinneyatpondview.com/event/movie-matinee-12/2026-08-27/
LOCATION:The Spinney at Pond View\, 2490 Pond View\, Castleton\, NY\, 12033
CATEGORIES:Intellectual,Social
END:VEVENT
BEGIN:VEVENT
DTSTART;TZID=UTC:20260827T130000
DTEND;TZID=UTC:20260827T150000
DTSTAMP:20260420T012634
CREATED:20260212T174114Z
LAST-MODIFIED:20260212T174114Z
UID:10014083-1787835600-1787842800@www.thespinneyatpondview.com
SUMMARY:Domino's
DESCRIPTION:
URL:https://www.thespinneyatpondview.com/event/dominos-3/2026-08-27/
LOCATION:The Spinney at Pond View\, 2490 Pond View\, Castleton\, NY\, 12033
CATEGORIES:Social
END:VEVENT
BEGIN:VEVENT
DTSTART;TZID=UTC:20260831T183000
DTEND;TZID=UTC:20260831T203000
DTSTAMP:20260420T012634
CREATED:20230923T185926Z
LAST-MODIFIED:20230923T185926Z
UID:10001994-1788201000-1788208200@www.thespinneyatpondview.com
SUMMARY:Billiards
DESCRIPTION:A casual group meet-up of neighbors to play or learn-to-play pool in The Clubhouse.
URL:https://www.thespinneyatpondview.com/event/billiards-2/2026-08-31/
LOCATION:The Spinney at Van Dyke\, 6 Parker Mathusa Place\, Delmar\, NY\, 12054
CATEGORIES:Intellectual,Social
END:VEVENT
BEGIN:VEVENT
DTSTART;TZID=UTC:20260901T130000
DTEND;TZID=UTC:20260901T150000
DTSTAMP:20260420T012634
CREATED:20240402T184659Z
LAST-MODIFIED:20240403T145223Z
UID:10008240-1788267600-1788274800@www.thespinneyatpondview.com
SUMMARY:Games and Chess
DESCRIPTION:Meet up with friends and neighbors to play games as well as Chess.  All levels are more than welcome to join us in The Clubhouse.
URL:https://www.thespinneyatpondview.com/event/games-and-chess/2026-09-01/
LOCATION:The Spinney at Pond View\, 2490 Pond View\, Castleton\, NY\, 12033
CATEGORIES:Community,Intellectual,Social
END:VEVENT
BEGIN:VEVENT
DTSTART;TZID=UTC:20260901T143000
DTEND;TZID=UTC:20260901T180000
DTSTAMP:20260420T012634
CREATED:20230726T191503Z
LAST-MODIFIED:20230726T191503Z
UID:10001650-1788273000-1788285600@www.thespinneyatpondview.com
SUMMARY:Farmer's Market
DESCRIPTION:Local Farmer’s Markets are back – We have 2 Farmer’s Markets in town. The Tuesday Market is located at 428 Kenwood Ave and runs from 2:30 pm – 6 pm. The Saturday Market is located at the Bethlehem Central Middle School on Kenwood Ave and is open from 9 am – 1 pm.
URL:https://www.thespinneyatpondview.com/event/farmers-market-2/2026-09-01/
LOCATION:Team Members
CATEGORIES:Community,Social,Wellness
END:VEVENT
BEGIN:VEVENT
DTSTART;TZID=UTC:20260901T180000
DTEND;TZID=UTC:20260901T190000
DTSTAMP:20260420T012634
CREATED:20240402T184828Z
LAST-MODIFIED:20240403T145452Z
UID:10008501-1788285600-1788289200@www.thespinneyatpondview.com
SUMMARY:Cornhole
DESCRIPTION:Join your neighbors for a game of cornhole.  New players are always welcome!  Please bring your key fob for access to The Clubhouse.  Hopefully\, the weather will cooperate soon\, and we’ll be able to set up outside.
URL:https://www.thespinneyatpondview.com/event/cornhole/2026-09-01/
LOCATION:The Spinney at Pond View\, 2490 Pond View\, Castleton\, NY\, 12033
CATEGORIES:Social
END:VEVENT
BEGIN:VEVENT
DTSTART;TZID=UTC:20260902T160000
DTEND;TZID=UTC:20260902T180000
DTSTAMP:20260420T012634
CREATED:20240402T185102Z
LAST-MODIFIED:20240403T141455Z
UID:10008763-1788364800-1788372000@www.thespinneyatpondview.com
SUMMARY:Pool and Poker
DESCRIPTION:Meet friends in The Clubhouse for pool and poker.  You can play one game\, play both or simply just sit\, watch and socialize.  Your Clubhouse is open for fun!
URL:https://www.thespinneyatpondview.com/event/pool-and-poker/2026-09-02/
LOCATION:The Spinney at Pond View\, 2490 Pond View\, Castleton\, NY\, 12033
CATEGORIES:Social
END:VEVENT
BEGIN:VEVENT
DTSTART;TZID=UTC:20260902T180000
DTEND;TZID=UTC:20260902T200000
DTSTAMP:20260420T012634
CREATED:20240402T185237Z
LAST-MODIFIED:20240403T141253Z
UID:10009024-1788372000-1788379200@www.thespinneyatpondview.com
SUMMARY:Rec Night
DESCRIPTION:Join friends in The Clubhouse to play board games\, pool\, cards or do a puzzle.  Please remember to bring your key fob for access to The Clubhouse.
URL:https://www.thespinneyatpondview.com/event/rec-night/2026-09-02/
LOCATION:The Spinney at Pond View\, 2490 Pond View\, Castleton\, NY\, 12033
CATEGORIES:Social
END:VEVENT
BEGIN:VEVENT
DTSTART;TZID=UTC:20260903T130000
DTEND;TZID=UTC:20260903T150000
DTSTAMP:20260420T012634
CREATED:20240417T140427Z
LAST-MODIFIED:20240417T140427Z
UID:10011417-1788440400-1788447600@www.thespinneyatpondview.com
SUMMARY:Movie Matinee
DESCRIPTION:Join us in The Media Room each week as we show a movie.
URL:https://www.thespinneyatpondview.com/event/movie-matinee-12/2026-09-03/
LOCATION:The Spinney at Pond View\, 2490 Pond View\, Castleton\, NY\, 12033
CATEGORIES:Intellectual,Social
END:VEVENT
BEGIN:VEVENT
DTSTART;TZID=UTC:20260903T130000
DTEND;TZID=UTC:20260903T150000
DTSTAMP:20260420T012634
CREATED:20260212T174114Z
LAST-MODIFIED:20260212T174114Z
UID:10014084-1788440400-1788447600@www.thespinneyatpondview.com
SUMMARY:Domino's
DESCRIPTION:
URL:https://www.thespinneyatpondview.com/event/dominos-3/2026-09-03/
LOCATION:The Spinney at Pond View\, 2490 Pond View\, Castleton\, NY\, 12033
CATEGORIES:Social
END:VEVENT
BEGIN:VEVENT
DTSTART;TZID=UTC:20260907T183000
DTEND;TZID=UTC:20260907T203000
DTSTAMP:20260420T012634
CREATED:20230923T185926Z
LAST-MODIFIED:20230923T185926Z
UID:10001995-1788805800-1788813000@www.thespinneyatpondview.com
SUMMARY:Billiards
DESCRIPTION:A casual group meet-up of neighbors to play or learn-to-play pool in The Clubhouse.
URL:https://www.thespinneyatpondview.com/event/billiards-2/2026-09-07/
LOCATION:The Spinney at Van Dyke\, 6 Parker Mathusa Place\, Delmar\, NY\, 12054
CATEGORIES:Intellectual,Social
END:VEVENT
BEGIN:VEVENT
DTSTART;TZID=UTC:20260908T130000
DTEND;TZID=UTC:20260908T150000
DTSTAMP:20260420T012634
CREATED:20240402T184659Z
LAST-MODIFIED:20240403T145223Z
UID:10008241-1788872400-1788879600@www.thespinneyatpondview.com
SUMMARY:Games and Chess
DESCRIPTION:Meet up with friends and neighbors to play games as well as Chess.  All levels are more than welcome to join us in The Clubhouse.
URL:https://www.thespinneyatpondview.com/event/games-and-chess/2026-09-08/
LOCATION:The Spinney at Pond View\, 2490 Pond View\, Castleton\, NY\, 12033
CATEGORIES:Community,Intellectual,Social
END:VEVENT
BEGIN:VEVENT
DTSTART;TZID=UTC:20260908T143000
DTEND;TZID=UTC:20260908T180000
DTSTAMP:20260420T012634
CREATED:20230726T191503Z
LAST-MODIFIED:20230726T191503Z
UID:10001651-1788877800-1788890400@www.thespinneyatpondview.com
SUMMARY:Farmer's Market
DESCRIPTION:Local Farmer’s Markets are back – We have 2 Farmer’s Markets in town. The Tuesday Market is located at 428 Kenwood Ave and runs from 2:30 pm – 6 pm. The Saturday Market is located at the Bethlehem Central Middle School on Kenwood Ave and is open from 9 am – 1 pm.
URL:https://www.thespinneyatpondview.com/event/farmers-market-2/2026-09-08/
LOCATION:Team Members
CATEGORIES:Community,Social,Wellness
END:VEVENT
END:VCALENDAR