BEGIN:VCALENDAR
VERSION:2.0
PRODID:-//The Spinney at Pond View - ECPv6.15.20//NONSGML v1.0//EN
CALSCALE:GREGORIAN
METHOD:PUBLISH
X-ORIGINAL-URL:https://www.thespinneyatpondview.com
X-WR-CALDESC:Events for The Spinney at Pond View
REFRESH-INTERVAL;VALUE=DURATION:PT1H
X-Robots-Tag:noindex
X-PUBLISHED-TTL:PT1H
BEGIN:VTIMEZONE
TZID:UTC
BEGIN:STANDARD
TZOFFSETFROM:+0000
TZOFFSETTO:+0000
TZNAME:UTC
DTSTART:20230101T000000
END:STANDARD
END:VTIMEZONE
BEGIN:VTIMEZONE
TZID:America/New_York
BEGIN:DAYLIGHT
TZOFFSETFROM:-0500
TZOFFSETTO:-0400
TZNAME:EDT
DTSTART:20230312T070000
END:DAYLIGHT
BEGIN:STANDARD
TZOFFSETFROM:-0400
TZOFFSETTO:-0500
TZNAME:EST
DTSTART:20231105T060000
END:STANDARD
BEGIN:DAYLIGHT
TZOFFSETFROM:-0500
TZOFFSETTO:-0400
TZNAME:EDT
DTSTART:20240310T070000
END:DAYLIGHT
BEGIN:STANDARD
TZOFFSETFROM:-0400
TZOFFSETTO:-0500
TZNAME:EST
DTSTART:20241103T060000
END:STANDARD
BEGIN:DAYLIGHT
TZOFFSETFROM:-0500
TZOFFSETTO:-0400
TZNAME:EDT
DTSTART:20250309T070000
END:DAYLIGHT
BEGIN:STANDARD
TZOFFSETFROM:-0400
TZOFFSETTO:-0500
TZNAME:EST
DTSTART:20251102T060000
END:STANDARD
END:VTIMEZONE
BEGIN:VEVENT
DTSTART;TZID=UTC:20240615T110000
DTEND;TZID=UTC:20240615T120000
DTSTAMP:20260419T160326
CREATED:20240531T131313Z
LAST-MODIFIED:20240531T131313Z
UID:10011703-1718449200-1718452800@www.thespinneyatpondview.com
SUMMARY:Chair Yoga
DESCRIPTION:
URL:https://www.thespinneyatpondview.com/event/chair-yoga-2/
LOCATION:The Spinney at Pond View\, 2490 Pond View\, Castleton\, NY\, 12033
CATEGORIES:Wellness
END:VEVENT
BEGIN:VEVENT
DTSTART;TZID=UTC:20240615T120000
DTEND;TZID=UTC:20240615T210000
DTSTAMP:20260419T160326
CREATED:20240531T131221Z
LAST-MODIFIED:20240531T131221Z
UID:10011702-1718452800-1718485200@www.thespinneyatpondview.com
SUMMARY:Clubhouse Private Event
DESCRIPTION:
URL:https://www.thespinneyatpondview.com/event/clubhouse-private-event/
LOCATION:The Spinney at Pond View\, 2490 Pond View\, Castleton\, NY\, 12033
CATEGORIES:Social
END:VEVENT
BEGIN:VEVENT
DTSTART;TZID=UTC:20240616T080000
DTEND;TZID=UTC:20240616T140000
DTSTAMP:20260419T160326
CREATED:20240531T133934Z
LAST-MODIFIED:20240531T133934Z
UID:10011719-1718524800-1718546400@www.thespinneyatpondview.com
SUMMARY:Crisp Canoli Cruise Out
DESCRIPTION:
URL:https://www.thespinneyatpondview.com/event/crisp-canoli-cruise-out/
LOCATION:Crisp Canoli\, 1 Springhurst Drive\, East Greenbush\, 12061\, United States
CATEGORIES:Community
END:VEVENT
BEGIN:VEVENT
DTSTART;TZID=UTC:20240617T103000
DTEND;TZID=UTC:20240617T111500
DTSTAMP:20260419T160326
CREATED:20240531T131456Z
LAST-MODIFIED:20240531T131456Z
UID:10011705-1718620200-1718622900@www.thespinneyatpondview.com
SUMMARY:Chair Pilates
DESCRIPTION:
URL:https://www.thespinneyatpondview.com/event/chair-pilates/
LOCATION:The Spinney at Pond View\, 2490 Pond View\, Castleton\, NY\, 12033
CATEGORIES:Wellness
END:VEVENT
BEGIN:VEVENT
DTSTART;TZID=UTC:20240617T111500
DTEND;TZID=UTC:20240617T120000
DTSTAMP:20260419T160326
CREATED:20240402T183358Z
LAST-MODIFIED:20240403T143002Z
UID:10007076-1718622900-1718625600@www.thespinneyatpondview.com
SUMMARY:Spinney Strength
DESCRIPTION:Free for LiveWell Group residents!  Join us for a strength training class for all levels and abilities.  The loss of muscle mass as we age can impact our health.  it can increase your risk for more injuries or not being able to heal as well from injuries or medical treatments as well as your balance and energy levels.  Aerobic and strength exercises (standing or sitting) will be taught by a certified instructor.
URL:https://www.thespinneyatpondview.com/event/spinney-strength-3/2024-06-17/
LOCATION:The Spinney at Pond View\, 2490 Pond View\, Castleton\, NY\, 12033
CATEGORIES:Wellness
END:VEVENT
BEGIN:VEVENT
DTSTART;TZID=UTC:20240617T130000
DTEND;TZID=UTC:20240617T140000
DTSTAMP:20260419T160326
CREATED:20230726T190137Z
LAST-MODIFIED:20230726T190137Z
UID:10000656-1718629200-1718632800@www.thespinneyatpondview.com
SUMMARY:Scrabble
DESCRIPTION:Meet-up with neighbors for a game of Scrabble.
URL:https://www.thespinneyatpondview.com/event/scrabble/2024-06-17/
LOCATION:The Spinney at Van Dyke\, 6 Parker Mathusa Place\, Delmar\, NY\, 12054
CATEGORIES:Intellectual
END:VEVENT
BEGIN:VEVENT
DTSTART;TZID=UTC:20240617T130000
DTEND;TZID=UTC:20240617T150000
DTSTAMP:20260419T160326
CREATED:20240402T183708Z
LAST-MODIFIED:20240403T143832Z
UID:10007338-1718629200-1718636400@www.thespinneyatpondview.com
SUMMARY:Craft Club
DESCRIPTION:Bring a craft to work on with friends.  This is a casual group meet-up\, and new residents are always welcome to join.  During the chilly days\, sit by the fireplace and catch up with friends while you knit\, crochet \, or just socialize.
URL:https://www.thespinneyatpondview.com/event/craft-club-5/2024-06-17/
LOCATION:The Spinney at Pond View\, 2490 Pond View\, Castleton\, NY\, 12033
END:VEVENT
BEGIN:VEVENT
DTSTART;TZID=UTC:20240617T180000
DTEND;TZID=UTC:20240617T200000
DTSTAMP:20260419T160326
CREATED:20240402T183951Z
LAST-MODIFIED:20240403T153807Z
UID:10007600-1718647200-1718654400@www.thespinneyatpondview.com
SUMMARY:Bingo
DESCRIPTION:Every Monday at 6:00pm\, join in the fun and play BINGO!  This is held in The Clubhouse. Please remember to bring your key fob for access!
URL:https://www.thespinneyatpondview.com/event/bingo-4/2024-06-17/
LOCATION:The Spinney at Pond View\, 2490 Pond View\, Castleton\, NY\, 12033
END:VEVENT
BEGIN:VEVENT
DTSTART;TZID=UTC:20240617T183000
DTEND;TZID=UTC:20240617T203000
DTSTAMP:20260419T160326
CREATED:20230923T185926Z
LAST-MODIFIED:20230923T185926Z
UID:10001879-1718649000-1718656200@www.thespinneyatpondview.com
SUMMARY:Billiards
DESCRIPTION:A casual group meet-up of neighbors to play or learn-to-play pool in The Clubhouse.
URL:https://www.thespinneyatpondview.com/event/billiards-2/2024-06-17/
LOCATION:The Spinney at Van Dyke\, 6 Parker Mathusa Place\, Delmar\, NY\, 12054
CATEGORIES:Intellectual,Social
END:VEVENT
BEGIN:VEVENT
DTSTART;TZID=UTC:20240618T090000
DTEND;TZID=UTC:20240618T100000
DTSTAMP:20260419T160326
CREATED:20240402T185647Z
LAST-MODIFIED:20240403T144455Z
UID:10009180-1718701200-1718704800@www.thespinneyatpondview.com
SUMMARY:Healthy Bones
DESCRIPTION:Healthy Bones – Every Tuesday & Thursday @ 9am-10am or 10am-11am.  Free for Spinney at PondView Residents! An excellent class taught by experienced instructors.  Class is held in the Media Room.
URL:https://www.thespinneyatpondview.com/event/healthy-bones-6/2024-06-18/
LOCATION:The Spinney at Pond View\, 2490 Pond View\, Castleton\, NY\, 12033
CATEGORIES:Wellness
END:VEVENT
BEGIN:VEVENT
DTSTART;TZID=UTC:20240618T100000
DTEND;TZID=UTC:20240618T110000
DTSTAMP:20260419T160326
CREATED:20230726T185526Z
LAST-MODIFIED:20230726T185526Z
UID:10000094-1718704800-1718708400@www.thespinneyatpondview.com
SUMMARY:Chair Yoga
DESCRIPTION:Free for Spinney Group Residents! An excellent yoga class taught by a highly regarded instructor. Held in The Great Room.
URL:https://www.thespinneyatpondview.com/event/chair-yoga/2024-06-18/
LOCATION:The Spinney at Van Dyke\, 6 Parker Mathusa Place\, Delmar\, NY\, 12054
CATEGORIES:Wellness
END:VEVENT
BEGIN:VEVENT
DTSTART;TZID=UTC:20240618T100000
DTEND;TZID=UTC:20240618T110000
DTSTAMP:20260419T160326
CREATED:20240402T184250Z
LAST-MODIFIED:20240417T132430Z
UID:10009969-1718704800-1718708400@www.thespinneyatpondview.com
SUMMARY:Healthy Bones
DESCRIPTION:Healthy Bones – Every Tuesday & Thursday @ 9am-10am or 10am-11am.  Free for Spinney at PondView Residents! An excellent class taught by experienced instructors.  Class is held in the Media Room.
URL:https://www.thespinneyatpondview.com/event/healthy-bones-5/2024-06-18/
LOCATION:The Spinney at Pond View\, 2490 Pond View\, Castleton\, NY\, 12033
CATEGORIES:Wellness
END:VEVENT
BEGIN:VEVENT
DTSTART;TZID=UTC:20240618T110000
DTEND;TZID=UTC:20240618T130000
DTSTAMP:20260419T160326
CREATED:20230726T185744Z
LAST-MODIFIED:20230726T185744Z
UID:10000375-1718708400-1718715600@www.thespinneyatpondview.com
SUMMARY:Piano Lessons
DESCRIPTION:Spots available for new students. Free for residents. Contact Erin for more information.
URL:https://www.thespinneyatpondview.com/event/piano-lessons/2024-06-18/
LOCATION:The Spinney at Van Dyke\, 6 Parker Mathusa Place\, Delmar\, NY\, 12054
CATEGORIES:Intellectual
END:VEVENT
BEGIN:VEVENT
DTSTART;TZID=UTC:20240618T130000
DTEND;TZID=UTC:20240618T150000
DTSTAMP:20260419T160326
CREATED:20240402T184659Z
LAST-MODIFIED:20240403T145223Z
UID:10008125-1718715600-1718722800@www.thespinneyatpondview.com
SUMMARY:Games and Chess
DESCRIPTION:Meet up with friends and neighbors to play games as well as Chess.  All levels are more than welcome to join us in The Clubhouse.
URL:https://www.thespinneyatpondview.com/event/games-and-chess/2024-06-18/
LOCATION:The Spinney at Pond View\, 2490 Pond View\, Castleton\, NY\, 12033
CATEGORIES:Community,Intellectual,Social
END:VEVENT
BEGIN:VEVENT
DTSTART;TZID=UTC:20240618T130000
DTEND;TZID=UTC:20240618T150000
DTSTAMP:20260419T160326
CREATED:20240531T131546Z
LAST-MODIFIED:20240531T131546Z
UID:10011706-1718715600-1718722800@www.thespinneyatpondview.com
SUMMARY:Alzheimer's Disease Research Center
DESCRIPTION:
URL:https://www.thespinneyatpondview.com/event/alzheimers-disease-research-center/
LOCATION:The Spinney at Pond View\, 2490 Pond View\, Castleton\, NY\, 12033
CATEGORIES:Intellectual
END:VEVENT
BEGIN:VEVENT
DTSTART;TZID=UTC:20240618T143000
DTEND;TZID=UTC:20240618T180000
DTSTAMP:20260419T160326
CREATED:20230726T191503Z
LAST-MODIFIED:20230726T191503Z
UID:10001535-1718721000-1718733600@www.thespinneyatpondview.com
SUMMARY:Farmer's Market
DESCRIPTION:Local Farmer’s Markets are back – We have 2 Farmer’s Markets in town. The Tuesday Market is located at 428 Kenwood Ave and runs from 2:30 pm – 6 pm. The Saturday Market is located at the Bethlehem Central Middle School on Kenwood Ave and is open from 9 am – 1 pm.
URL:https://www.thespinneyatpondview.com/event/farmers-market-2/2024-06-18/
LOCATION:Team Members
CATEGORIES:Community,Social,Wellness
END:VEVENT
BEGIN:VEVENT
DTSTART;TZID=UTC:20240618T160000
DTEND;TZID=UTC:20240618T190000
DTSTAMP:20260419T160326
CREATED:20240531T134442Z
LAST-MODIFIED:20240531T134442Z
UID:10011722-1718726400-1718737200@www.thespinneyatpondview.com
SUMMARY:Schodack Community Market
DESCRIPTION:
URL:https://www.thespinneyatpondview.com/event/schodack-community-market/2024-06-18/
LOCATION:Schodack Community Market\, 1836 Columbia Turnpike\, Castleton\, NY\, 12033\, United States
CATEGORIES:Community
END:VEVENT
BEGIN:VEVENT
DTSTART;TZID=UTC:20240618T180000
DTEND;TZID=UTC:20240618T190000
DTSTAMP:20260419T160326
CREATED:20240402T184828Z
LAST-MODIFIED:20240403T145452Z
UID:10008386-1718733600-1718737200@www.thespinneyatpondview.com
SUMMARY:Cornhole
DESCRIPTION:Join your neighbors for a game of cornhole.  New players are always welcome!  Please bring your key fob for access to The Clubhouse.  Hopefully\, the weather will cooperate soon\, and we’ll be able to set up outside.
URL:https://www.thespinneyatpondview.com/event/cornhole/2024-06-18/
LOCATION:The Spinney at Pond View\, 2490 Pond View\, Castleton\, NY\, 12033
CATEGORIES:Social
END:VEVENT
BEGIN:VEVENT
DTSTART;TZID=UTC:20240619T093000
DTEND;TZID=UTC:20240619T094500
DTSTAMP:20260419T160326
CREATED:20230726T191148Z
LAST-MODIFIED:20230726T191148Z
UID:10001253-1718789400-1718790300@www.thespinneyatpondview.com
SUMMARY:Fresh Egg Delivery
DESCRIPTION:We’ve partnered with a local farm for fresh egg delivery! Farm fresh eggs are $2 for a half dozen and $4 for a dozen. Orders must be placed with Lynne by Tuesday at noon and the eggs will be delivered around 9:30 am on Wednesday morning to The Clubhouse. Cash only\, exact change.  
URL:https://www.thespinneyatpondview.com/event/fresh-egg-delivery/2024-06-19/
LOCATION:NY
CATEGORIES:Wellness
END:VEVENT
BEGIN:VEVENT
DTSTART;TZID=UTC:20240619T100000
DTEND;TZID=UTC:20240619T110000
DTSTAMP:20260419T160326
CREATED:20240531T131645Z
LAST-MODIFIED:20240531T131645Z
UID:10011707-1718791200-1718794800@www.thespinneyatpondview.com
SUMMARY:Men's Club
DESCRIPTION:
URL:https://www.thespinneyatpondview.com/event/mens-club/
LOCATION:NY
CATEGORIES:Social
ORGANIZER;CN="The Spinney at Pond View":MAILTO:spvlifestyle@livewellgroup.com
END:VEVENT
BEGIN:VEVENT
DTSTART;TZID=UTC:20240619T100000
DTEND;TZID=UTC:20240619T120000
DTSTAMP:20260419T160326
CREATED:20240531T131728Z
LAST-MODIFIED:20240531T131728Z
UID:10011708-1718791200-1718798400@www.thespinneyatpondview.com
SUMMARY:Dilly Dilly Donuts
DESCRIPTION:
URL:https://www.thespinneyatpondview.com/event/dilly-dilly-donuts-2/
LOCATION:The Spinney at Pond View\, 2490 Pond View\, Castleton\, NY\, 12033
CATEGORIES:Community,Social
END:VEVENT
BEGIN:VEVENT
DTSTART;TZID=UTC:20240619T110000
DTEND;TZID=UTC:20240619T120000
DTSTAMP:20260419T160326
CREATED:20240531T131814Z
LAST-MODIFIED:20240531T131814Z
UID:10011709-1718794800-1718798400@www.thespinneyatpondview.com
SUMMARY:Conversations and Cards
DESCRIPTION:
URL:https://www.thespinneyatpondview.com/event/conversations-and-cards-2/
LOCATION:The Spinney at Pond View\, 2490 Pond View\, Castleton\, NY\, 12033
CATEGORIES:Social
END:VEVENT
BEGIN:VEVENT
DTSTART;TZID=UTC:20240619T160000
DTEND;TZID=UTC:20240619T180000
DTSTAMP:20260419T160326
CREATED:20240402T185102Z
LAST-MODIFIED:20240403T141455Z
UID:10008648-1718812800-1718820000@www.thespinneyatpondview.com
SUMMARY:Pool and Poker
DESCRIPTION:Meet friends in The Clubhouse for pool and poker.  You can play one game\, play both or simply just sit\, watch and socialize.  Your Clubhouse is open for fun!
URL:https://www.thespinneyatpondview.com/event/pool-and-poker/2024-06-19/
LOCATION:The Spinney at Pond View\, 2490 Pond View\, Castleton\, NY\, 12033
CATEGORIES:Social
END:VEVENT
BEGIN:VEVENT
DTSTART;TZID=UTC:20240619T164500
DTEND;TZID=UTC:20240619T170000
DTSTAMP:20260419T160326
CREATED:20230726T191103Z
LAST-MODIFIED:20250325T173307Z
UID:10000972-1718815500-1718816400@www.thespinneyatpondview.com
SUMMARY:Maisie's & Bread Delivery
DESCRIPTION:Fresh cooked Wednesday dinners. You can order dinner for 2 for $17.95 or dinner for 4 for $32.95\, check or cash. Please note changes cannot be made. Email or call Lynne by Tuesday at noon if you would like to order dinner for 2 or 4 and meals will be delivered to The Clubhouse on Wednesday at 4:45 pm.
URL:https://www.thespinneyatpondview.com/event/maisies-meals/2024-06-19/
LOCATION:The Spinney at Van Dyke\, 6 Parker Mathusa Place\, Delmar\, NY\, 12054
CATEGORIES:Wellness
END:VEVENT
BEGIN:VEVENT
DTSTART;TZID=UTC:20240619T180000
DTEND;TZID=UTC:20240619T200000
DTSTAMP:20260419T160326
CREATED:20240402T185237Z
LAST-MODIFIED:20240403T141253Z
UID:10008909-1718820000-1718827200@www.thespinneyatpondview.com
SUMMARY:Rec Night
DESCRIPTION:Join friends in The Clubhouse to play board games\, pool\, cards or do a puzzle.  Please remember to bring your key fob for access to The Clubhouse.
URL:https://www.thespinneyatpondview.com/event/rec-night/2024-06-19/
LOCATION:The Spinney at Pond View\, 2490 Pond View\, Castleton\, NY\, 12033
CATEGORIES:Social
END:VEVENT
BEGIN:VEVENT
DTSTART;TZID=UTC:20240620T090000
DTEND;TZID=UTC:20240620T100000
DTSTAMP:20260419T160326
CREATED:20240402T185647Z
LAST-MODIFIED:20240403T144455Z
UID:10009181-1718874000-1718877600@www.thespinneyatpondview.com
SUMMARY:Healthy Bones
DESCRIPTION:Healthy Bones – Every Tuesday & Thursday @ 9am-10am or 10am-11am.  Free for Spinney at PondView Residents! An excellent class taught by experienced instructors.  Class is held in the Media Room.
URL:https://www.thespinneyatpondview.com/event/healthy-bones-6/2024-06-20/
LOCATION:The Spinney at Pond View\, 2490 Pond View\, Castleton\, NY\, 12033
CATEGORIES:Wellness
END:VEVENT
BEGIN:VEVENT
DTSTART;TZID=America/New_York:20240620T100000
DTEND;TZID=America/New_York:20240620T110000
DTSTAMP:20260419T160326
CREATED:20230726T204058Z
LAST-MODIFIED:20240403T141817Z
UID:10004895-1718877600-1718881200@www.thespinneyatpondview.com
SUMMARY:Healthy Bones
DESCRIPTION:Healthy Bones – Every Tuesday & Thursday @ 9am-10am or 10am-11am.  Free for Spinney at Pond View Residents! An excellent class taught by experienced instructors.  Class is held in the Media Room.
URL:https://www.thespinneyatpondview.com/event/healthy-bones-4/2024-06-20/
LOCATION:The Spinney at Pond View\, 2490 Pond View\, Castleton\, NY\, 12033
CATEGORIES:Wellness
END:VEVENT
BEGIN:VEVENT
DTSTART;TZID=UTC:20240620T100000
DTEND;TZID=UTC:20240620T120000
DTSTAMP:20260419T160326
CREATED:20231127T021949Z
LAST-MODIFIED:20231127T021949Z
UID:10002368-1718877600-1718884800@www.thespinneyatpondview.com
SUMMARY:Bridge
DESCRIPTION:Learn to play Bridge with neighbors.
URL:https://www.thespinneyatpondview.com/event/bridge-3/2024-06-20/
LOCATION:The Spinney at Van Dyke\, 6 Parker Mathusa Place\, Delmar\, NY\, 12054
CATEGORIES:Intellectual
END:VEVENT
BEGIN:VEVENT
DTSTART;TZID=UTC:20240620T130000
DTEND;TZID=UTC:20240620T150000
DTSTAMP:20260419T160326
CREATED:20231127T022112Z
LAST-MODIFIED:20231127T022112Z
UID:10002631-1718888400-1718895600@www.thespinneyatpondview.com
SUMMARY:Mahjong
DESCRIPTION:Learn to play Mahjong with neighbors.
URL:https://www.thespinneyatpondview.com/event/mahjong-2/2024-06-20/
LOCATION:The Spinney at Van Dyke\, 6 Parker Mathusa Place\, Delmar\, NY\, 12054
CATEGORIES:Intellectual
END:VEVENT
BEGIN:VEVENT
DTSTART;TZID=UTC:20240620T130000
DTEND;TZID=UTC:20240620T150000
DTSTAMP:20260419T160326
CREATED:20240417T140427Z
LAST-MODIFIED:20240417T140427Z
UID:10011302-1718888400-1718895600@www.thespinneyatpondview.com
SUMMARY:Movie Matinee
DESCRIPTION:Join us in The Media Room each week as we show a movie.
URL:https://www.thespinneyatpondview.com/event/movie-matinee-12/2024-06-20/
LOCATION:The Spinney at Pond View\, 2490 Pond View\, Castleton\, NY\, 12033
CATEGORIES:Intellectual,Social
END:VEVENT
END:VCALENDAR