BEGIN:VCALENDAR
VERSION:2.0
PRODID:-//The Spinney at Pond View - ECPv6.15.20//NONSGML v1.0//EN
CALSCALE:GREGORIAN
METHOD:PUBLISH
X-WR-CALNAME:The Spinney at Pond View
X-ORIGINAL-URL:https://www.thespinneyatpondview.com
X-WR-CALDESC:Events for The Spinney at Pond View
REFRESH-INTERVAL;VALUE=DURATION:PT1H
X-Robots-Tag:noindex
X-PUBLISHED-TTL:PT1H
BEGIN:VTIMEZONE
TZID:UTC
BEGIN:STANDARD
TZOFFSETFROM:+0000
TZOFFSETTO:+0000
TZNAME:UTC
DTSTART:20250101T000000
END:STANDARD
END:VTIMEZONE
BEGIN:VEVENT
DTSTART;TZID=UTC:20260422T164500
DTEND;TZID=UTC:20260422T170000
DTSTAMP:20260419T142421
CREATED:20230726T191103Z
LAST-MODIFIED:20250325T173307Z
UID:10001068-1776876300-1776877200@www.thespinneyatpondview.com
SUMMARY:Maisie's & Bread Delivery
DESCRIPTION:Fresh cooked Wednesday dinners. You can order dinner for 2 for $17.95 or dinner for 4 for $32.95\, check or cash. Please note changes cannot be made. Email or call Lynne by Tuesday at noon if you would like to order dinner for 2 or 4 and meals will be delivered to The Clubhouse on Wednesday at 4:45 pm.
URL:https://www.thespinneyatpondview.com/event/maisies-meals/2026-04-22/
LOCATION:The Spinney at Van Dyke\, 6 Parker Mathusa Place\, Delmar\, NY\, 12054
CATEGORIES:Wellness
END:VEVENT
BEGIN:VEVENT
DTSTART;TZID=UTC:20260429T164500
DTEND;TZID=UTC:20260429T170000
DTSTAMP:20260419T142421
CREATED:20230726T191103Z
LAST-MODIFIED:20250325T173307Z
UID:10001069-1777481100-1777482000@www.thespinneyatpondview.com
SUMMARY:Maisie's & Bread Delivery
DESCRIPTION:Fresh cooked Wednesday dinners. You can order dinner for 2 for $17.95 or dinner for 4 for $32.95\, check or cash. Please note changes cannot be made. Email or call Lynne by Tuesday at noon if you would like to order dinner for 2 or 4 and meals will be delivered to The Clubhouse on Wednesday at 4:45 pm.
URL:https://www.thespinneyatpondview.com/event/maisies-meals/2026-04-29/
LOCATION:The Spinney at Van Dyke\, 6 Parker Mathusa Place\, Delmar\, NY\, 12054
CATEGORIES:Wellness
END:VEVENT
BEGIN:VEVENT
DTSTART;TZID=UTC:20260506T164500
DTEND;TZID=UTC:20260506T170000
DTSTAMP:20260419T142421
CREATED:20230726T191103Z
LAST-MODIFIED:20250325T173307Z
UID:10001070-1778085900-1778086800@www.thespinneyatpondview.com
SUMMARY:Maisie's & Bread Delivery
DESCRIPTION:Fresh cooked Wednesday dinners. You can order dinner for 2 for $17.95 or dinner for 4 for $32.95\, check or cash. Please note changes cannot be made. Email or call Lynne by Tuesday at noon if you would like to order dinner for 2 or 4 and meals will be delivered to The Clubhouse on Wednesday at 4:45 pm.
URL:https://www.thespinneyatpondview.com/event/maisies-meals/2026-05-06/
LOCATION:The Spinney at Van Dyke\, 6 Parker Mathusa Place\, Delmar\, NY\, 12054
CATEGORIES:Wellness
END:VEVENT
BEGIN:VEVENT
DTSTART;TZID=UTC:20260513T164500
DTEND;TZID=UTC:20260513T170000
DTSTAMP:20260419T142421
CREATED:20230726T191103Z
LAST-MODIFIED:20250325T173307Z
UID:10001071-1778690700-1778691600@www.thespinneyatpondview.com
SUMMARY:Maisie's & Bread Delivery
DESCRIPTION:Fresh cooked Wednesday dinners. You can order dinner for 2 for $17.95 or dinner for 4 for $32.95\, check or cash. Please note changes cannot be made. Email or call Lynne by Tuesday at noon if you would like to order dinner for 2 or 4 and meals will be delivered to The Clubhouse on Wednesday at 4:45 pm.
URL:https://www.thespinneyatpondview.com/event/maisies-meals/2026-05-13/
LOCATION:The Spinney at Van Dyke\, 6 Parker Mathusa Place\, Delmar\, NY\, 12054
CATEGORIES:Wellness
END:VEVENT
BEGIN:VEVENT
DTSTART;TZID=UTC:20260520T164500
DTEND;TZID=UTC:20260520T170000
DTSTAMP:20260419T142421
CREATED:20230726T191103Z
LAST-MODIFIED:20250325T173307Z
UID:10001072-1779295500-1779296400@www.thespinneyatpondview.com
SUMMARY:Maisie's & Bread Delivery
DESCRIPTION:Fresh cooked Wednesday dinners. You can order dinner for 2 for $17.95 or dinner for 4 for $32.95\, check or cash. Please note changes cannot be made. Email or call Lynne by Tuesday at noon if you would like to order dinner for 2 or 4 and meals will be delivered to The Clubhouse on Wednesday at 4:45 pm.
URL:https://www.thespinneyatpondview.com/event/maisies-meals/2026-05-20/
LOCATION:The Spinney at Van Dyke\, 6 Parker Mathusa Place\, Delmar\, NY\, 12054
CATEGORIES:Wellness
END:VEVENT
BEGIN:VEVENT
DTSTART;TZID=UTC:20260527T164500
DTEND;TZID=UTC:20260527T170000
DTSTAMP:20260419T142421
CREATED:20230726T191103Z
LAST-MODIFIED:20250325T173307Z
UID:10001073-1779900300-1779901200@www.thespinneyatpondview.com
SUMMARY:Maisie's & Bread Delivery
DESCRIPTION:Fresh cooked Wednesday dinners. You can order dinner for 2 for $17.95 or dinner for 4 for $32.95\, check or cash. Please note changes cannot be made. Email or call Lynne by Tuesday at noon if you would like to order dinner for 2 or 4 and meals will be delivered to The Clubhouse on Wednesday at 4:45 pm.
URL:https://www.thespinneyatpondview.com/event/maisies-meals/2026-05-27/
LOCATION:The Spinney at Van Dyke\, 6 Parker Mathusa Place\, Delmar\, NY\, 12054
CATEGORIES:Wellness
END:VEVENT
BEGIN:VEVENT
DTSTART;TZID=UTC:20260603T164500
DTEND;TZID=UTC:20260603T170000
DTSTAMP:20260419T142421
CREATED:20230726T191103Z
LAST-MODIFIED:20250325T173307Z
UID:10001074-1780505100-1780506000@www.thespinneyatpondview.com
SUMMARY:Maisie's & Bread Delivery
DESCRIPTION:Fresh cooked Wednesday dinners. You can order dinner for 2 for $17.95 or dinner for 4 for $32.95\, check or cash. Please note changes cannot be made. Email or call Lynne by Tuesday at noon if you would like to order dinner for 2 or 4 and meals will be delivered to The Clubhouse on Wednesday at 4:45 pm.
URL:https://www.thespinneyatpondview.com/event/maisies-meals/2026-06-03/
LOCATION:The Spinney at Van Dyke\, 6 Parker Mathusa Place\, Delmar\, NY\, 12054
CATEGORIES:Wellness
END:VEVENT
BEGIN:VEVENT
DTSTART;TZID=UTC:20260610T164500
DTEND;TZID=UTC:20260610T170000
DTSTAMP:20260419T142421
CREATED:20230726T191103Z
LAST-MODIFIED:20250325T173307Z
UID:10001075-1781109900-1781110800@www.thespinneyatpondview.com
SUMMARY:Maisie's & Bread Delivery
DESCRIPTION:Fresh cooked Wednesday dinners. You can order dinner for 2 for $17.95 or dinner for 4 for $32.95\, check or cash. Please note changes cannot be made. Email or call Lynne by Tuesday at noon if you would like to order dinner for 2 or 4 and meals will be delivered to The Clubhouse on Wednesday at 4:45 pm.
URL:https://www.thespinneyatpondview.com/event/maisies-meals/2026-06-10/
LOCATION:The Spinney at Van Dyke\, 6 Parker Mathusa Place\, Delmar\, NY\, 12054
CATEGORIES:Wellness
END:VEVENT
BEGIN:VEVENT
DTSTART;TZID=UTC:20260617T164500
DTEND;TZID=UTC:20260617T170000
DTSTAMP:20260419T142421
CREATED:20230726T191103Z
LAST-MODIFIED:20250325T173307Z
UID:10001076-1781714700-1781715600@www.thespinneyatpondview.com
SUMMARY:Maisie's & Bread Delivery
DESCRIPTION:Fresh cooked Wednesday dinners. You can order dinner for 2 for $17.95 or dinner for 4 for $32.95\, check or cash. Please note changes cannot be made. Email or call Lynne by Tuesday at noon if you would like to order dinner for 2 or 4 and meals will be delivered to The Clubhouse on Wednesday at 4:45 pm.
URL:https://www.thespinneyatpondview.com/event/maisies-meals/2026-06-17/
LOCATION:The Spinney at Van Dyke\, 6 Parker Mathusa Place\, Delmar\, NY\, 12054
CATEGORIES:Wellness
END:VEVENT
BEGIN:VEVENT
DTSTART;TZID=UTC:20260624T164500
DTEND;TZID=UTC:20260624T170000
DTSTAMP:20260419T142421
CREATED:20230726T191103Z
LAST-MODIFIED:20250325T173307Z
UID:10001077-1782319500-1782320400@www.thespinneyatpondview.com
SUMMARY:Maisie's & Bread Delivery
DESCRIPTION:Fresh cooked Wednesday dinners. You can order dinner for 2 for $17.95 or dinner for 4 for $32.95\, check or cash. Please note changes cannot be made. Email or call Lynne by Tuesday at noon if you would like to order dinner for 2 or 4 and meals will be delivered to The Clubhouse on Wednesday at 4:45 pm.
URL:https://www.thespinneyatpondview.com/event/maisies-meals/2026-06-24/
LOCATION:The Spinney at Van Dyke\, 6 Parker Mathusa Place\, Delmar\, NY\, 12054
CATEGORIES:Wellness
END:VEVENT
BEGIN:VEVENT
DTSTART;TZID=UTC:20260701T164500
DTEND;TZID=UTC:20260701T170000
DTSTAMP:20260419T142421
CREATED:20230726T191103Z
LAST-MODIFIED:20250325T173307Z
UID:10001078-1782924300-1782925200@www.thespinneyatpondview.com
SUMMARY:Maisie's & Bread Delivery
DESCRIPTION:Fresh cooked Wednesday dinners. You can order dinner for 2 for $17.95 or dinner for 4 for $32.95\, check or cash. Please note changes cannot be made. Email or call Lynne by Tuesday at noon if you would like to order dinner for 2 or 4 and meals will be delivered to The Clubhouse on Wednesday at 4:45 pm.
URL:https://www.thespinneyatpondview.com/event/maisies-meals/2026-07-01/
LOCATION:The Spinney at Van Dyke\, 6 Parker Mathusa Place\, Delmar\, NY\, 12054
CATEGORIES:Wellness
END:VEVENT
BEGIN:VEVENT
DTSTART;TZID=UTC:20260708T164500
DTEND;TZID=UTC:20260708T170000
DTSTAMP:20260419T142421
CREATED:20230726T191103Z
LAST-MODIFIED:20250325T173307Z
UID:10001079-1783529100-1783530000@www.thespinneyatpondview.com
SUMMARY:Maisie's & Bread Delivery
DESCRIPTION:Fresh cooked Wednesday dinners. You can order dinner for 2 for $17.95 or dinner for 4 for $32.95\, check or cash. Please note changes cannot be made. Email or call Lynne by Tuesday at noon if you would like to order dinner for 2 or 4 and meals will be delivered to The Clubhouse on Wednesday at 4:45 pm.
URL:https://www.thespinneyatpondview.com/event/maisies-meals/2026-07-08/
LOCATION:The Spinney at Van Dyke\, 6 Parker Mathusa Place\, Delmar\, NY\, 12054
CATEGORIES:Wellness
END:VEVENT
BEGIN:VEVENT
DTSTART;TZID=UTC:20260715T164500
DTEND;TZID=UTC:20260715T170000
DTSTAMP:20260419T142421
CREATED:20230726T191103Z
LAST-MODIFIED:20250325T173307Z
UID:10001080-1784133900-1784134800@www.thespinneyatpondview.com
SUMMARY:Maisie's & Bread Delivery
DESCRIPTION:Fresh cooked Wednesday dinners. You can order dinner for 2 for $17.95 or dinner for 4 for $32.95\, check or cash. Please note changes cannot be made. Email or call Lynne by Tuesday at noon if you would like to order dinner for 2 or 4 and meals will be delivered to The Clubhouse on Wednesday at 4:45 pm.
URL:https://www.thespinneyatpondview.com/event/maisies-meals/2026-07-15/
LOCATION:The Spinney at Van Dyke\, 6 Parker Mathusa Place\, Delmar\, NY\, 12054
CATEGORIES:Wellness
END:VEVENT
BEGIN:VEVENT
DTSTART;TZID=UTC:20260722T164500
DTEND;TZID=UTC:20260722T170000
DTSTAMP:20260419T142421
CREATED:20230726T191103Z
LAST-MODIFIED:20250325T173307Z
UID:10001081-1784738700-1784739600@www.thespinneyatpondview.com
SUMMARY:Maisie's & Bread Delivery
DESCRIPTION:Fresh cooked Wednesday dinners. You can order dinner for 2 for $17.95 or dinner for 4 for $32.95\, check or cash. Please note changes cannot be made. Email or call Lynne by Tuesday at noon if you would like to order dinner for 2 or 4 and meals will be delivered to The Clubhouse on Wednesday at 4:45 pm.
URL:https://www.thespinneyatpondview.com/event/maisies-meals/2026-07-22/
LOCATION:The Spinney at Van Dyke\, 6 Parker Mathusa Place\, Delmar\, NY\, 12054
CATEGORIES:Wellness
END:VEVENT
BEGIN:VEVENT
DTSTART;TZID=UTC:20260729T164500
DTEND;TZID=UTC:20260729T170000
DTSTAMP:20260419T142421
CREATED:20230726T191103Z
LAST-MODIFIED:20250325T173307Z
UID:10001082-1785343500-1785344400@www.thespinneyatpondview.com
SUMMARY:Maisie's & Bread Delivery
DESCRIPTION:Fresh cooked Wednesday dinners. You can order dinner for 2 for $17.95 or dinner for 4 for $32.95\, check or cash. Please note changes cannot be made. Email or call Lynne by Tuesday at noon if you would like to order dinner for 2 or 4 and meals will be delivered to The Clubhouse on Wednesday at 4:45 pm.
URL:https://www.thespinneyatpondview.com/event/maisies-meals/2026-07-29/
LOCATION:The Spinney at Van Dyke\, 6 Parker Mathusa Place\, Delmar\, NY\, 12054
CATEGORIES:Wellness
END:VEVENT
BEGIN:VEVENT
DTSTART;TZID=UTC:20260805T164500
DTEND;TZID=UTC:20260805T170000
DTSTAMP:20260419T142421
CREATED:20230726T191103Z
LAST-MODIFIED:20250325T173307Z
UID:10001083-1785948300-1785949200@www.thespinneyatpondview.com
SUMMARY:Maisie's & Bread Delivery
DESCRIPTION:Fresh cooked Wednesday dinners. You can order dinner for 2 for $17.95 or dinner for 4 for $32.95\, check or cash. Please note changes cannot be made. Email or call Lynne by Tuesday at noon if you would like to order dinner for 2 or 4 and meals will be delivered to The Clubhouse on Wednesday at 4:45 pm.
URL:https://www.thespinneyatpondview.com/event/maisies-meals/2026-08-05/
LOCATION:The Spinney at Van Dyke\, 6 Parker Mathusa Place\, Delmar\, NY\, 12054
CATEGORIES:Wellness
END:VEVENT
BEGIN:VEVENT
DTSTART;TZID=UTC:20260812T164500
DTEND;TZID=UTC:20260812T170000
DTSTAMP:20260419T142421
CREATED:20230726T191103Z
LAST-MODIFIED:20250325T173307Z
UID:10001084-1786553100-1786554000@www.thespinneyatpondview.com
SUMMARY:Maisie's & Bread Delivery
DESCRIPTION:Fresh cooked Wednesday dinners. You can order dinner for 2 for $17.95 or dinner for 4 for $32.95\, check or cash. Please note changes cannot be made. Email or call Lynne by Tuesday at noon if you would like to order dinner for 2 or 4 and meals will be delivered to The Clubhouse on Wednesday at 4:45 pm.
URL:https://www.thespinneyatpondview.com/event/maisies-meals/2026-08-12/
LOCATION:The Spinney at Van Dyke\, 6 Parker Mathusa Place\, Delmar\, NY\, 12054
CATEGORIES:Wellness
END:VEVENT
BEGIN:VEVENT
DTSTART;TZID=UTC:20260819T164500
DTEND;TZID=UTC:20260819T170000
DTSTAMP:20260419T142421
CREATED:20230726T191103Z
LAST-MODIFIED:20250325T173307Z
UID:10001085-1787157900-1787158800@www.thespinneyatpondview.com
SUMMARY:Maisie's & Bread Delivery
DESCRIPTION:Fresh cooked Wednesday dinners. You can order dinner for 2 for $17.95 or dinner for 4 for $32.95\, check or cash. Please note changes cannot be made. Email or call Lynne by Tuesday at noon if you would like to order dinner for 2 or 4 and meals will be delivered to The Clubhouse on Wednesday at 4:45 pm.
URL:https://www.thespinneyatpondview.com/event/maisies-meals/2026-08-19/
LOCATION:The Spinney at Van Dyke\, 6 Parker Mathusa Place\, Delmar\, NY\, 12054
CATEGORIES:Wellness
END:VEVENT
BEGIN:VEVENT
DTSTART;TZID=UTC:20260826T164500
DTEND;TZID=UTC:20260826T170000
DTSTAMP:20260419T142421
CREATED:20230726T191103Z
LAST-MODIFIED:20250325T173307Z
UID:10001086-1787762700-1787763600@www.thespinneyatpondview.com
SUMMARY:Maisie's & Bread Delivery
DESCRIPTION:Fresh cooked Wednesday dinners. You can order dinner for 2 for $17.95 or dinner for 4 for $32.95\, check or cash. Please note changes cannot be made. Email or call Lynne by Tuesday at noon if you would like to order dinner for 2 or 4 and meals will be delivered to The Clubhouse on Wednesday at 4:45 pm.
URL:https://www.thespinneyatpondview.com/event/maisies-meals/2026-08-26/
LOCATION:The Spinney at Van Dyke\, 6 Parker Mathusa Place\, Delmar\, NY\, 12054
CATEGORIES:Wellness
END:VEVENT
BEGIN:VEVENT
DTSTART;TZID=UTC:20260902T164500
DTEND;TZID=UTC:20260902T170000
DTSTAMP:20260419T142421
CREATED:20230726T191103Z
LAST-MODIFIED:20250325T173307Z
UID:10001087-1788367500-1788368400@www.thespinneyatpondview.com
SUMMARY:Maisie's & Bread Delivery
DESCRIPTION:Fresh cooked Wednesday dinners. You can order dinner for 2 for $17.95 or dinner for 4 for $32.95\, check or cash. Please note changes cannot be made. Email or call Lynne by Tuesday at noon if you would like to order dinner for 2 or 4 and meals will be delivered to The Clubhouse on Wednesday at 4:45 pm.
URL:https://www.thespinneyatpondview.com/event/maisies-meals/2026-09-02/
LOCATION:The Spinney at Van Dyke\, 6 Parker Mathusa Place\, Delmar\, NY\, 12054
CATEGORIES:Wellness
END:VEVENT
BEGIN:VEVENT
DTSTART;TZID=UTC:20260909T164500
DTEND;TZID=UTC:20260909T170000
DTSTAMP:20260419T142421
CREATED:20230726T191103Z
LAST-MODIFIED:20250325T173307Z
UID:10001088-1788972300-1788973200@www.thespinneyatpondview.com
SUMMARY:Maisie's & Bread Delivery
DESCRIPTION:Fresh cooked Wednesday dinners. You can order dinner for 2 for $17.95 or dinner for 4 for $32.95\, check or cash. Please note changes cannot be made. Email or call Lynne by Tuesday at noon if you would like to order dinner for 2 or 4 and meals will be delivered to The Clubhouse on Wednesday at 4:45 pm.
URL:https://www.thespinneyatpondview.com/event/maisies-meals/2026-09-09/
LOCATION:The Spinney at Van Dyke\, 6 Parker Mathusa Place\, Delmar\, NY\, 12054
CATEGORIES:Wellness
END:VEVENT
BEGIN:VEVENT
DTSTART;TZID=UTC:20260916T164500
DTEND;TZID=UTC:20260916T170000
DTSTAMP:20260419T142421
CREATED:20230726T191103Z
LAST-MODIFIED:20250325T173307Z
UID:10001089-1789577100-1789578000@www.thespinneyatpondview.com
SUMMARY:Maisie's & Bread Delivery
DESCRIPTION:Fresh cooked Wednesday dinners. You can order dinner for 2 for $17.95 or dinner for 4 for $32.95\, check or cash. Please note changes cannot be made. Email or call Lynne by Tuesday at noon if you would like to order dinner for 2 or 4 and meals will be delivered to The Clubhouse on Wednesday at 4:45 pm.
URL:https://www.thespinneyatpondview.com/event/maisies-meals/2026-09-16/
LOCATION:The Spinney at Van Dyke\, 6 Parker Mathusa Place\, Delmar\, NY\, 12054
CATEGORIES:Wellness
END:VEVENT
BEGIN:VEVENT
DTSTART;TZID=UTC:20260923T164500
DTEND;TZID=UTC:20260923T170000
DTSTAMP:20260419T142421
CREATED:20230726T191103Z
LAST-MODIFIED:20250325T173307Z
UID:10001090-1790181900-1790182800@www.thespinneyatpondview.com
SUMMARY:Maisie's & Bread Delivery
DESCRIPTION:Fresh cooked Wednesday dinners. You can order dinner for 2 for $17.95 or dinner for 4 for $32.95\, check or cash. Please note changes cannot be made. Email or call Lynne by Tuesday at noon if you would like to order dinner for 2 or 4 and meals will be delivered to The Clubhouse on Wednesday at 4:45 pm.
URL:https://www.thespinneyatpondview.com/event/maisies-meals/2026-09-23/
LOCATION:The Spinney at Van Dyke\, 6 Parker Mathusa Place\, Delmar\, NY\, 12054
CATEGORIES:Wellness
END:VEVENT
BEGIN:VEVENT
DTSTART;TZID=UTC:20260930T164500
DTEND;TZID=UTC:20260930T170000
DTSTAMP:20260419T142421
CREATED:20230726T191103Z
LAST-MODIFIED:20250325T173307Z
UID:10001091-1790786700-1790787600@www.thespinneyatpondview.com
SUMMARY:Maisie's & Bread Delivery
DESCRIPTION:Fresh cooked Wednesday dinners. You can order dinner for 2 for $17.95 or dinner for 4 for $32.95\, check or cash. Please note changes cannot be made. Email or call Lynne by Tuesday at noon if you would like to order dinner for 2 or 4 and meals will be delivered to The Clubhouse on Wednesday at 4:45 pm.
URL:https://www.thespinneyatpondview.com/event/maisies-meals/2026-09-30/
LOCATION:The Spinney at Van Dyke\, 6 Parker Mathusa Place\, Delmar\, NY\, 12054
CATEGORIES:Wellness
END:VEVENT
BEGIN:VEVENT
DTSTART;TZID=UTC:20261007T164500
DTEND;TZID=UTC:20261007T170000
DTSTAMP:20260419T142421
CREATED:20230726T191103Z
LAST-MODIFIED:20250325T173307Z
UID:10001092-1791391500-1791392400@www.thespinneyatpondview.com
SUMMARY:Maisie's & Bread Delivery
DESCRIPTION:Fresh cooked Wednesday dinners. You can order dinner for 2 for $17.95 or dinner for 4 for $32.95\, check or cash. Please note changes cannot be made. Email or call Lynne by Tuesday at noon if you would like to order dinner for 2 or 4 and meals will be delivered to The Clubhouse on Wednesday at 4:45 pm.
URL:https://www.thespinneyatpondview.com/event/maisies-meals/2026-10-07/
LOCATION:The Spinney at Van Dyke\, 6 Parker Mathusa Place\, Delmar\, NY\, 12054
CATEGORIES:Wellness
END:VEVENT
BEGIN:VEVENT
DTSTART;TZID=UTC:20261014T164500
DTEND;TZID=UTC:20261014T170000
DTSTAMP:20260419T142421
CREATED:20230726T191103Z
LAST-MODIFIED:20250325T173307Z
UID:10001093-1791996300-1791997200@www.thespinneyatpondview.com
SUMMARY:Maisie's & Bread Delivery
DESCRIPTION:Fresh cooked Wednesday dinners. You can order dinner for 2 for $17.95 or dinner for 4 for $32.95\, check or cash. Please note changes cannot be made. Email or call Lynne by Tuesday at noon if you would like to order dinner for 2 or 4 and meals will be delivered to The Clubhouse on Wednesday at 4:45 pm.
URL:https://www.thespinneyatpondview.com/event/maisies-meals/2026-10-14/
LOCATION:The Spinney at Van Dyke\, 6 Parker Mathusa Place\, Delmar\, NY\, 12054
CATEGORIES:Wellness
END:VEVENT
BEGIN:VEVENT
DTSTART;TZID=UTC:20261021T164500
DTEND;TZID=UTC:20261021T170000
DTSTAMP:20260419T142421
CREATED:20230726T191103Z
LAST-MODIFIED:20250325T173307Z
UID:10001094-1792601100-1792602000@www.thespinneyatpondview.com
SUMMARY:Maisie's & Bread Delivery
DESCRIPTION:Fresh cooked Wednesday dinners. You can order dinner for 2 for $17.95 or dinner for 4 for $32.95\, check or cash. Please note changes cannot be made. Email or call Lynne by Tuesday at noon if you would like to order dinner for 2 or 4 and meals will be delivered to The Clubhouse on Wednesday at 4:45 pm.
URL:https://www.thespinneyatpondview.com/event/maisies-meals/2026-10-21/
LOCATION:The Spinney at Van Dyke\, 6 Parker Mathusa Place\, Delmar\, NY\, 12054
CATEGORIES:Wellness
END:VEVENT
BEGIN:VEVENT
DTSTART;TZID=UTC:20261028T164500
DTEND;TZID=UTC:20261028T170000
DTSTAMP:20260419T142421
CREATED:20230726T191103Z
LAST-MODIFIED:20250325T173307Z
UID:10001095-1793205900-1793206800@www.thespinneyatpondview.com
SUMMARY:Maisie's & Bread Delivery
DESCRIPTION:Fresh cooked Wednesday dinners. You can order dinner for 2 for $17.95 or dinner for 4 for $32.95\, check or cash. Please note changes cannot be made. Email or call Lynne by Tuesday at noon if you would like to order dinner for 2 or 4 and meals will be delivered to The Clubhouse on Wednesday at 4:45 pm.
URL:https://www.thespinneyatpondview.com/event/maisies-meals/2026-10-28/
LOCATION:The Spinney at Van Dyke\, 6 Parker Mathusa Place\, Delmar\, NY\, 12054
CATEGORIES:Wellness
END:VEVENT
BEGIN:VEVENT
DTSTART;TZID=UTC:20261104T164500
DTEND;TZID=UTC:20261104T170000
DTSTAMP:20260419T142421
CREATED:20230726T191103Z
LAST-MODIFIED:20250325T173307Z
UID:10001096-1793810700-1793811600@www.thespinneyatpondview.com
SUMMARY:Maisie's & Bread Delivery
DESCRIPTION:Fresh cooked Wednesday dinners. You can order dinner for 2 for $17.95 or dinner for 4 for $32.95\, check or cash. Please note changes cannot be made. Email or call Lynne by Tuesday at noon if you would like to order dinner for 2 or 4 and meals will be delivered to The Clubhouse on Wednesday at 4:45 pm.
URL:https://www.thespinneyatpondview.com/event/maisies-meals/2026-11-04/
LOCATION:The Spinney at Van Dyke\, 6 Parker Mathusa Place\, Delmar\, NY\, 12054
CATEGORIES:Wellness
END:VEVENT
BEGIN:VEVENT
DTSTART;TZID=UTC:20261111T164500
DTEND;TZID=UTC:20261111T170000
DTSTAMP:20260419T142421
CREATED:20230726T191103Z
LAST-MODIFIED:20250325T173307Z
UID:10001097-1794415500-1794416400@www.thespinneyatpondview.com
SUMMARY:Maisie's & Bread Delivery
DESCRIPTION:Fresh cooked Wednesday dinners. You can order dinner for 2 for $17.95 or dinner for 4 for $32.95\, check or cash. Please note changes cannot be made. Email or call Lynne by Tuesday at noon if you would like to order dinner for 2 or 4 and meals will be delivered to The Clubhouse on Wednesday at 4:45 pm.
URL:https://www.thespinneyatpondview.com/event/maisies-meals/2026-11-11/
LOCATION:The Spinney at Van Dyke\, 6 Parker Mathusa Place\, Delmar\, NY\, 12054
CATEGORIES:Wellness
END:VEVENT
END:VCALENDAR