BEGIN:VCALENDAR
VERSION:2.0
PRODID:-//The Spinney at Pond View - ECPv6.15.20//NONSGML v1.0//EN
CALSCALE:GREGORIAN
METHOD:PUBLISH
X-WR-CALNAME:The Spinney at Pond View
X-ORIGINAL-URL:https://www.thespinneyatpondview.com
X-WR-CALDESC:Events for The Spinney at Pond View
REFRESH-INTERVAL;VALUE=DURATION:PT1H
X-Robots-Tag:noindex
X-PUBLISHED-TTL:PT1H
BEGIN:VTIMEZONE
TZID:UTC
BEGIN:STANDARD
TZOFFSETFROM:+0000
TZOFFSETTO:+0000
TZNAME:UTC
DTSTART:20250101T000000
END:STANDARD
END:VTIMEZONE
BEGIN:VEVENT
DTSTART;TZID=UTC:20260427T130000
DTEND;TZID=UTC:20260427T150000
DTSTAMP:20260421T130027
CREATED:20240402T183708Z
LAST-MODIFIED:20240403T143832Z
UID:10007435-1777294800-1777302000@www.thespinneyatpondview.com
SUMMARY:Craft Club
DESCRIPTION:Bring a craft to work on with friends.  This is a casual group meet-up\, and new residents are always welcome to join.  During the chilly days\, sit by the fireplace and catch up with friends while you knit\, crochet \, or just socialize.
URL:https://www.thespinneyatpondview.com/event/craft-club-5/2026-04-27/
LOCATION:The Spinney at Pond View\, 2490 Pond View\, Castleton\, NY\, 12033
END:VEVENT
BEGIN:VEVENT
DTSTART;TZID=UTC:20260504T130000
DTEND;TZID=UTC:20260504T150000
DTSTAMP:20260421T130027
CREATED:20240402T183708Z
LAST-MODIFIED:20240403T143832Z
UID:10007436-1777899600-1777906800@www.thespinneyatpondview.com
SUMMARY:Craft Club
DESCRIPTION:Bring a craft to work on with friends.  This is a casual group meet-up\, and new residents are always welcome to join.  During the chilly days\, sit by the fireplace and catch up with friends while you knit\, crochet \, or just socialize.
URL:https://www.thespinneyatpondview.com/event/craft-club-5/2026-05-04/
LOCATION:The Spinney at Pond View\, 2490 Pond View\, Castleton\, NY\, 12033
END:VEVENT
BEGIN:VEVENT
DTSTART;TZID=UTC:20260511T130000
DTEND;TZID=UTC:20260511T150000
DTSTAMP:20260421T130027
CREATED:20240402T183708Z
LAST-MODIFIED:20240403T143832Z
UID:10007437-1778504400-1778511600@www.thespinneyatpondview.com
SUMMARY:Craft Club
DESCRIPTION:Bring a craft to work on with friends.  This is a casual group meet-up\, and new residents are always welcome to join.  During the chilly days\, sit by the fireplace and catch up with friends while you knit\, crochet \, or just socialize.
URL:https://www.thespinneyatpondview.com/event/craft-club-5/2026-05-11/
LOCATION:The Spinney at Pond View\, 2490 Pond View\, Castleton\, NY\, 12033
END:VEVENT
BEGIN:VEVENT
DTSTART;TZID=UTC:20260518T130000
DTEND;TZID=UTC:20260518T150000
DTSTAMP:20260421T130027
CREATED:20240402T183708Z
LAST-MODIFIED:20240403T143832Z
UID:10007438-1779109200-1779116400@www.thespinneyatpondview.com
SUMMARY:Craft Club
DESCRIPTION:Bring a craft to work on with friends.  This is a casual group meet-up\, and new residents are always welcome to join.  During the chilly days\, sit by the fireplace and catch up with friends while you knit\, crochet \, or just socialize.
URL:https://www.thespinneyatpondview.com/event/craft-club-5/2026-05-18/
LOCATION:The Spinney at Pond View\, 2490 Pond View\, Castleton\, NY\, 12033
END:VEVENT
BEGIN:VEVENT
DTSTART;TZID=UTC:20260525T130000
DTEND;TZID=UTC:20260525T150000
DTSTAMP:20260421T130027
CREATED:20240402T183708Z
LAST-MODIFIED:20240403T143832Z
UID:10007439-1779714000-1779721200@www.thespinneyatpondview.com
SUMMARY:Craft Club
DESCRIPTION:Bring a craft to work on with friends.  This is a casual group meet-up\, and new residents are always welcome to join.  During the chilly days\, sit by the fireplace and catch up with friends while you knit\, crochet \, or just socialize.
URL:https://www.thespinneyatpondview.com/event/craft-club-5/2026-05-25/
LOCATION:The Spinney at Pond View\, 2490 Pond View\, Castleton\, NY\, 12033
END:VEVENT
BEGIN:VEVENT
DTSTART;TZID=UTC:20260601T130000
DTEND;TZID=UTC:20260601T150000
DTSTAMP:20260421T130027
CREATED:20240402T183708Z
LAST-MODIFIED:20240403T143832Z
UID:10007440-1780318800-1780326000@www.thespinneyatpondview.com
SUMMARY:Craft Club
DESCRIPTION:Bring a craft to work on with friends.  This is a casual group meet-up\, and new residents are always welcome to join.  During the chilly days\, sit by the fireplace and catch up with friends while you knit\, crochet \, or just socialize.
URL:https://www.thespinneyatpondview.com/event/craft-club-5/2026-06-01/
LOCATION:The Spinney at Pond View\, 2490 Pond View\, Castleton\, NY\, 12033
END:VEVENT
BEGIN:VEVENT
DTSTART;TZID=UTC:20260608T130000
DTEND;TZID=UTC:20260608T150000
DTSTAMP:20260421T130027
CREATED:20240402T183708Z
LAST-MODIFIED:20240403T143832Z
UID:10007441-1780923600-1780930800@www.thespinneyatpondview.com
SUMMARY:Craft Club
DESCRIPTION:Bring a craft to work on with friends.  This is a casual group meet-up\, and new residents are always welcome to join.  During the chilly days\, sit by the fireplace and catch up with friends while you knit\, crochet \, or just socialize.
URL:https://www.thespinneyatpondview.com/event/craft-club-5/2026-06-08/
LOCATION:The Spinney at Pond View\, 2490 Pond View\, Castleton\, NY\, 12033
END:VEVENT
BEGIN:VEVENT
DTSTART;TZID=UTC:20260615T130000
DTEND;TZID=UTC:20260615T150000
DTSTAMP:20260421T130027
CREATED:20240402T183708Z
LAST-MODIFIED:20240403T143832Z
UID:10007442-1781528400-1781535600@www.thespinneyatpondview.com
SUMMARY:Craft Club
DESCRIPTION:Bring a craft to work on with friends.  This is a casual group meet-up\, and new residents are always welcome to join.  During the chilly days\, sit by the fireplace and catch up with friends while you knit\, crochet \, or just socialize.
URL:https://www.thespinneyatpondview.com/event/craft-club-5/2026-06-15/
LOCATION:The Spinney at Pond View\, 2490 Pond View\, Castleton\, NY\, 12033
END:VEVENT
BEGIN:VEVENT
DTSTART;TZID=UTC:20260622T130000
DTEND;TZID=UTC:20260622T150000
DTSTAMP:20260421T130027
CREATED:20240402T183708Z
LAST-MODIFIED:20240403T143832Z
UID:10007443-1782133200-1782140400@www.thespinneyatpondview.com
SUMMARY:Craft Club
DESCRIPTION:Bring a craft to work on with friends.  This is a casual group meet-up\, and new residents are always welcome to join.  During the chilly days\, sit by the fireplace and catch up with friends while you knit\, crochet \, or just socialize.
URL:https://www.thespinneyatpondview.com/event/craft-club-5/2026-06-22/
LOCATION:The Spinney at Pond View\, 2490 Pond View\, Castleton\, NY\, 12033
END:VEVENT
BEGIN:VEVENT
DTSTART;TZID=UTC:20260629T130000
DTEND;TZID=UTC:20260629T150000
DTSTAMP:20260421T130027
CREATED:20240402T183708Z
LAST-MODIFIED:20240403T143832Z
UID:10007444-1782738000-1782745200@www.thespinneyatpondview.com
SUMMARY:Craft Club
DESCRIPTION:Bring a craft to work on with friends.  This is a casual group meet-up\, and new residents are always welcome to join.  During the chilly days\, sit by the fireplace and catch up with friends while you knit\, crochet \, or just socialize.
URL:https://www.thespinneyatpondview.com/event/craft-club-5/2026-06-29/
LOCATION:The Spinney at Pond View\, 2490 Pond View\, Castleton\, NY\, 12033
END:VEVENT
BEGIN:VEVENT
DTSTART;TZID=UTC:20260706T130000
DTEND;TZID=UTC:20260706T150000
DTSTAMP:20260421T130027
CREATED:20240402T183708Z
LAST-MODIFIED:20240403T143832Z
UID:10007445-1783342800-1783350000@www.thespinneyatpondview.com
SUMMARY:Craft Club
DESCRIPTION:Bring a craft to work on with friends.  This is a casual group meet-up\, and new residents are always welcome to join.  During the chilly days\, sit by the fireplace and catch up with friends while you knit\, crochet \, or just socialize.
URL:https://www.thespinneyatpondview.com/event/craft-club-5/2026-07-06/
LOCATION:The Spinney at Pond View\, 2490 Pond View\, Castleton\, NY\, 12033
END:VEVENT
BEGIN:VEVENT
DTSTART;TZID=UTC:20260713T130000
DTEND;TZID=UTC:20260713T150000
DTSTAMP:20260421T130027
CREATED:20240402T183708Z
LAST-MODIFIED:20240403T143832Z
UID:10007446-1783947600-1783954800@www.thespinneyatpondview.com
SUMMARY:Craft Club
DESCRIPTION:Bring a craft to work on with friends.  This is a casual group meet-up\, and new residents are always welcome to join.  During the chilly days\, sit by the fireplace and catch up with friends while you knit\, crochet \, or just socialize.
URL:https://www.thespinneyatpondview.com/event/craft-club-5/2026-07-13/
LOCATION:The Spinney at Pond View\, 2490 Pond View\, Castleton\, NY\, 12033
END:VEVENT
BEGIN:VEVENT
DTSTART;TZID=UTC:20260720T130000
DTEND;TZID=UTC:20260720T150000
DTSTAMP:20260421T130027
CREATED:20240402T183708Z
LAST-MODIFIED:20240403T143832Z
UID:10007447-1784552400-1784559600@www.thespinneyatpondview.com
SUMMARY:Craft Club
DESCRIPTION:Bring a craft to work on with friends.  This is a casual group meet-up\, and new residents are always welcome to join.  During the chilly days\, sit by the fireplace and catch up with friends while you knit\, crochet \, or just socialize.
URL:https://www.thespinneyatpondview.com/event/craft-club-5/2026-07-20/
LOCATION:The Spinney at Pond View\, 2490 Pond View\, Castleton\, NY\, 12033
END:VEVENT
BEGIN:VEVENT
DTSTART;TZID=UTC:20260727T130000
DTEND;TZID=UTC:20260727T150000
DTSTAMP:20260421T130027
CREATED:20240402T183708Z
LAST-MODIFIED:20240403T143832Z
UID:10007448-1785157200-1785164400@www.thespinneyatpondview.com
SUMMARY:Craft Club
DESCRIPTION:Bring a craft to work on with friends.  This is a casual group meet-up\, and new residents are always welcome to join.  During the chilly days\, sit by the fireplace and catch up with friends while you knit\, crochet \, or just socialize.
URL:https://www.thespinneyatpondview.com/event/craft-club-5/2026-07-27/
LOCATION:The Spinney at Pond View\, 2490 Pond View\, Castleton\, NY\, 12033
END:VEVENT
BEGIN:VEVENT
DTSTART;TZID=UTC:20260803T130000
DTEND;TZID=UTC:20260803T150000
DTSTAMP:20260421T130027
CREATED:20240402T183708Z
LAST-MODIFIED:20240403T143832Z
UID:10007449-1785762000-1785769200@www.thespinneyatpondview.com
SUMMARY:Craft Club
DESCRIPTION:Bring a craft to work on with friends.  This is a casual group meet-up\, and new residents are always welcome to join.  During the chilly days\, sit by the fireplace and catch up with friends while you knit\, crochet \, or just socialize.
URL:https://www.thespinneyatpondview.com/event/craft-club-5/2026-08-03/
LOCATION:The Spinney at Pond View\, 2490 Pond View\, Castleton\, NY\, 12033
END:VEVENT
BEGIN:VEVENT
DTSTART;TZID=UTC:20260810T130000
DTEND;TZID=UTC:20260810T150000
DTSTAMP:20260421T130028
CREATED:20240402T183708Z
LAST-MODIFIED:20240403T143832Z
UID:10007450-1786366800-1786374000@www.thespinneyatpondview.com
SUMMARY:Craft Club
DESCRIPTION:Bring a craft to work on with friends.  This is a casual group meet-up\, and new residents are always welcome to join.  During the chilly days\, sit by the fireplace and catch up with friends while you knit\, crochet \, or just socialize.
URL:https://www.thespinneyatpondview.com/event/craft-club-5/2026-08-10/
LOCATION:The Spinney at Pond View\, 2490 Pond View\, Castleton\, NY\, 12033
END:VEVENT
BEGIN:VEVENT
DTSTART;TZID=UTC:20260817T130000
DTEND;TZID=UTC:20260817T150000
DTSTAMP:20260421T130028
CREATED:20240402T183708Z
LAST-MODIFIED:20240403T143832Z
UID:10007451-1786971600-1786978800@www.thespinneyatpondview.com
SUMMARY:Craft Club
DESCRIPTION:Bring a craft to work on with friends.  This is a casual group meet-up\, and new residents are always welcome to join.  During the chilly days\, sit by the fireplace and catch up with friends while you knit\, crochet \, or just socialize.
URL:https://www.thespinneyatpondview.com/event/craft-club-5/2026-08-17/
LOCATION:The Spinney at Pond View\, 2490 Pond View\, Castleton\, NY\, 12033
END:VEVENT
BEGIN:VEVENT
DTSTART;TZID=UTC:20260824T130000
DTEND;TZID=UTC:20260824T150000
DTSTAMP:20260421T130028
CREATED:20240402T183708Z
LAST-MODIFIED:20240403T143832Z
UID:10007452-1787576400-1787583600@www.thespinneyatpondview.com
SUMMARY:Craft Club
DESCRIPTION:Bring a craft to work on with friends.  This is a casual group meet-up\, and new residents are always welcome to join.  During the chilly days\, sit by the fireplace and catch up with friends while you knit\, crochet \, or just socialize.
URL:https://www.thespinneyatpondview.com/event/craft-club-5/2026-08-24/
LOCATION:The Spinney at Pond View\, 2490 Pond View\, Castleton\, NY\, 12033
END:VEVENT
BEGIN:VEVENT
DTSTART;TZID=UTC:20260831T130000
DTEND;TZID=UTC:20260831T150000
DTSTAMP:20260421T130028
CREATED:20240402T183708Z
LAST-MODIFIED:20240403T143832Z
UID:10007453-1788181200-1788188400@www.thespinneyatpondview.com
SUMMARY:Craft Club
DESCRIPTION:Bring a craft to work on with friends.  This is a casual group meet-up\, and new residents are always welcome to join.  During the chilly days\, sit by the fireplace and catch up with friends while you knit\, crochet \, or just socialize.
URL:https://www.thespinneyatpondview.com/event/craft-club-5/2026-08-31/
LOCATION:The Spinney at Pond View\, 2490 Pond View\, Castleton\, NY\, 12033
END:VEVENT
BEGIN:VEVENT
DTSTART;TZID=UTC:20260907T130000
DTEND;TZID=UTC:20260907T150000
DTSTAMP:20260421T130028
CREATED:20240402T183708Z
LAST-MODIFIED:20240403T143832Z
UID:10007454-1788786000-1788793200@www.thespinneyatpondview.com
SUMMARY:Craft Club
DESCRIPTION:Bring a craft to work on with friends.  This is a casual group meet-up\, and new residents are always welcome to join.  During the chilly days\, sit by the fireplace and catch up with friends while you knit\, crochet \, or just socialize.
URL:https://www.thespinneyatpondview.com/event/craft-club-5/2026-09-07/
LOCATION:The Spinney at Pond View\, 2490 Pond View\, Castleton\, NY\, 12033
END:VEVENT
BEGIN:VEVENT
DTSTART;TZID=UTC:20260914T130000
DTEND;TZID=UTC:20260914T150000
DTSTAMP:20260421T130028
CREATED:20240402T183708Z
LAST-MODIFIED:20240403T143832Z
UID:10007455-1789390800-1789398000@www.thespinneyatpondview.com
SUMMARY:Craft Club
DESCRIPTION:Bring a craft to work on with friends.  This is a casual group meet-up\, and new residents are always welcome to join.  During the chilly days\, sit by the fireplace and catch up with friends while you knit\, crochet \, or just socialize.
URL:https://www.thespinneyatpondview.com/event/craft-club-5/2026-09-14/
LOCATION:The Spinney at Pond View\, 2490 Pond View\, Castleton\, NY\, 12033
END:VEVENT
BEGIN:VEVENT
DTSTART;TZID=UTC:20260921T130000
DTEND;TZID=UTC:20260921T150000
DTSTAMP:20260421T130028
CREATED:20240402T183708Z
LAST-MODIFIED:20240403T143832Z
UID:10007456-1789995600-1790002800@www.thespinneyatpondview.com
SUMMARY:Craft Club
DESCRIPTION:Bring a craft to work on with friends.  This is a casual group meet-up\, and new residents are always welcome to join.  During the chilly days\, sit by the fireplace and catch up with friends while you knit\, crochet \, or just socialize.
URL:https://www.thespinneyatpondview.com/event/craft-club-5/2026-09-21/
LOCATION:The Spinney at Pond View\, 2490 Pond View\, Castleton\, NY\, 12033
END:VEVENT
BEGIN:VEVENT
DTSTART;TZID=UTC:20260928T130000
DTEND;TZID=UTC:20260928T150000
DTSTAMP:20260421T130028
CREATED:20240402T183708Z
LAST-MODIFIED:20240403T143832Z
UID:10007457-1790600400-1790607600@www.thespinneyatpondview.com
SUMMARY:Craft Club
DESCRIPTION:Bring a craft to work on with friends.  This is a casual group meet-up\, and new residents are always welcome to join.  During the chilly days\, sit by the fireplace and catch up with friends while you knit\, crochet \, or just socialize.
URL:https://www.thespinneyatpondview.com/event/craft-club-5/2026-09-28/
LOCATION:The Spinney at Pond View\, 2490 Pond View\, Castleton\, NY\, 12033
END:VEVENT
BEGIN:VEVENT
DTSTART;TZID=UTC:20261005T130000
DTEND;TZID=UTC:20261005T150000
DTSTAMP:20260421T130028
CREATED:20240402T183708Z
LAST-MODIFIED:20240403T143832Z
UID:10007458-1791205200-1791212400@www.thespinneyatpondview.com
SUMMARY:Craft Club
DESCRIPTION:Bring a craft to work on with friends.  This is a casual group meet-up\, and new residents are always welcome to join.  During the chilly days\, sit by the fireplace and catch up with friends while you knit\, crochet \, or just socialize.
URL:https://www.thespinneyatpondview.com/event/craft-club-5/2026-10-05/
LOCATION:The Spinney at Pond View\, 2490 Pond View\, Castleton\, NY\, 12033
END:VEVENT
BEGIN:VEVENT
DTSTART;TZID=UTC:20261012T130000
DTEND;TZID=UTC:20261012T150000
DTSTAMP:20260421T130028
CREATED:20240402T183708Z
LAST-MODIFIED:20240403T143832Z
UID:10007459-1791810000-1791817200@www.thespinneyatpondview.com
SUMMARY:Craft Club
DESCRIPTION:Bring a craft to work on with friends.  This is a casual group meet-up\, and new residents are always welcome to join.  During the chilly days\, sit by the fireplace and catch up with friends while you knit\, crochet \, or just socialize.
URL:https://www.thespinneyatpondview.com/event/craft-club-5/2026-10-12/
LOCATION:The Spinney at Pond View\, 2490 Pond View\, Castleton\, NY\, 12033
END:VEVENT
BEGIN:VEVENT
DTSTART;TZID=UTC:20261019T130000
DTEND;TZID=UTC:20261019T150000
DTSTAMP:20260421T130028
CREATED:20240402T183708Z
LAST-MODIFIED:20240403T143832Z
UID:10007460-1792414800-1792422000@www.thespinneyatpondview.com
SUMMARY:Craft Club
DESCRIPTION:Bring a craft to work on with friends.  This is a casual group meet-up\, and new residents are always welcome to join.  During the chilly days\, sit by the fireplace and catch up with friends while you knit\, crochet \, or just socialize.
URL:https://www.thespinneyatpondview.com/event/craft-club-5/2026-10-19/
LOCATION:The Spinney at Pond View\, 2490 Pond View\, Castleton\, NY\, 12033
END:VEVENT
BEGIN:VEVENT
DTSTART;TZID=UTC:20261026T130000
DTEND;TZID=UTC:20261026T150000
DTSTAMP:20260421T130028
CREATED:20240402T183708Z
LAST-MODIFIED:20240403T143832Z
UID:10007461-1793019600-1793026800@www.thespinneyatpondview.com
SUMMARY:Craft Club
DESCRIPTION:Bring a craft to work on with friends.  This is a casual group meet-up\, and new residents are always welcome to join.  During the chilly days\, sit by the fireplace and catch up with friends while you knit\, crochet \, or just socialize.
URL:https://www.thespinneyatpondview.com/event/craft-club-5/2026-10-26/
LOCATION:The Spinney at Pond View\, 2490 Pond View\, Castleton\, NY\, 12033
END:VEVENT
BEGIN:VEVENT
DTSTART;TZID=UTC:20261102T130000
DTEND;TZID=UTC:20261102T150000
DTSTAMP:20260421T130028
CREATED:20240402T183708Z
LAST-MODIFIED:20240403T143832Z
UID:10007462-1793624400-1793631600@www.thespinneyatpondview.com
SUMMARY:Craft Club
DESCRIPTION:Bring a craft to work on with friends.  This is a casual group meet-up\, and new residents are always welcome to join.  During the chilly days\, sit by the fireplace and catch up with friends while you knit\, crochet \, or just socialize.
URL:https://www.thespinneyatpondview.com/event/craft-club-5/2026-11-02/
LOCATION:The Spinney at Pond View\, 2490 Pond View\, Castleton\, NY\, 12033
END:VEVENT
BEGIN:VEVENT
DTSTART;TZID=UTC:20261109T130000
DTEND;TZID=UTC:20261109T150000
DTSTAMP:20260421T130028
CREATED:20240402T183708Z
LAST-MODIFIED:20240403T143832Z
UID:10007463-1794229200-1794236400@www.thespinneyatpondview.com
SUMMARY:Craft Club
DESCRIPTION:Bring a craft to work on with friends.  This is a casual group meet-up\, and new residents are always welcome to join.  During the chilly days\, sit by the fireplace and catch up with friends while you knit\, crochet \, or just socialize.
URL:https://www.thespinneyatpondview.com/event/craft-club-5/2026-11-09/
LOCATION:The Spinney at Pond View\, 2490 Pond View\, Castleton\, NY\, 12033
END:VEVENT
BEGIN:VEVENT
DTSTART;TZID=UTC:20261116T130000
DTEND;TZID=UTC:20261116T150000
DTSTAMP:20260421T130028
CREATED:20240402T183708Z
LAST-MODIFIED:20240403T143832Z
UID:10007464-1794834000-1794841200@www.thespinneyatpondview.com
SUMMARY:Craft Club
DESCRIPTION:Bring a craft to work on with friends.  This is a casual group meet-up\, and new residents are always welcome to join.  During the chilly days\, sit by the fireplace and catch up with friends while you knit\, crochet \, or just socialize.
URL:https://www.thespinneyatpondview.com/event/craft-club-5/2026-11-16/
LOCATION:The Spinney at Pond View\, 2490 Pond View\, Castleton\, NY\, 12033
END:VEVENT
END:VCALENDAR