BEGIN:VCALENDAR
VERSION:2.0
PRODID:-//The Spinney at Pond View - ECPv6.15.20//NONSGML v1.0//EN
CALSCALE:GREGORIAN
METHOD:PUBLISH
X-ORIGINAL-URL:https://www.thespinneyatpondview.com
X-WR-CALDESC:Events for The Spinney at Pond View
REFRESH-INTERVAL;VALUE=DURATION:PT1H
X-Robots-Tag:noindex
X-PUBLISHED-TTL:PT1H
BEGIN:VTIMEZONE
TZID:UTC
BEGIN:STANDARD
TZOFFSETFROM:+0000
TZOFFSETTO:+0000
TZNAME:UTC
DTSTART:20250101T000000
END:STANDARD
END:VTIMEZONE
BEGIN:VEVENT
DTSTART;TZID=UTC:20260619T121500
DTEND;TZID=UTC:20260619T130000
DTSTAMP:20260420T151837
CREATED:20240402T191717Z
LAST-MODIFIED:20240402T191717Z
UID:10009796-1781871300-1781874000@www.thespinneyatpondview.com
SUMMARY:Spinney Strength
DESCRIPTION:Due to resident interest\, we have added a second strength training class for residents!  The loss of muscle mass as we age can impact our health.  Join us as we head into the weekend\, for a strength training class for all levels and abilities.  Aerobic and strength exercises (standing or in a chair) will be taught by a certified instructor.  $5 per person.
URL:https://www.thespinneyatpondview.com/event/spinney-strength-4/2026-06-19/
LOCATION:The Spinney at Pond View\, 2490 Pond View\, Castleton\, NY\, 12033
CATEGORIES:Wellness
ORGANIZER;CN="The Spinney at Pond View":MAILTO:spvlifestyle@livewellgroup.com
END:VEVENT
BEGIN:VEVENT
DTSTART;TZID=UTC:20260625T183000
DTEND;TZID=UTC:20260625T193000
DTSTAMP:20260420T151837
CREATED:20231127T021000Z
LAST-MODIFIED:20240403T165040Z
UID:10002306-1782412200-1782415800@www.thespinneyatpondview.com
SUMMARY:Bible Study
DESCRIPTION:A Bible study group led by neighbors.  New residents are always welcome to attend.  Bring your key fob for Clubhouse building access.
URL:https://www.thespinneyatpondview.com/event/bible-study-2/2026-06-25/
LOCATION:The Spinney at Pond View\, 2490 Pond View\, Castleton-On-Hudson\, NY\, 12033\, United States
CATEGORIES:Intellectual
ORGANIZER;CN="The Spinney at Pond View":MAILTO:spvlifestyle@livewellgroup.com
END:VEVENT
BEGIN:VEVENT
DTSTART;TZID=UTC:20260626T121500
DTEND;TZID=UTC:20260626T130000
DTSTAMP:20260420T151837
CREATED:20240402T191717Z
LAST-MODIFIED:20240402T191717Z
UID:10009797-1782476100-1782478800@www.thespinneyatpondview.com
SUMMARY:Spinney Strength
DESCRIPTION:Due to resident interest\, we have added a second strength training class for residents!  The loss of muscle mass as we age can impact our health.  Join us as we head into the weekend\, for a strength training class for all levels and abilities.  Aerobic and strength exercises (standing or in a chair) will be taught by a certified instructor.  $5 per person.
URL:https://www.thespinneyatpondview.com/event/spinney-strength-4/2026-06-26/
LOCATION:The Spinney at Pond View\, 2490 Pond View\, Castleton\, NY\, 12033
CATEGORIES:Wellness
ORGANIZER;CN="The Spinney at Pond View":MAILTO:spvlifestyle@livewellgroup.com
END:VEVENT
BEGIN:VEVENT
DTSTART;TZID=UTC:20260703T121500
DTEND;TZID=UTC:20260703T130000
DTSTAMP:20260420T151837
CREATED:20240402T191717Z
LAST-MODIFIED:20240402T191717Z
UID:10009798-1783080900-1783083600@www.thespinneyatpondview.com
SUMMARY:Spinney Strength
DESCRIPTION:Due to resident interest\, we have added a second strength training class for residents!  The loss of muscle mass as we age can impact our health.  Join us as we head into the weekend\, for a strength training class for all levels and abilities.  Aerobic and strength exercises (standing or in a chair) will be taught by a certified instructor.  $5 per person.
URL:https://www.thespinneyatpondview.com/event/spinney-strength-4/2026-07-03/
LOCATION:The Spinney at Pond View\, 2490 Pond View\, Castleton\, NY\, 12033
CATEGORIES:Wellness
ORGANIZER;CN="The Spinney at Pond View":MAILTO:spvlifestyle@livewellgroup.com
END:VEVENT
BEGIN:VEVENT
DTSTART;TZID=UTC:20260709T183000
DTEND;TZID=UTC:20260709T193000
DTSTAMP:20260420T151837
CREATED:20231127T020902Z
LAST-MODIFIED:20240403T164643Z
UID:10002247-1783621800-1783625400@www.thespinneyatpondview.com
SUMMARY:Bible Study
DESCRIPTION:This takes place at the Spinney at Pond View Clubhouse and is open to all.  This Bible study group is led by neighbors and everyone is always welcome to attend.  Bring your key fob for Clubhouse access.
URL:https://www.thespinneyatpondview.com/event/bible-study/2026-07-09/
LOCATION:The Spinney at Pond View\, 2490 Pond View\, Castleton-On-Hudson\, NY\, 12033\, United States
CATEGORIES:Intellectual
ORGANIZER;CN="The Spinney at Pond View":MAILTO:spvlifestyle@livewellgroup.com
END:VEVENT
BEGIN:VEVENT
DTSTART;TZID=UTC:20260710T121500
DTEND;TZID=UTC:20260710T130000
DTSTAMP:20260420T151837
CREATED:20240402T191717Z
LAST-MODIFIED:20240402T191717Z
UID:10009799-1783685700-1783688400@www.thespinneyatpondview.com
SUMMARY:Spinney Strength
DESCRIPTION:Due to resident interest\, we have added a second strength training class for residents!  The loss of muscle mass as we age can impact our health.  Join us as we head into the weekend\, for a strength training class for all levels and abilities.  Aerobic and strength exercises (standing or in a chair) will be taught by a certified instructor.  $5 per person.
URL:https://www.thespinneyatpondview.com/event/spinney-strength-4/2026-07-10/
LOCATION:The Spinney at Pond View\, 2490 Pond View\, Castleton\, NY\, 12033
CATEGORIES:Wellness
ORGANIZER;CN="The Spinney at Pond View":MAILTO:spvlifestyle@livewellgroup.com
END:VEVENT
BEGIN:VEVENT
DTSTART;TZID=UTC:20260717T121500
DTEND;TZID=UTC:20260717T130000
DTSTAMP:20260420T151837
CREATED:20240402T191717Z
LAST-MODIFIED:20240402T191717Z
UID:10009800-1784290500-1784293200@www.thespinneyatpondview.com
SUMMARY:Spinney Strength
DESCRIPTION:Due to resident interest\, we have added a second strength training class for residents!  The loss of muscle mass as we age can impact our health.  Join us as we head into the weekend\, for a strength training class for all levels and abilities.  Aerobic and strength exercises (standing or in a chair) will be taught by a certified instructor.  $5 per person.
URL:https://www.thespinneyatpondview.com/event/spinney-strength-4/2026-07-17/
LOCATION:The Spinney at Pond View\, 2490 Pond View\, Castleton\, NY\, 12033
CATEGORIES:Wellness
ORGANIZER;CN="The Spinney at Pond View":MAILTO:spvlifestyle@livewellgroup.com
END:VEVENT
BEGIN:VEVENT
DTSTART;TZID=UTC:20260723T183000
DTEND;TZID=UTC:20260723T193000
DTSTAMP:20260420T151837
CREATED:20231127T021000Z
LAST-MODIFIED:20240403T165040Z
UID:10002307-1784831400-1784835000@www.thespinneyatpondview.com
SUMMARY:Bible Study
DESCRIPTION:A Bible study group led by neighbors.  New residents are always welcome to attend.  Bring your key fob for Clubhouse building access.
URL:https://www.thespinneyatpondview.com/event/bible-study-2/2026-07-23/
LOCATION:The Spinney at Pond View\, 2490 Pond View\, Castleton-On-Hudson\, NY\, 12033\, United States
CATEGORIES:Intellectual
ORGANIZER;CN="The Spinney at Pond View":MAILTO:spvlifestyle@livewellgroup.com
END:VEVENT
BEGIN:VEVENT
DTSTART;TZID=UTC:20260724T121500
DTEND;TZID=UTC:20260724T130000
DTSTAMP:20260420T151837
CREATED:20240402T191717Z
LAST-MODIFIED:20240402T191717Z
UID:10009801-1784895300-1784898000@www.thespinneyatpondview.com
SUMMARY:Spinney Strength
DESCRIPTION:Due to resident interest\, we have added a second strength training class for residents!  The loss of muscle mass as we age can impact our health.  Join us as we head into the weekend\, for a strength training class for all levels and abilities.  Aerobic and strength exercises (standing or in a chair) will be taught by a certified instructor.  $5 per person.
URL:https://www.thespinneyatpondview.com/event/spinney-strength-4/2026-07-24/
LOCATION:The Spinney at Pond View\, 2490 Pond View\, Castleton\, NY\, 12033
CATEGORIES:Wellness
ORGANIZER;CN="The Spinney at Pond View":MAILTO:spvlifestyle@livewellgroup.com
END:VEVENT
BEGIN:VEVENT
DTSTART;TZID=UTC:20260731T121500
DTEND;TZID=UTC:20260731T130000
DTSTAMP:20260420T151837
CREATED:20240402T191717Z
LAST-MODIFIED:20240402T191717Z
UID:10009802-1785500100-1785502800@www.thespinneyatpondview.com
SUMMARY:Spinney Strength
DESCRIPTION:Due to resident interest\, we have added a second strength training class for residents!  The loss of muscle mass as we age can impact our health.  Join us as we head into the weekend\, for a strength training class for all levels and abilities.  Aerobic and strength exercises (standing or in a chair) will be taught by a certified instructor.  $5 per person.
URL:https://www.thespinneyatpondview.com/event/spinney-strength-4/2026-07-31/
LOCATION:The Spinney at Pond View\, 2490 Pond View\, Castleton\, NY\, 12033
CATEGORIES:Wellness
ORGANIZER;CN="The Spinney at Pond View":MAILTO:spvlifestyle@livewellgroup.com
END:VEVENT
BEGIN:VEVENT
DTSTART;TZID=UTC:20260807T121500
DTEND;TZID=UTC:20260807T130000
DTSTAMP:20260420T151837
CREATED:20240402T191717Z
LAST-MODIFIED:20240402T191717Z
UID:10009803-1786104900-1786107600@www.thespinneyatpondview.com
SUMMARY:Spinney Strength
DESCRIPTION:Due to resident interest\, we have added a second strength training class for residents!  The loss of muscle mass as we age can impact our health.  Join us as we head into the weekend\, for a strength training class for all levels and abilities.  Aerobic and strength exercises (standing or in a chair) will be taught by a certified instructor.  $5 per person.
URL:https://www.thespinneyatpondview.com/event/spinney-strength-4/2026-08-07/
LOCATION:The Spinney at Pond View\, 2490 Pond View\, Castleton\, NY\, 12033
CATEGORIES:Wellness
ORGANIZER;CN="The Spinney at Pond View":MAILTO:spvlifestyle@livewellgroup.com
END:VEVENT
BEGIN:VEVENT
DTSTART;TZID=UTC:20260813T183000
DTEND;TZID=UTC:20260813T193000
DTSTAMP:20260420T151837
CREATED:20231127T020902Z
LAST-MODIFIED:20240403T164643Z
UID:10002248-1786645800-1786649400@www.thespinneyatpondview.com
SUMMARY:Bible Study
DESCRIPTION:This takes place at the Spinney at Pond View Clubhouse and is open to all.  This Bible study group is led by neighbors and everyone is always welcome to attend.  Bring your key fob for Clubhouse access.
URL:https://www.thespinneyatpondview.com/event/bible-study/2026-08-13/
LOCATION:The Spinney at Pond View\, 2490 Pond View\, Castleton-On-Hudson\, NY\, 12033\, United States
CATEGORIES:Intellectual
ORGANIZER;CN="The Spinney at Pond View":MAILTO:spvlifestyle@livewellgroup.com
END:VEVENT
BEGIN:VEVENT
DTSTART;TZID=UTC:20260814T121500
DTEND;TZID=UTC:20260814T130000
DTSTAMP:20260420T151837
CREATED:20240402T191717Z
LAST-MODIFIED:20240402T191717Z
UID:10009804-1786709700-1786712400@www.thespinneyatpondview.com
SUMMARY:Spinney Strength
DESCRIPTION:Due to resident interest\, we have added a second strength training class for residents!  The loss of muscle mass as we age can impact our health.  Join us as we head into the weekend\, for a strength training class for all levels and abilities.  Aerobic and strength exercises (standing or in a chair) will be taught by a certified instructor.  $5 per person.
URL:https://www.thespinneyatpondview.com/event/spinney-strength-4/2026-08-14/
LOCATION:The Spinney at Pond View\, 2490 Pond View\, Castleton\, NY\, 12033
CATEGORIES:Wellness
ORGANIZER;CN="The Spinney at Pond View":MAILTO:spvlifestyle@livewellgroup.com
END:VEVENT
BEGIN:VEVENT
DTSTART;TZID=UTC:20260821T121500
DTEND;TZID=UTC:20260821T130000
DTSTAMP:20260420T151837
CREATED:20240402T191717Z
LAST-MODIFIED:20240402T191717Z
UID:10009805-1787314500-1787317200@www.thespinneyatpondview.com
SUMMARY:Spinney Strength
DESCRIPTION:Due to resident interest\, we have added a second strength training class for residents!  The loss of muscle mass as we age can impact our health.  Join us as we head into the weekend\, for a strength training class for all levels and abilities.  Aerobic and strength exercises (standing or in a chair) will be taught by a certified instructor.  $5 per person.
URL:https://www.thespinneyatpondview.com/event/spinney-strength-4/2026-08-21/
LOCATION:The Spinney at Pond View\, 2490 Pond View\, Castleton\, NY\, 12033
CATEGORIES:Wellness
ORGANIZER;CN="The Spinney at Pond View":MAILTO:spvlifestyle@livewellgroup.com
END:VEVENT
BEGIN:VEVENT
DTSTART;TZID=UTC:20260827T183000
DTEND;TZID=UTC:20260827T193000
DTSTAMP:20260420T151837
CREATED:20231127T021000Z
LAST-MODIFIED:20240403T165040Z
UID:10002308-1787855400-1787859000@www.thespinneyatpondview.com
SUMMARY:Bible Study
DESCRIPTION:A Bible study group led by neighbors.  New residents are always welcome to attend.  Bring your key fob for Clubhouse building access.
URL:https://www.thespinneyatpondview.com/event/bible-study-2/2026-08-27/
LOCATION:The Spinney at Pond View\, 2490 Pond View\, Castleton-On-Hudson\, NY\, 12033\, United States
CATEGORIES:Intellectual
ORGANIZER;CN="The Spinney at Pond View":MAILTO:spvlifestyle@livewellgroup.com
END:VEVENT
BEGIN:VEVENT
DTSTART;TZID=UTC:20260828T121500
DTEND;TZID=UTC:20260828T130000
DTSTAMP:20260420T151837
CREATED:20240402T191717Z
LAST-MODIFIED:20240402T191717Z
UID:10009806-1787919300-1787922000@www.thespinneyatpondview.com
SUMMARY:Spinney Strength
DESCRIPTION:Due to resident interest\, we have added a second strength training class for residents!  The loss of muscle mass as we age can impact our health.  Join us as we head into the weekend\, for a strength training class for all levels and abilities.  Aerobic and strength exercises (standing or in a chair) will be taught by a certified instructor.  $5 per person.
URL:https://www.thespinneyatpondview.com/event/spinney-strength-4/2026-08-28/
LOCATION:The Spinney at Pond View\, 2490 Pond View\, Castleton\, NY\, 12033
CATEGORIES:Wellness
ORGANIZER;CN="The Spinney at Pond View":MAILTO:spvlifestyle@livewellgroup.com
END:VEVENT
BEGIN:VEVENT
DTSTART;TZID=UTC:20260904T121500
DTEND;TZID=UTC:20260904T130000
DTSTAMP:20260420T151837
CREATED:20240402T191717Z
LAST-MODIFIED:20240402T191717Z
UID:10009807-1788524100-1788526800@www.thespinneyatpondview.com
SUMMARY:Spinney Strength
DESCRIPTION:Due to resident interest\, we have added a second strength training class for residents!  The loss of muscle mass as we age can impact our health.  Join us as we head into the weekend\, for a strength training class for all levels and abilities.  Aerobic and strength exercises (standing or in a chair) will be taught by a certified instructor.  $5 per person.
URL:https://www.thespinneyatpondview.com/event/spinney-strength-4/2026-09-04/
LOCATION:The Spinney at Pond View\, 2490 Pond View\, Castleton\, NY\, 12033
CATEGORIES:Wellness
ORGANIZER;CN="The Spinney at Pond View":MAILTO:spvlifestyle@livewellgroup.com
END:VEVENT
BEGIN:VEVENT
DTSTART;TZID=UTC:20260910T183000
DTEND;TZID=UTC:20260910T193000
DTSTAMP:20260420T151837
CREATED:20231127T020902Z
LAST-MODIFIED:20240403T164643Z
UID:10002249-1789065000-1789068600@www.thespinneyatpondview.com
SUMMARY:Bible Study
DESCRIPTION:This takes place at the Spinney at Pond View Clubhouse and is open to all.  This Bible study group is led by neighbors and everyone is always welcome to attend.  Bring your key fob for Clubhouse access.
URL:https://www.thespinneyatpondview.com/event/bible-study/2026-09-10/
LOCATION:The Spinney at Pond View\, 2490 Pond View\, Castleton-On-Hudson\, NY\, 12033\, United States
CATEGORIES:Intellectual
ORGANIZER;CN="The Spinney at Pond View":MAILTO:spvlifestyle@livewellgroup.com
END:VEVENT
BEGIN:VEVENT
DTSTART;TZID=UTC:20260911T121500
DTEND;TZID=UTC:20260911T130000
DTSTAMP:20260420T151837
CREATED:20240402T191717Z
LAST-MODIFIED:20240402T191717Z
UID:10009808-1789128900-1789131600@www.thespinneyatpondview.com
SUMMARY:Spinney Strength
DESCRIPTION:Due to resident interest\, we have added a second strength training class for residents!  The loss of muscle mass as we age can impact our health.  Join us as we head into the weekend\, for a strength training class for all levels and abilities.  Aerobic and strength exercises (standing or in a chair) will be taught by a certified instructor.  $5 per person.
URL:https://www.thespinneyatpondview.com/event/spinney-strength-4/2026-09-11/
LOCATION:The Spinney at Pond View\, 2490 Pond View\, Castleton\, NY\, 12033
CATEGORIES:Wellness
ORGANIZER;CN="The Spinney at Pond View":MAILTO:spvlifestyle@livewellgroup.com
END:VEVENT
BEGIN:VEVENT
DTSTART;TZID=UTC:20260918T121500
DTEND;TZID=UTC:20260918T130000
DTSTAMP:20260420T151838
CREATED:20240402T191717Z
LAST-MODIFIED:20240402T191717Z
UID:10009809-1789733700-1789736400@www.thespinneyatpondview.com
SUMMARY:Spinney Strength
DESCRIPTION:Due to resident interest\, we have added a second strength training class for residents!  The loss of muscle mass as we age can impact our health.  Join us as we head into the weekend\, for a strength training class for all levels and abilities.  Aerobic and strength exercises (standing or in a chair) will be taught by a certified instructor.  $5 per person.
URL:https://www.thespinneyatpondview.com/event/spinney-strength-4/2026-09-18/
LOCATION:The Spinney at Pond View\, 2490 Pond View\, Castleton\, NY\, 12033
CATEGORIES:Wellness
ORGANIZER;CN="The Spinney at Pond View":MAILTO:spvlifestyle@livewellgroup.com
END:VEVENT
BEGIN:VEVENT
DTSTART;TZID=UTC:20260924T183000
DTEND;TZID=UTC:20260924T193000
DTSTAMP:20260420T151838
CREATED:20231127T021000Z
LAST-MODIFIED:20240403T165040Z
UID:10002309-1790274600-1790278200@www.thespinneyatpondview.com
SUMMARY:Bible Study
DESCRIPTION:A Bible study group led by neighbors.  New residents are always welcome to attend.  Bring your key fob for Clubhouse building access.
URL:https://www.thespinneyatpondview.com/event/bible-study-2/2026-09-24/
LOCATION:The Spinney at Pond View\, 2490 Pond View\, Castleton-On-Hudson\, NY\, 12033\, United States
CATEGORIES:Intellectual
ORGANIZER;CN="The Spinney at Pond View":MAILTO:spvlifestyle@livewellgroup.com
END:VEVENT
BEGIN:VEVENT
DTSTART;TZID=UTC:20260925T121500
DTEND;TZID=UTC:20260925T130000
DTSTAMP:20260420T151838
CREATED:20240402T191717Z
LAST-MODIFIED:20240402T191717Z
UID:10009810-1790338500-1790341200@www.thespinneyatpondview.com
SUMMARY:Spinney Strength
DESCRIPTION:Due to resident interest\, we have added a second strength training class for residents!  The loss of muscle mass as we age can impact our health.  Join us as we head into the weekend\, for a strength training class for all levels and abilities.  Aerobic and strength exercises (standing or in a chair) will be taught by a certified instructor.  $5 per person.
URL:https://www.thespinneyatpondview.com/event/spinney-strength-4/2026-09-25/
LOCATION:The Spinney at Pond View\, 2490 Pond View\, Castleton\, NY\, 12033
CATEGORIES:Wellness
ORGANIZER;CN="The Spinney at Pond View":MAILTO:spvlifestyle@livewellgroup.com
END:VEVENT
BEGIN:VEVENT
DTSTART;TZID=UTC:20261002T121500
DTEND;TZID=UTC:20261002T130000
DTSTAMP:20260420T151838
CREATED:20240402T191717Z
LAST-MODIFIED:20240402T191717Z
UID:10009811-1790943300-1790946000@www.thespinneyatpondview.com
SUMMARY:Spinney Strength
DESCRIPTION:Due to resident interest\, we have added a second strength training class for residents!  The loss of muscle mass as we age can impact our health.  Join us as we head into the weekend\, for a strength training class for all levels and abilities.  Aerobic and strength exercises (standing or in a chair) will be taught by a certified instructor.  $5 per person.
URL:https://www.thespinneyatpondview.com/event/spinney-strength-4/2026-10-02/
LOCATION:The Spinney at Pond View\, 2490 Pond View\, Castleton\, NY\, 12033
CATEGORIES:Wellness
ORGANIZER;CN="The Spinney at Pond View":MAILTO:spvlifestyle@livewellgroup.com
END:VEVENT
BEGIN:VEVENT
DTSTART;TZID=UTC:20261008T183000
DTEND;TZID=UTC:20261008T193000
DTSTAMP:20260420T151838
CREATED:20231127T020902Z
LAST-MODIFIED:20240403T164643Z
UID:10002250-1791484200-1791487800@www.thespinneyatpondview.com
SUMMARY:Bible Study
DESCRIPTION:This takes place at the Spinney at Pond View Clubhouse and is open to all.  This Bible study group is led by neighbors and everyone is always welcome to attend.  Bring your key fob for Clubhouse access.
URL:https://www.thespinneyatpondview.com/event/bible-study/2026-10-08/
LOCATION:The Spinney at Pond View\, 2490 Pond View\, Castleton-On-Hudson\, NY\, 12033\, United States
CATEGORIES:Intellectual
ORGANIZER;CN="The Spinney at Pond View":MAILTO:spvlifestyle@livewellgroup.com
END:VEVENT
BEGIN:VEVENT
DTSTART;TZID=UTC:20261009T121500
DTEND;TZID=UTC:20261009T130000
DTSTAMP:20260420T151838
CREATED:20240402T191717Z
LAST-MODIFIED:20240402T191717Z
UID:10009812-1791548100-1791550800@www.thespinneyatpondview.com
SUMMARY:Spinney Strength
DESCRIPTION:Due to resident interest\, we have added a second strength training class for residents!  The loss of muscle mass as we age can impact our health.  Join us as we head into the weekend\, for a strength training class for all levels and abilities.  Aerobic and strength exercises (standing or in a chair) will be taught by a certified instructor.  $5 per person.
URL:https://www.thespinneyatpondview.com/event/spinney-strength-4/2026-10-09/
LOCATION:The Spinney at Pond View\, 2490 Pond View\, Castleton\, NY\, 12033
CATEGORIES:Wellness
ORGANIZER;CN="The Spinney at Pond View":MAILTO:spvlifestyle@livewellgroup.com
END:VEVENT
BEGIN:VEVENT
DTSTART;TZID=UTC:20261016T121500
DTEND;TZID=UTC:20261016T130000
DTSTAMP:20260420T151838
CREATED:20240402T191717Z
LAST-MODIFIED:20240402T191717Z
UID:10009813-1792152900-1792155600@www.thespinneyatpondview.com
SUMMARY:Spinney Strength
DESCRIPTION:Due to resident interest\, we have added a second strength training class for residents!  The loss of muscle mass as we age can impact our health.  Join us as we head into the weekend\, for a strength training class for all levels and abilities.  Aerobic and strength exercises (standing or in a chair) will be taught by a certified instructor.  $5 per person.
URL:https://www.thespinneyatpondview.com/event/spinney-strength-4/2026-10-16/
LOCATION:The Spinney at Pond View\, 2490 Pond View\, Castleton\, NY\, 12033
CATEGORIES:Wellness
ORGANIZER;CN="The Spinney at Pond View":MAILTO:spvlifestyle@livewellgroup.com
END:VEVENT
BEGIN:VEVENT
DTSTART;TZID=UTC:20261022T183000
DTEND;TZID=UTC:20261022T193000
DTSTAMP:20260420T151838
CREATED:20231127T021000Z
LAST-MODIFIED:20240403T165040Z
UID:10002310-1792693800-1792697400@www.thespinneyatpondview.com
SUMMARY:Bible Study
DESCRIPTION:A Bible study group led by neighbors.  New residents are always welcome to attend.  Bring your key fob for Clubhouse building access.
URL:https://www.thespinneyatpondview.com/event/bible-study-2/2026-10-22/
LOCATION:The Spinney at Pond View\, 2490 Pond View\, Castleton-On-Hudson\, NY\, 12033\, United States
CATEGORIES:Intellectual
ORGANIZER;CN="The Spinney at Pond View":MAILTO:spvlifestyle@livewellgroup.com
END:VEVENT
BEGIN:VEVENT
DTSTART;TZID=UTC:20261023T121500
DTEND;TZID=UTC:20261023T130000
DTSTAMP:20260420T151838
CREATED:20240402T191717Z
LAST-MODIFIED:20240402T191717Z
UID:10009814-1792757700-1792760400@www.thespinneyatpondview.com
SUMMARY:Spinney Strength
DESCRIPTION:Due to resident interest\, we have added a second strength training class for residents!  The loss of muscle mass as we age can impact our health.  Join us as we head into the weekend\, for a strength training class for all levels and abilities.  Aerobic and strength exercises (standing or in a chair) will be taught by a certified instructor.  $5 per person.
URL:https://www.thespinneyatpondview.com/event/spinney-strength-4/2026-10-23/
LOCATION:The Spinney at Pond View\, 2490 Pond View\, Castleton\, NY\, 12033
CATEGORIES:Wellness
ORGANIZER;CN="The Spinney at Pond View":MAILTO:spvlifestyle@livewellgroup.com
END:VEVENT
BEGIN:VEVENT
DTSTART;TZID=UTC:20261030T121500
DTEND;TZID=UTC:20261030T130000
DTSTAMP:20260420T151838
CREATED:20240402T191717Z
LAST-MODIFIED:20240402T191717Z
UID:10009815-1793362500-1793365200@www.thespinneyatpondview.com
SUMMARY:Spinney Strength
DESCRIPTION:Due to resident interest\, we have added a second strength training class for residents!  The loss of muscle mass as we age can impact our health.  Join us as we head into the weekend\, for a strength training class for all levels and abilities.  Aerobic and strength exercises (standing or in a chair) will be taught by a certified instructor.  $5 per person.
URL:https://www.thespinneyatpondview.com/event/spinney-strength-4/2026-10-30/
LOCATION:The Spinney at Pond View\, 2490 Pond View\, Castleton\, NY\, 12033
CATEGORIES:Wellness
ORGANIZER;CN="The Spinney at Pond View":MAILTO:spvlifestyle@livewellgroup.com
END:VEVENT
BEGIN:VEVENT
DTSTART;TZID=UTC:20261106T121500
DTEND;TZID=UTC:20261106T130000
DTSTAMP:20260420T151838
CREATED:20240402T191717Z
LAST-MODIFIED:20240402T191717Z
UID:10009816-1793967300-1793970000@www.thespinneyatpondview.com
SUMMARY:Spinney Strength
DESCRIPTION:Due to resident interest\, we have added a second strength training class for residents!  The loss of muscle mass as we age can impact our health.  Join us as we head into the weekend\, for a strength training class for all levels and abilities.  Aerobic and strength exercises (standing or in a chair) will be taught by a certified instructor.  $5 per person.
URL:https://www.thespinneyatpondview.com/event/spinney-strength-4/2026-11-06/
LOCATION:The Spinney at Pond View\, 2490 Pond View\, Castleton\, NY\, 12033
CATEGORIES:Wellness
ORGANIZER;CN="The Spinney at Pond View":MAILTO:spvlifestyle@livewellgroup.com
END:VEVENT
END:VCALENDAR