BEGIN:VCALENDAR
VERSION:2.0
PRODID:-//The Spinney at Pond View - ECPv6.15.20//NONSGML v1.0//EN
CALSCALE:GREGORIAN
METHOD:PUBLISH
X-WR-CALNAME:The Spinney at Pond View
X-ORIGINAL-URL:https://www.thespinneyatpondview.com
X-WR-CALDESC:Events for The Spinney at Pond View
REFRESH-INTERVAL;VALUE=DURATION:PT1H
X-Robots-Tag:noindex
X-PUBLISHED-TTL:PT1H
BEGIN:VTIMEZONE
TZID:UTC
BEGIN:STANDARD
TZOFFSETFROM:+0000
TZOFFSETTO:+0000
TZNAME:UTC
DTSTART:20240101T000000
END:STANDARD
END:VTIMEZONE
BEGIN:VEVENT
DTSTART;TZID=UTC:20260124T090000
DTEND;TZID=UTC:20260124T140000
DTSTAMP:20260423T165431
CREATED:20250326T135407Z
LAST-MODIFIED:20250326T135648Z
UID:10013314-1769245200-1769263200@www.thespinneyatpondview.com
SUMMARY:Troy Farmers Market
DESCRIPTION:
URL:https://www.thespinneyatpondview.com/event/troy-farmers-market-3/2026-01-24/
LOCATION:Downtown Troy\, Troy\, NY\, United States
CATEGORIES:Community
END:VEVENT
BEGIN:VEVENT
DTSTART;TZID=UTC:20260117T090000
DTEND;TZID=UTC:20260117T140000
DTSTAMP:20260423T165431
CREATED:20250326T135407Z
LAST-MODIFIED:20250326T135648Z
UID:10013313-1768640400-1768658400@www.thespinneyatpondview.com
SUMMARY:Troy Farmers Market
DESCRIPTION:
URL:https://www.thespinneyatpondview.com/event/troy-farmers-market-3/2026-01-17/
LOCATION:Downtown Troy\, Troy\, NY\, United States
CATEGORIES:Community
END:VEVENT
BEGIN:VEVENT
DTSTART;TZID=UTC:20260110T090000
DTEND;TZID=UTC:20260110T140000
DTSTAMP:20260423T165431
CREATED:20250326T135407Z
LAST-MODIFIED:20250326T135648Z
UID:10013312-1768035600-1768053600@www.thespinneyatpondview.com
SUMMARY:Troy Farmers Market
DESCRIPTION:
URL:https://www.thespinneyatpondview.com/event/troy-farmers-market-3/2026-01-10/
LOCATION:Downtown Troy\, Troy\, NY\, United States
CATEGORIES:Community
END:VEVENT
BEGIN:VEVENT
DTSTART;TZID=UTC:20260103T090000
DTEND;TZID=UTC:20260103T140000
DTSTAMP:20260423T165431
CREATED:20250326T135407Z
LAST-MODIFIED:20250326T135648Z
UID:10013311-1767430800-1767448800@www.thespinneyatpondview.com
SUMMARY:Troy Farmers Market
DESCRIPTION:
URL:https://www.thespinneyatpondview.com/event/troy-farmers-market-3/2026-01-03/
LOCATION:Downtown Troy\, Troy\, NY\, United States
CATEGORIES:Community
END:VEVENT
BEGIN:VEVENT
DTSTART;TZID=UTC:20251227T090000
DTEND;TZID=UTC:20251227T140000
DTSTAMP:20260423T165431
CREATED:20250326T135407Z
LAST-MODIFIED:20250326T135648Z
UID:10013310-1766826000-1766844000@www.thespinneyatpondview.com
SUMMARY:Troy Farmers Market
DESCRIPTION:
URL:https://www.thespinneyatpondview.com/event/troy-farmers-market-3/2025-12-27/
LOCATION:Downtown Troy\, Troy\, NY\, United States
CATEGORIES:Community
END:VEVENT
BEGIN:VEVENT
DTSTART;TZID=UTC:20251220T090000
DTEND;TZID=UTC:20251220T140000
DTSTAMP:20260423T165431
CREATED:20250326T135407Z
LAST-MODIFIED:20250326T135648Z
UID:10013309-1766221200-1766239200@www.thespinneyatpondview.com
SUMMARY:Troy Farmers Market
DESCRIPTION:
URL:https://www.thespinneyatpondview.com/event/troy-farmers-market-3/2025-12-20/
LOCATION:Downtown Troy\, Troy\, NY\, United States
CATEGORIES:Community
END:VEVENT
BEGIN:VEVENT
DTSTART;TZID=UTC:20251213T090000
DTEND;TZID=UTC:20251213T140000
DTSTAMP:20260423T165431
CREATED:20250326T135407Z
LAST-MODIFIED:20250326T135648Z
UID:10013308-1765616400-1765634400@www.thespinneyatpondview.com
SUMMARY:Troy Farmers Market
DESCRIPTION:
URL:https://www.thespinneyatpondview.com/event/troy-farmers-market-3/2025-12-13/
LOCATION:Downtown Troy\, Troy\, NY\, United States
CATEGORIES:Community
END:VEVENT
BEGIN:VEVENT
DTSTART;TZID=UTC:20251206T090000
DTEND;TZID=UTC:20251206T140000
DTSTAMP:20260423T165431
CREATED:20250326T135407Z
LAST-MODIFIED:20250326T135648Z
UID:10013307-1765011600-1765029600@www.thespinneyatpondview.com
SUMMARY:Troy Farmers Market
DESCRIPTION:
URL:https://www.thespinneyatpondview.com/event/troy-farmers-market-3/2025-12-06/
LOCATION:Downtown Troy\, Troy\, NY\, United States
CATEGORIES:Community
END:VEVENT
BEGIN:VEVENT
DTSTART;TZID=UTC:20251129T090000
DTEND;TZID=UTC:20251129T140000
DTSTAMP:20260423T165431
CREATED:20250326T135407Z
LAST-MODIFIED:20250326T135648Z
UID:10013306-1764406800-1764424800@www.thespinneyatpondview.com
SUMMARY:Troy Farmers Market
DESCRIPTION:
URL:https://www.thespinneyatpondview.com/event/troy-farmers-market-3/2025-11-29/
LOCATION:Downtown Troy\, Troy\, NY\, United States
CATEGORIES:Community
END:VEVENT
BEGIN:VEVENT
DTSTART;TZID=UTC:20251122T090000
DTEND;TZID=UTC:20251122T140000
DTSTAMP:20260423T165431
CREATED:20250326T135407Z
LAST-MODIFIED:20250326T135648Z
UID:10013305-1763802000-1763820000@www.thespinneyatpondview.com
SUMMARY:Troy Farmers Market
DESCRIPTION:
URL:https://www.thespinneyatpondview.com/event/troy-farmers-market-3/2025-11-22/
LOCATION:Downtown Troy\, Troy\, NY\, United States
CATEGORIES:Community
END:VEVENT
BEGIN:VEVENT
DTSTART;TZID=UTC:20251115T090000
DTEND;TZID=UTC:20251115T140000
DTSTAMP:20260423T165431
CREATED:20250326T135407Z
LAST-MODIFIED:20250326T135648Z
UID:10013304-1763197200-1763215200@www.thespinneyatpondview.com
SUMMARY:Troy Farmers Market
DESCRIPTION:
URL:https://www.thespinneyatpondview.com/event/troy-farmers-market-3/2025-11-15/
LOCATION:Downtown Troy\, Troy\, NY\, United States
CATEGORIES:Community
END:VEVENT
BEGIN:VEVENT
DTSTART;TZID=UTC:20251108T090000
DTEND;TZID=UTC:20251108T140000
DTSTAMP:20260423T165431
CREATED:20250326T135407Z
LAST-MODIFIED:20250326T135648Z
UID:10013303-1762592400-1762610400@www.thespinneyatpondview.com
SUMMARY:Troy Farmers Market
DESCRIPTION:
URL:https://www.thespinneyatpondview.com/event/troy-farmers-market-3/2025-11-08/
LOCATION:Downtown Troy\, Troy\, NY\, United States
CATEGORIES:Community
END:VEVENT
BEGIN:VEVENT
DTSTART;TZID=UTC:20251101T090000
DTEND;TZID=UTC:20251101T140000
DTSTAMP:20260423T165431
CREATED:20250326T135407Z
LAST-MODIFIED:20250326T135648Z
UID:10013302-1761987600-1762005600@www.thespinneyatpondview.com
SUMMARY:Troy Farmers Market
DESCRIPTION:
URL:https://www.thespinneyatpondview.com/event/troy-farmers-market-3/2025-11-01/
LOCATION:Downtown Troy\, Troy\, NY\, United States
CATEGORIES:Community
END:VEVENT
BEGIN:VEVENT
DTSTART;TZID=UTC:20251025T090000
DTEND;TZID=UTC:20251025T140000
DTSTAMP:20260423T165431
CREATED:20250326T135407Z
LAST-MODIFIED:20250326T135648Z
UID:10013301-1761382800-1761400800@www.thespinneyatpondview.com
SUMMARY:Troy Farmers Market
DESCRIPTION:
URL:https://www.thespinneyatpondview.com/event/troy-farmers-market-3/2025-10-25/
LOCATION:Downtown Troy\, Troy\, NY\, United States
CATEGORIES:Community
END:VEVENT
BEGIN:VEVENT
DTSTART;TZID=UTC:20251018T090000
DTEND;TZID=UTC:20251018T140000
DTSTAMP:20260423T165431
CREATED:20250326T135407Z
LAST-MODIFIED:20250326T135648Z
UID:10013300-1760778000-1760796000@www.thespinneyatpondview.com
SUMMARY:Troy Farmers Market
DESCRIPTION:
URL:https://www.thespinneyatpondview.com/event/troy-farmers-market-3/2025-10-18/
LOCATION:Downtown Troy\, Troy\, NY\, United States
CATEGORIES:Community
END:VEVENT
BEGIN:VEVENT
DTSTART;TZID=UTC:20251011T090000
DTEND;TZID=UTC:20251011T140000
DTSTAMP:20260423T165431
CREATED:20250326T135407Z
LAST-MODIFIED:20250326T135648Z
UID:10013299-1760173200-1760191200@www.thespinneyatpondview.com
SUMMARY:Troy Farmers Market
DESCRIPTION:
URL:https://www.thespinneyatpondview.com/event/troy-farmers-market-3/2025-10-11/
LOCATION:Downtown Troy\, Troy\, NY\, United States
CATEGORIES:Community
END:VEVENT
BEGIN:VEVENT
DTSTART;TZID=UTC:20251004T090000
DTEND;TZID=UTC:20251004T140000
DTSTAMP:20260423T165431
CREATED:20250326T135407Z
LAST-MODIFIED:20250326T135648Z
UID:10013298-1759568400-1759586400@www.thespinneyatpondview.com
SUMMARY:Troy Farmers Market
DESCRIPTION:
URL:https://www.thespinneyatpondview.com/event/troy-farmers-market-3/2025-10-04/
LOCATION:Downtown Troy\, Troy\, NY\, United States
CATEGORIES:Community
END:VEVENT
BEGIN:VEVENT
DTSTART;TZID=UTC:20250927T090000
DTEND;TZID=UTC:20250927T140000
DTSTAMP:20260423T165431
CREATED:20250326T135407Z
LAST-MODIFIED:20250326T135648Z
UID:10013297-1758963600-1758981600@www.thespinneyatpondview.com
SUMMARY:Troy Farmers Market
DESCRIPTION:
URL:https://www.thespinneyatpondview.com/event/troy-farmers-market-3/2025-09-27/
LOCATION:Downtown Troy\, Troy\, NY\, United States
CATEGORIES:Community
END:VEVENT
BEGIN:VEVENT
DTSTART;TZID=UTC:20250920T090000
DTEND;TZID=UTC:20250920T140000
DTSTAMP:20260423T165431
CREATED:20250326T135407Z
LAST-MODIFIED:20250326T135648Z
UID:10013296-1758358800-1758376800@www.thespinneyatpondview.com
SUMMARY:Troy Farmers Market
DESCRIPTION:
URL:https://www.thespinneyatpondview.com/event/troy-farmers-market-3/2025-09-20/
LOCATION:Downtown Troy\, Troy\, NY\, United States
CATEGORIES:Community
END:VEVENT
BEGIN:VEVENT
DTSTART;TZID=UTC:20250913T090000
DTEND;TZID=UTC:20250913T140000
DTSTAMP:20260423T165431
CREATED:20250326T135407Z
LAST-MODIFIED:20250326T135648Z
UID:10013295-1757754000-1757772000@www.thespinneyatpondview.com
SUMMARY:Troy Farmers Market
DESCRIPTION:
URL:https://www.thespinneyatpondview.com/event/troy-farmers-market-3/2025-09-13/
LOCATION:Downtown Troy\, Troy\, NY\, United States
CATEGORIES:Community
END:VEVENT
BEGIN:VEVENT
DTSTART;TZID=UTC:20250906T090000
DTEND;TZID=UTC:20250906T140000
DTSTAMP:20260423T165431
CREATED:20250326T135407Z
LAST-MODIFIED:20250326T135648Z
UID:10013294-1757149200-1757167200@www.thespinneyatpondview.com
SUMMARY:Troy Farmers Market
DESCRIPTION:
URL:https://www.thespinneyatpondview.com/event/troy-farmers-market-3/2025-09-06/
LOCATION:Downtown Troy\, Troy\, NY\, United States
CATEGORIES:Community
END:VEVENT
BEGIN:VEVENT
DTSTART;TZID=UTC:20250830T090000
DTEND;TZID=UTC:20250830T140000
DTSTAMP:20260423T165431
CREATED:20250326T135407Z
LAST-MODIFIED:20250326T135648Z
UID:10013293-1756544400-1756562400@www.thespinneyatpondview.com
SUMMARY:Troy Farmers Market
DESCRIPTION:
URL:https://www.thespinneyatpondview.com/event/troy-farmers-market-3/2025-08-30/
LOCATION:Downtown Troy\, Troy\, NY\, United States
CATEGORIES:Community
END:VEVENT
BEGIN:VEVENT
DTSTART;TZID=UTC:20250823T090000
DTEND;TZID=UTC:20250823T140000
DTSTAMP:20260423T165431
CREATED:20250326T135407Z
LAST-MODIFIED:20250326T135648Z
UID:10013292-1755939600-1755957600@www.thespinneyatpondview.com
SUMMARY:Troy Farmers Market
DESCRIPTION:
URL:https://www.thespinneyatpondview.com/event/troy-farmers-market-3/2025-08-23/
LOCATION:Downtown Troy\, Troy\, NY\, United States
CATEGORIES:Community
END:VEVENT
BEGIN:VEVENT
DTSTART;TZID=UTC:20250816T090000
DTEND;TZID=UTC:20250816T140000
DTSTAMP:20260423T165431
CREATED:20250326T135407Z
LAST-MODIFIED:20250326T135648Z
UID:10013291-1755334800-1755352800@www.thespinneyatpondview.com
SUMMARY:Troy Farmers Market
DESCRIPTION:
URL:https://www.thespinneyatpondview.com/event/troy-farmers-market-3/2025-08-16/
LOCATION:Downtown Troy\, Troy\, NY\, United States
CATEGORIES:Community
END:VEVENT
BEGIN:VEVENT
DTSTART;TZID=UTC:20250809T090000
DTEND;TZID=UTC:20250809T140000
DTSTAMP:20260423T165431
CREATED:20250326T135407Z
LAST-MODIFIED:20250326T135648Z
UID:10013290-1754730000-1754748000@www.thespinneyatpondview.com
SUMMARY:Troy Farmers Market
DESCRIPTION:
URL:https://www.thespinneyatpondview.com/event/troy-farmers-market-3/2025-08-09/
LOCATION:Downtown Troy\, Troy\, NY\, United States
CATEGORIES:Community
END:VEVENT
BEGIN:VEVENT
DTSTART;TZID=UTC:20250802T090000
DTEND;TZID=UTC:20250802T140000
DTSTAMP:20260423T165431
CREATED:20250326T135407Z
LAST-MODIFIED:20250326T135648Z
UID:10013289-1754125200-1754143200@www.thespinneyatpondview.com
SUMMARY:Troy Farmers Market
DESCRIPTION:
URL:https://www.thespinneyatpondview.com/event/troy-farmers-market-3/2025-08-02/
LOCATION:Downtown Troy\, Troy\, NY\, United States
CATEGORIES:Community
END:VEVENT
BEGIN:VEVENT
DTSTART;TZID=UTC:20250726T090000
DTEND;TZID=UTC:20250726T140000
DTSTAMP:20260423T165431
CREATED:20250326T135407Z
LAST-MODIFIED:20250326T135648Z
UID:10013288-1753520400-1753538400@www.thespinneyatpondview.com
SUMMARY:Troy Farmers Market
DESCRIPTION:
URL:https://www.thespinneyatpondview.com/event/troy-farmers-market-3/2025-07-26/
LOCATION:Downtown Troy\, Troy\, NY\, United States
CATEGORIES:Community
END:VEVENT
BEGIN:VEVENT
DTSTART;TZID=UTC:20250719T090000
DTEND;TZID=UTC:20250719T140000
DTSTAMP:20260423T165431
CREATED:20250326T135407Z
LAST-MODIFIED:20250326T135648Z
UID:10013287-1752915600-1752933600@www.thespinneyatpondview.com
SUMMARY:Troy Farmers Market
DESCRIPTION:
URL:https://www.thespinneyatpondview.com/event/troy-farmers-market-3/2025-07-19/
LOCATION:Downtown Troy\, Troy\, NY\, United States
CATEGORIES:Community
END:VEVENT
BEGIN:VEVENT
DTSTART;TZID=UTC:20250712T090000
DTEND;TZID=UTC:20250712T140000
DTSTAMP:20260423T165431
CREATED:20250326T135407Z
LAST-MODIFIED:20250326T135648Z
UID:10013286-1752310800-1752328800@www.thespinneyatpondview.com
SUMMARY:Troy Farmers Market
DESCRIPTION:
URL:https://www.thespinneyatpondview.com/event/troy-farmers-market-3/2025-07-12/
LOCATION:Downtown Troy\, Troy\, NY\, United States
CATEGORIES:Community
END:VEVENT
BEGIN:VEVENT
DTSTART;TZID=UTC:20250705T090000
DTEND;TZID=UTC:20250705T140000
DTSTAMP:20260423T165431
CREATED:20250326T135407Z
LAST-MODIFIED:20250326T135648Z
UID:10013285-1751706000-1751724000@www.thespinneyatpondview.com
SUMMARY:Troy Farmers Market
DESCRIPTION:
URL:https://www.thespinneyatpondview.com/event/troy-farmers-market-3/2025-07-05/
LOCATION:Downtown Troy\, Troy\, NY\, United States
CATEGORIES:Community
END:VEVENT
END:VCALENDAR